{"text_format":"1","workbook":"xlsx","n_sheets":6,"sheets":["INGRESO DE DATOS","BUPA MAX","Advantage (LA)","Comparacion de Beneficios","Tablas","Region"],"not_rendered":{"charts":0,"images":6,"macros":1,"external_links":0,"defined_names":1,"comments":1,"pivot_tables":0},"unopened":[],"bounds":{"document_bytes":16777216,"sheet_cells":100000,"rows_first":2000,"rows_last":500,"rows_between":2000,"halvings":0,"cell_chars":16384,"cell_head_chars":4096},"cells_cut":0,"cells_raw":0,"read":"whole","date_system":"1900"}

{"sheet":"INGRESO DE DATOS","index":0,"n_rows":63,"n_cols":23,"rows_kept":63,"cut":false,"hidden":false,"merged":[[62,14,62,15],[61,14,61,15],[47,14,47,15],[29,14,29,17],[36,14,36,19],[55,14,55,15],[56,14,56,15],[58,14,58,15],[59,14,59,15],[3,14,3,16],[43,2,43,11],[35,2,35,11],[35,0,35,1],[37,0,37,1],[39,0,39,1],[16,14,16,19],[31,14,31,19],[39,14,39,19],[4,18,11,18],[43,0,43,1],[7,0,7,9],[37,4,37,5],[4,21,19,21],[46,0,46,2],[49,14,49,15],[50,14,50,15],[53,14,53,15],[52,14,52,15]]}
[]
[null,null,null,null,null,null,null,null," "," "," ",null,null,null,"24 years",false]
[]
[null,null,null,null,null,null,null,null,null,null,null,null,null,null,"Descuento 24 años (por edad)"]
[null,null,null,null,null,null,null,null,null,null,null,null,null,null,"age","Discount (%)","Parameter",null,"Type","Nuevo Negocio",null,"Región","Argentina"]
[null,null,null,null,null,null,null,null," "," "," "," ",null,null,24,35,{"$f":"1-P6/100","v":0.65},null,null,"Renovación",null,null,"Belize"]
[null,null,null,null,null,null,null,null,null,null,null,null,null,null,25,30,{"$f":"1-P7/100","v":0.7},null,null,null,null,null,"El Caribe"]
[null,null,null,null,null,null,null,null,null,null,null,null,null,null,26,25,0.75,null,null,null,null,null,"Chile"]
[null,null,null,null,null,null,null,null,null,null,null,null,null,null,27,20,0.8,null,null,null,null,null,"Colombia"]
[null,null,null,null,null,null,null,null,null,null,null,null,null,null,28,15,0.85,null,null,null,null,null,"Costa Rica"]
[null,null,null,null,null,null,null,null,null,null,null,null,null,null,29,6,0.94,null,null,null,null,null,"El Salvador"]
[null,null,null,null,null,null,null,null,null,null,null,null,null,null,"All ages",0,1,null,null,null,null,null,"Guyana"]
[null,null,null,null,null,null,null,null,null,null,null,null,null,null,null,null,null,null,"Type selected",2,null,null,"Haití"]
[null,null,null,null,null,null,null,null,null,null,null,null,null,null,null,null,null,null,null,null,null,null,"Honduras"]
[null,null,null,null,null,null,null,null,null,null,null,null,null,null,null,null,null,null,null,null,null,null,"Nicaragua"]
[null,null,null,null,null,null,null,null,null,null,null,null,null,null,null,null,null,null,null,null,null,null,"Paraguay"]
[null,null,null,null,null,null,null,null,null,null,null,null,null,null,null,null,null,null,null,null,null,null,"Perú"]
[null,null,null,null,null,null,null,null,null,null,null,null,null,null,null,null,null,null,null,null,null,null,"Surinam"]
[null,null,null,null,null,null,null,null,null,null,null,null,null,null,"Descuento de 24 años:",{"$f":"IF(P2,_xlfn.SWITCH(C40,O6,Q6,O7,Q7,O8,Q8,O9,Q9,O10,Q10,O11,Q11,Q12),Q12)","v":1},null,null,null,null,null,null,"Uruguay"]
[null,null,null,null,null,null,null,null,null,null,null,null,null,null,null,null,null,null,null,null,null,null,"Venezuela"]
[null,null,null,null,null,null,null,null,null,null,null,null,null,null,null,null,null,null,null,null,null,"Selección",6]
[null,null,null,null,null,null,null,null,null,null,null,null,null,null,null,null,null,null,null,null,null,"Región",{"$f":"IF(W21=1,\"2\",IF(W21=2,3,IF(W21=3,4,IF(W21=4,5,IF(W21=4,5,IF(W21=5,6,IF(W21=6,8,IF(W21=7,9,IF(W21=8,\"Bolivia\")))))))))","v":8}]
[]
[null,null,null,null,null,null,null,null,null,null,null,null,null,null,"Descuento por variante de coaseguro","N/A"]
[]
[]
[]
[]
[]
[null,null,null,null,null,null,null,null,null,null,null,null,null,null,"Descuento si es nuevo negocio (ENTRADA MANUAL)"]
[]
[null,null,null,null,null,null,null,null,null,null,null,null,null,null,"New business discount"]
[null,null,null,null,null,null,null,null,null,null,null,null,null,null,"Critical","Diamond","Complete","Advantage","Secure","Essential"]
[null,null,null,null,null,null,null,null,null,null,null,null,null,null,0,0,0,0,0,0]
[]
["Nombre del Asegurado principal:",null,"John Doe"]
[null,null,null,null,null,null,null,null,null,null,null,null,null,null,"Descuento combinado 24 años + Nuevo Negocio o Roneovaciones"]
["Número de adultos en la póliza: ",null,2,null,"Número de hijos en la póliza:",null,4]
[]
[" Edad del titular:",null,24,null,"Edad de cónyuge:",null,55,null,null,null,null,null,null,null,"New business discount"]
[null,null,null,null,null,null,null,null,null,null,null,null,null,null,"Critical","Diamond","Complete","Advantage","Secure","Essential"]
[null,null,null,null,null,null,null,null,null,null,null,null,null,null,{"$f":"1*$P$19","v":1},{"$f":"IF($T$13=1,IF($W$22=\"PERU2020\", (1-O51)*$P$19,(1-P34)*$P$19),1*$P$19)","v":1},{"$f":"IF($T$13=1,IF($W$22=\"PERU2020\", (1-O54)*$P$19,(1-Q34)*$P$19),1*$P$19)","v":1},{"$f":"IF($T$13=1,IF($W$22=\"PERU2020\", (1-O57)*$P$19,(1-R34)*$P$19),1*$P$19)","v":1},{"$f":"IF($T$13=1,IF($W$22=\"PERU2020\", (1-O60)*$P$19,(1-S34)*$P$19),1*$P$19)","v":1},{"$f":"IF($T$13=1,IF($W$22=\"PERU2020\", (1-O63)*$P$19,(1-T34)*$P$19),1*$P$19)","v":1}]
[]
["Nombre de la Agencia :",null,"Agencia"]
[]
[]
["Tarifas en US$ | Validas: 1 de enero de 2024"]
[null,null,null,null,null,null,null,null,null,null,null,null,null,null,"DISCOUNT PERU 2020"]
[]
[null,null,null,null,null,null,null,null,null,null,null,null,null,null,"EXCLUSIVE CARE"]
[null,null,null,null,null,null,null,null,null,null,null,null,null,null,0.51]
[]
[null,null,null,null,null,null,null,null,null,null,null,null,null,null,"PRIVILEGE CARE"]
[null,null,null,null,null,null,null,null,null,null,null,null,null,null,0.51]
[]
[null,null,null,null,null,null,null,null,null,null,null,null,null,null,"ADVANTAGE CARE"]
[null,null,null,null,null,null,null,null,null,null,null,null,null,null,0.47]
[]
[null,null,null,null,null,null,null,null,null,null,null,null,null,null,"SECURE CARE"]
[null,null,null,null,null,null,null,null,null,null,null,null,null,null,0.54]
[]
[null,null,null,null,null,null,null,null,null,null,null,null,null,null,"ESSENTIAL CARE"]
[null,null,null,null,null,null,null,null,null,null,null,null,null,null,0.54]

{"sheet":"BUPA MAX","index":1,"n_rows":52,"n_cols":23,"rows_kept":52,"cut":false,"hidden":false,"merged":[[29,0,29,6],[40,0,40,6],[50,0,50,6],[51,0,55,6],[0,22,0,33],[0,9,0,20],[20,3,21,4],[4,0,10,4],[14,1,14,7],[12,1,12,7],[16,3,16,5],[18,3,18,5],[20,5,21,6],[6,5,10,6],[4,5,5,6],[17,3,17,4]]}
[" ",null,false,false,null,null,null,null,null,"RESUMEN DE BENEFICIOS",null,null,null,null,null,null,null,null,null,null,null,null,"RESUMEN DE BENEFICIOS"]
[]
[]
[]
["Cotización de Seguro Médico Internacional\nBupa Max\nTarifas en US$ | Validas: 1 de enero de 2024",null,null,null,null,"REGIÓN CONO SUR"]
[]
[null,null,null,null,null,"Argentina | Chile Paraguay | Uruguay"]
[]
[]
[]
[]
[]
["Nombre del asegurado principal",{"$f":"+'INGRESO DE DATOS'!$C$36","v":"John Doe"}]
[]
["Broker/Agente",{"$f":"+'INGRESO DE DATOS'!$C$44","v":"Agencia"}]
[]
["Número de Adultos en la Póliza",{"$f":"+'INGRESO DE DATOS'!$C$38","v":2},null,"Dependientes (menores de 24 años)",null,null,{"$f":"+'INGRESO DE DATOS'!$G$38","v":4}]
[null,null,null,{"$f":"IF('INGRESO DE DATOS'!$P$2=TRUE, \"Cotización para dependiente de 24 años\",\"\")","v":""}]
["Edad del Titular",{"$f":"+'INGRESO DE DATOS'!$C$40","v":24},null,"Edad del Cónyuge",null,null,{"$f":"+'INGRESO DE DATOS'!$G$40","v":55}]
[]
[null,null,null," Fecha de Cotización:",null,{"$f":"NOW()","v":"2023-12-27T15:52:44.550"}]
[]
[]
[]
["DEDUCIBLES","PLAN 1","PLAN 2","PLAN 3","PLAN 4","PLAN 5","PLAN 6","PLAN 7"]
["Dentro o fuera del pais de residencia","n/a",2500,5000,10000,20000,50000,10000]
["Fuera del pais de residencia","n/a",2000,3000,5000,10000,20000]
[]
[]
["TARIFAS ANUALES"]
["Prima de Titular","n/a",{"$f":"VLOOKUP($B$19,Tablas!$A$440:$I$502,4,TRUE)","v":2196},{"$f":"VLOOKUP($B$19,Tablas!$A$440:$I$502,5,TRUE)","v":1574},{"$f":"VLOOKUP($B$19,Tablas!$A$440:$I$502,6,TRUE)","v":1276},{"$f":"VLOOKUP($B$19,Tablas!$A$440:$I$502,7,TRUE)","v":995},{"$f":"VLOOKUP($B$19,Tablas!$A$440:$I$502,8,TRUE)","v":699},{"$f":"VLOOKUP($B$19,Tablas!$A$440:$I$463,9,TRUE)","v":0}]
["Prima de Cónyuge","n/a",{"$f":"IF($B$17=1,0,(VLOOKUP($G$19,Tablas!$A$440:$I$502,4,TRUE)))","v":6863},{"$f":"IF($B$17=1,0,(VLOOKUP($G$19,Tablas!$A$440:$I$502,5,TRUE)))","v":4911},{"$f":"IF($B$17=1,0,(VLOOKUP($G$19,Tablas!$A$440:$I$502,6,TRUE)))","v":4176},{"$f":"IF($B$17=1,0,(VLOOKUP($G$19,Tablas!$A$440:$I$502,7,TRUE)))","v":3172},{"$f":"IF($B$17=1,0,(VLOOKUP($G$19,Tablas!$A$440:$I$502,8,TRUE)))","v":2224},{"$f":"IF($B$17=1,0,(VLOOKUP($G$19,Tablas!$A$440:$I$463,9,TRUE)))","v":0}]
["Primas Hijos","n/a",{"$f":"IF($G$17=0,0,(VLOOKUP($G$17,Tablas!$A$503:$I$505,4,TRUE)))","v":2368},{"$f":"IF($G$17=0,0,(VLOOKUP($G$17,Tablas!$A$503:$I$505,5,TRUE)))","v":1732},{"$f":"IF($G$17=0,0,(VLOOKUP($G$17,Tablas!$A$503:$I$505,6,TRUE)))","v":1421},{"$f":"IF($G$17=0,0,(VLOOKUP($G$17,Tablas!$A$503:$I$505,7,TRUE)))","v":1162},{"$f":"IF($G$17=0,0,(VLOOKUP($G$17,Tablas!$A$503:$I$505,8,TRUE)))","v":812},{"$f":"IF($G$17=0,0,(VLOOKUP($G$17,Tablas!$A$464:$I$466,9,TRUE)))","v":{"$error":"#N/A"}}]
["Rider: Complicaciones de  Maternidad","n/a",{"$f":"+IF($C$1=FALSE,0,Tablas!D506)","v":0},{"$f":"+IF($C$1=FALSE,0,Tablas!E506)","v":0},{"$f":"+IF($C$1=FALSE,0,Tablas!F506)","v":0},{"$f":"+IF($C$1=FALSE,0,Tablas!G506)","v":0},{"$f":"+IF($C$1=FALSE,0,Tablas!H506)","v":0}]
["Rider: Trasplante Organos","n/a",{"$f":"IF($D$1=FALSE,0,Tablas!D507)","v":0},{"$f":"IF($D$1=FALSE,0,Tablas!E507)","v":0},{"$f":"IF($D$1=FALSE,0,Tablas!F507)","v":0},{"$f":"IF($D$1=FALSE,0,Tablas!G507)","v":0},{"$f":"IF($D$1=FALSE,0,Tablas!H507)","v":0}]
["TOTAL PRIMA NETA","n/a",{"$f":"SUM(C31:C35)","v":11427},{"$f":"SUM(D31:D35)","v":8217},{"$f":"SUM(E31:E35)","v":6873},{"$f":"SUM(F31:F35)","v":5329},{"$f":"SUM(G31:G35)","v":3735}]
["Costo Administrativo Annual","n/a",75,75,75,75,75,75]
["GRAN TOTAL :","n/a",{"$f":"SUM(C36:C37)","v":11502},8292,6948,5404,3810,75]
[]
[]
["TARIFAS SEMESTRALES"]
["Prima de Titular","n/a",{"$f":"VLOOKUP($B$19,Tablas!$A$512:$I$574,4,TRUE)","v":1163.8800000000001},{"$f":"VLOOKUP($B$19,Tablas!$A$512:$I$574,5,TRUE)","v":834.22},{"$f":"VLOOKUP($B$19,Tablas!$A$512:$I$574,6,TRUE)","v":676.28000000000009},{"$f":"VLOOKUP($B$19,Tablas!$A$512:$I$574,7,TRUE)","v":527.35},{"$f":"VLOOKUP($B$19,Tablas!$A$512:$I$574,8,TRUE)","v":370.47},{"$f":"VLOOKUP($B$19,Tablas!$A$512:$I$535,9,TRUE)","v":0}]
["Prima de Cónyuge","n/a",{"$f":"IF($B$17=1,0,(VLOOKUP($G$19,Tablas!$A$512:$I$574,4,TRUE)))","v":3637.3900000000003},{"$f":"IF($B$17=1,0,(VLOOKUP($G$19,Tablas!$A$512:$I$574,5,TRUE)))","v":2602.83},{"$f":"IF($B$17=1,0,(VLOOKUP($G$19,Tablas!$A$512:$I$574,6,TRUE)))","v":2213.2800000000002},{"$f":"IF($B$17=1,0,(VLOOKUP($G$19,Tablas!$A$512:$I$574,7,TRUE)))","v":1681.16},{"$f":"IF($B$17=1,0,(VLOOKUP($G$19,Tablas!$A$512:$I$574,8,TRUE)))","v":1178.72},{"$f":"IF($B$17=1,0,(VLOOKUP($G$19,Tablas!$A$512:$I$535,9,TRUE)))","v":0}]
["Primas Hijos","n/a",{"$f":"IF($G$17=0,0,(VLOOKUP($G$17,Tablas!$A$575:$I$577,4,TRUE)))","v":1255.04},{"$f":"IF($G$17=0,0,(VLOOKUP($G$17,Tablas!$A$575:$I$577,5,TRUE)))","v":917.96},{"$f":"IF($G$17=0,0,(VLOOKUP($G$17,Tablas!$A$575:$I$577,6,TRUE)))","v":753.13},{"$f":"IF($G$17=0,0,(VLOOKUP($G$17,Tablas!$A$575:$I$577,7,TRUE)))","v":615.86},{"$f":"IF($G$17=0,0,(VLOOKUP($G$17,Tablas!$A$575:$I$577,8,TRUE)))","v":430.36},{"$f":"IF($G$17=0,0,(VLOOKUP($G$17,Tablas!$A$536:$I$538,9,TRUE)))","v":{"$error":"#N/A"}}]
["Rider: Complicaciones de  Maternidad","n/a",{"$f":"+IF($C$1=FALSE,0,Tablas!D578)","v":0},{"$f":"+IF($C$1=FALSE,0,Tablas!E578)","v":0},{"$f":"+IF($C$1=FALSE,0,Tablas!F578)","v":0},{"$f":"+IF($C$1=FALSE,0,Tablas!G578)","v":0},{"$f":"+IF($C$1=FALSE,0,Tablas!H578)","v":0}]
["Rider: Trasplante Organos","n/a",{"$f":"IF($D$1=FALSE,0,Tablas!D579)","v":0},{"$f":"IF($D$1=FALSE,0,Tablas!E579)","v":0},{"$f":"IF($D$1=FALSE,0,Tablas!F579)","v":0},{"$f":"IF($D$1=FALSE,0,Tablas!G579)","v":0},{"$f":"IF($D$1=FALSE,0,Tablas!H579)","v":0}]
["TOTAL PRIMA NETA","n/a",{"$f":"SUM(C42:C46)","v":6056.31},4355.01,3642.6900000000005,2824.3700000000003,1979.5500000000002,{"$error":"#N/A"}]
["Costo Administrativo Anual ","n/a",75,75,75,75,75,75]
["GRAN TOTAL  (1ra Cuota)","n/a",{"$f":"SUM(C47:C48)","v":6131.31},4430.01,3717.6900000000005,2899.3700000000003,2054.5500000000002,{"$error":"#N/A"}]
["GRAN TOTAL  (2da Cuota)","n/a",{"$f":"C47","v":6056.31},{"$f":"D47","v":4355.01},3642.6900000000005,2824.3700000000003,1979.5500000000002,{"$error":"#N/A"}]
[]
["Este presupuesto solamente tiene carácter informativo y en ningún momento expresa compromiso legal para suministrarle cobertura de seguro. La emisión de una póliza de seguro Bupa está sujeta a todas las evaluaciones de riesgo por parte de Bupa y a la recepción de todos los pagos de prima requeridos."]

{"sheet":"Advantage (LA)","index":2,"n_rows":50,"n_cols":13,"rows_kept":50,"cut":false,"hidden":true,"merged":[[45,0,46,1],[42,0,42,1],[41,2,41,3],[42,2,42,3],[43,0,43,1],[43,2,43,3],[44,0,44,1],[44,2,44,3],[39,0,39,1],[40,0,40,1],[39,2,39,3],[41,0,41,1],[40,2,40,3],[22,0,23,1],[24,0,24,1],[33,0,33,1],[34,0,34,1],[38,2,38,3],[38,0,38,1],[35,0,35,1],[35,2,35,3],[36,0,36,1],[36,2,36,3],[34,2,34,3],[19,0,19,1],[28,0,28,1],[28,2,28,3],[32,0,32,1],[25,2,25,3],[25,0,25,1],[26,0,26,1],[26,2,26,3],[32,2,32,3],[21,2,21,3],[22,2,22,3],[31,2,31,3],[27,0,27,1],[29,0,29,1],[30,0,31,1],[20,0,21,1],[49,5,49,12],[12,2,12,3],[13,2,13,3],[14,2,14,3],[15,2,15,3],[27,2,27,3],[16,2,16,3],[20,2,20,3],[17,2,18,3],[29,2,29,3],[30,2,30,3],[23,2,23,3],[24,2,24,3],[19,2,19,3],[33,2,33,3],[45,2,46,3],[9,0,9,12],[11,7,11,12],[13,7,13,12],[17,5,17,6],[16,5,16,6],[11,0,11,3],[17,0,18,1],[12,0,12,1],[13,0,13,1],[14,0,14,1],[15,0,15,1],[16,0,16,1]]}
[]
[null,null,null,null,null,null,null,null,null," "," "," "]
[]
[]
[]
[null,null,null,null,null,null,null,null,null," "," "," "," "]
[]
[]
[]
["Cotización de Seguro Médico Internacional - Bupa ADVANTAGE Care (cobertura solo Latinoamérica)"]
[]
["Bupa Advantage Care (cobertura solo en Latinoamérica)",null,null,null,null,null,null,{"$f":"+'INGRESO DE DATOS'!$C$36","v":"John Doe"}]
["Cobertura Máxima anual",null,"US $ 3,500,000"]
["Cobertura Geografica",null,"Limitada a Latinoamérica excluyendo México",null,null,null,null,{"$f":"+'INGRESO DE DATOS'!$C$44","v":"Agencia"}]
["Condiciones médicas cubiertas",null,"Todas las condiciones médicas"]
["Redes de proveedores",null,"Red de Proveedores \"Bupa Advantage\"",null,null,null,null,null,null,{"$f":"+'INGRESO DE DATOS'!$C$38","v":2},null,null,{"$f":"+'INGRESO DE DATOS'!$C$40","v":24}]
["Opciones fuera de la Red",null,"NO, solo en casos de emergencia",null,null,"FECHA DE COTIZACION :"]
["Requiere preautorización",null,"SI, 30% de penalización por omitir prenotificación",null,null,{"$f":"NOW()","v":"2023-12-27T15:52:44.550"},null,null,null,{"$f":"+'INGRESO DE DATOS'!$G$38","v":4},null,null,{"$f":"+'INGRESO DE DATOS'!$G$40","v":55}]
[null,null,null,null,null,null,null,null,null," "," "," "]
["Número máximo de días de hospitalización",null,"Ilimitado",null,null,null,null,null,true,null,"COMPLICACIONES DE MATERNIDAD"]
["Habitación y alimentación",null,"100% dentro de Red Bupa"]
[null,null,"\"UCR\" para L.A. en emergencias fuera de  Red Bupa",null,null,null,null,null,true,null,"TRASPLANTE DE ORGANOS"]
["Cuidados Intensivos",null,"100% dentro de Red Bupa"]
[null,null,"\"UCR\" para L.A. en emergencias fuera de  Red Bupa",null,null,null," "]
["Cobertura de Maternidad",null,"$5,000 (Excepto planes 4,5, y 6)",null,null,"Deducibles",null,"PLAN 1","PLAN 2","PLAN 3","PLAN 4","PLAN 5","PLAN 6"]
["Cobertura Provisional de Recién Nacido",null,"$30,000 por los primeros 90 días",null,null,"Dentro del pais de residencia",null,"n/a",1000,2000,5000,10000,20000]
["Cuidado del Recién Nacido saludable",null,"Ya incluída dentro del beneficio de Maternidad",null,null,"Fuera del pais de residencia",null,"n/a",2000,3000,5000,10000,20000]
["Cobertura de Complicaciones de Maternidad",null,"Disponible a través de cobertura opcional adicional"]
["Trasplante de Organos",null,"$1,000,000 de por vida, por diagnóstico"]
["Condiciones congénitas y hereditarias",null,"<18 años $300,000 de por vida; >=18 al 100%",null,null,"Tarifas Anuales"]
["Coberturas opcionales (Riders)",null,"Complicaciones de Maternidad por $500,000",null,null,"Prima de Titular :",null,"n/a",{"$f":"VLOOKUP($M$16,Tablas!#REF!,4,TRUE)","v":{"$error":"#REF!"}},{"$f":"VLOOKUP($M$16,Tablas!#REF!,5,TRUE)","v":{"$error":"#REF!"}},{"$f":"VLOOKUP($M$16,Tablas!#REF!,6,TRUE)","v":{"$error":"#REF!"}},{"$f":"VLOOKUP($M$16,Tablas!#REF!,7,TRUE)","v":{"$error":"#REF!"}},{"$f":"VLOOKUP($M$16,Tablas!#REF!,8,TRUE)","v":{"$error":"#REF!"}}]
[null,null,"Trasplante de órganos por $ 300,000 adicionales",null,null,"Prima de Cónyuge",null,"n/a",{"$f":"IF($J$16=1,0,(VLOOKUP($M$18,Tablas!#REF!,4,TRUE)))","v":{"$error":"#REF!"}},{"$f":"IF($J$16=1,0,(VLOOKUP($M$18,Tablas!#REF!,5,TRUE)))","v":{"$error":"#REF!"}},{"$f":"IF($J$16=1,0,(VLOOKUP($M$18,Tablas!#REF!,6,TRUE)))","v":{"$error":"#REF!"}},{"$f":"IF($J$16=1,0,(VLOOKUP($M$18,Tablas!#REF!,7,TRUE)))","v":{"$error":"#REF!"}},{"$f":"IF($J$16=1,0,(VLOOKUP($M$18,Tablas!#REF!,8,TRUE)))","v":{"$error":"#REF!"}}]
["Acompañamiento de menores hospitalizados",null,"$300 por día",null,null,"Primas Hijos :",null,"n/a",{"$f":"IF($J$18=0,0,(VLOOKUP($J$18,Tablas!#REF!,4,TRUE)))","v":{"$error":"#REF!"}},{"$f":"IF($J$18=0,0,(VLOOKUP($J$18,Tablas!#REF!,5,TRUE)))","v":{"$error":"#REF!"}},{"$f":"IF($J$18=0,0,(VLOOKUP($J$18,Tablas!#REF!,6,TRUE)))","v":{"$error":"#REF!"}},{"$f":"IF($J$18=0,0,(VLOOKUP($J$18,Tablas!#REF!,7,TRUE)))","v":{"$error":"#REF!"}},{"$f":"IF($J$18=0,0,(VLOOKUP($J$18,Tablas!#REF!,8,TRUE)))","v":{"$error":"#REF!"}}]
["Ambulancia aérea",null,"$100,000 por año y ticket aéreo de retorno",null,null,"Prima Rider Complic. Maternidad",null,"n/a",{"$f":"+IF($I$20=FALSE,0,Tablas!#REF!)","v":{"$error":"#REF!"}},{"$f":"+IF($I$20=FALSE,0,Tablas!#REF!)","v":{"$error":"#REF!"}},{"$f":"+IF($I$20=FALSE,0,Tablas!#REF!)","v":{"$error":"#REF!"}},{"$f":"+IF($I$20=FALSE,0,Tablas!#REF!)","v":{"$error":"#REF!"}},{"$f":"+IF($I$20=FALSE,0,Tablas!#REF!)","v":{"$error":"#REF!"}}]
["Repatriación restos mortales",null,1,null,null,"Prima Rider Trasplante Organos",null,"n/a",{"$f":"IF($I$22=FALSE,0,Tablas!#REF!)","v":{"$error":"#REF!"}},{"$f":"IF($I$22=FALSE,0,Tablas!#REF!)","v":{"$error":"#REF!"}},{"$f":"IF($I$22=FALSE,0,Tablas!#REF!)","v":{"$error":"#REF!"}},{"$f":"IF($I$22=FALSE,0,Tablas!#REF!)","v":{"$error":"#REF!"}},{"$f":"IF($I$22=FALSE,0,Tablas!#REF!)","v":{"$error":"#REF!"}}]
["Medicamentos por receta",null,"$6,000 por Asegurado, por año póliza",null,null,"TOTAL PRIMA NETA :",null,"n/a",{"$f":"SUM(I31:I35)","v":{"$error":"#REF!"}},{"$error":"#REF!"},{"$error":"#REF!"},{"$error":"#REF!"},{"$error":"#REF!"}]
["Almacenamiento de sangre de cordon umbilical",null,"$500  (Excepto planes 4,5, y 6)",null,null,"Costo Administrativo Anual :",null,"n/a",75,75,75,75,75]
[null,null,null,null,null,"GRAN TOTAL :",null,"n/a",{"$f":"SUM(I36:I37)","v":{"$error":"#REF!"}},{"$f":"SUM(J36:J37)","v":{"$error":"#REF!"}},{"$f":"SUM(K36:K37)","v":{"$error":"#REF!"}},{"$f":"SUM(L36:L37)","v":{"$error":"#REF!"}},{"$f":"SUM(M36:M37)","v":{"$error":"#REF!"}}]
["Atención médica en el hogar",null,"100% de usual/acostumbrado y razonable"]
["Rehabilitación",null,"100% de usual/acostumbrado y razonable",null,null,"Tarifas Semestrales"]
["Residencia y cuidados paliativos",null,"100% de usual/acostumbrado y razonable",null,null,"Prima de Titular :",null,"n/a",{"$f":"VLOOKUP($M$16,Tablas!#REF!,4,TRUE)","v":{"$error":"#REF!"}},{"$f":"VLOOKUP($M$16,Tablas!#REF!,5,TRUE)","v":{"$error":"#REF!"}},{"$f":"VLOOKUP($M$16,Tablas!#REF!,6,TRUE)","v":{"$error":"#REF!"}},{"$f":"VLOOKUP($M$16,Tablas!#REF!,7,TRUE)","v":{"$error":"#REF!"}},{"$f":"VLOOKUP($M$16,Tablas!#REF!,8,TRUE)","v":{"$error":"#REF!"}}]
["Cobertura de actividades peligrosas",null,1,null,null,"Prima de Cónyuge",null,"n/a",{"$f":"IF($J$16=1,0,(VLOOKUP($M$18,Tablas!#REF!,4,TRUE)))","v":{"$error":"#REF!"}},{"$f":"IF($J$16=1,0,(VLOOKUP($M$18,Tablas!#REF!,5,TRUE)))","v":{"$error":"#REF!"}},{"$f":"IF($J$16=1,0,(VLOOKUP($M$18,Tablas!#REF!,6,TRUE)))","v":{"$error":"#REF!"}},{"$f":"IF($J$16=1,0,(VLOOKUP($M$18,Tablas!#REF!,7,TRUE)))","v":{"$error":"#REF!"}},{"$f":"IF($J$16=1,0,(VLOOKUP($M$18,Tablas!#REF!,8,TRUE)))","v":{"$error":"#REF!"}}]
["Chequeos generales de rutina",null,"Hasta US$150 por año póliza.Sin deducible",null,null,"Primas Hijos :",null,"n/a",{"$f":"IF($J$18=0,0,(VLOOKUP($J$18,Tablas!#REF!,4,TRUE)))","v":{"$error":"#REF!"}},{"$f":"IF($J$18=0,0,(VLOOKUP($J$18,Tablas!#REF!,5,TRUE)))","v":{"$error":"#REF!"}},{"$f":"IF($J$18=0,0,(VLOOKUP($J$18,Tablas!#REF!,6,TRUE)))","v":{"$error":"#REF!"}},{"$f":"IF($J$18=0,0,(VLOOKUP($J$18,Tablas!#REF!,7,TRUE)))","v":{"$error":"#REF!"}},{"$f":"IF($J$18=0,0,(VLOOKUP($J$18,Tablas!#REF!,8,TRUE)))","v":{"$error":"#REF!"}}]
["Cobertura de VIH, SIDA, CAS",null,"Solo como efecto de transfusión de sangre",null,null,"Prima Rider Complic. Maternidad",null,"n/a",{"$f":"+IF($I$20=FALSE,0,Tablas!#REF!)","v":{"$error":"#REF!"}},{"$f":"+IF($I$20=FALSE,0,Tablas!#REF!)","v":{"$error":"#REF!"}},{"$f":"+IF($I$20=FALSE,0,Tablas!#REF!)","v":{"$error":"#REF!"}},{"$f":"+IF($I$20=FALSE,0,Tablas!#REF!)","v":{"$error":"#REF!"}},{"$f":"+IF($I$20=FALSE,0,Tablas!#REF!)","v":{"$error":"#REF!"}}]
["Cobertura de brazos y piernas artificiales",null,"$30,000 por año y hasta $120,000 de por vida",null,null,"Prima Rider Trasplante Organos",null,"n/a",{"$f":"IF($I$22=FALSE,0,Tablas!#REF!)","v":{"$error":"#REF!"}},{"$f":"IF($I$22=FALSE,0,Tablas!#REF!)","v":{"$error":"#REF!"}},{"$f":"IF($I$22=FALSE,0,Tablas!#REF!)","v":{"$error":"#REF!"}},{"$f":"IF($I$22=FALSE,0,Tablas!#REF!)","v":{"$error":"#REF!"}},{"$f":"IF($I$22=FALSE,0,Tablas!#REF!)","v":{"$error":"#REF!"}}]
["Cobertura extendida para dependientes en caso de muerte de asegurado principal",null,"2 años sin costo",null,null,"TOTAL PRIMA NETA :",null,"n/a",{"$f":"SUM(I41:I45)","v":{"$error":"#REF!"}},{"$error":"#REF!"},{"$error":"#REF!"},{"$error":"#REF!"},{"$error":"#REF!"}]
[null,null,null,null,null,"Costo Administrativo Anual :",null,"n/a",75,75,75,75,75]
[null,null,null,null,null,"GRAN TOTAL  (1ra Cuota) :",null,"n/a",{"$f":"SUM(I46:I47)","v":{"$error":"#REF!"}},{"$f":"SUM(J46:J47)","v":{"$error":"#REF!"}},{"$f":"SUM(K46:K47)","v":{"$error":"#REF!"}},{"$f":"SUM(L46:L47)","v":{"$error":"#REF!"}},{"$f":"SUM(M46:M47)","v":{"$error":"#REF!"}}]
[null," ",null,null,null,"GRAN TOTAL  (2da Cuota) :",null,"n/a",{"$f":"I46","v":{"$error":"#REF!"}},{"$f":"J46","v":{"$error":"#REF!"}},{"$error":"#REF!"},{"$error":"#REF!"},{"$error":"#REF!"}]
[null," ",null,null,null,"Tarifas en US $ -  Válidas desde 01 Ene 2013"]

{"sheet":"Comparacion de Beneficios","index":3,"n_rows":1,"n_cols":1,"rows_kept":1,"cut":false,"hidden":true,"merged":[[31,7,33,7],[39,5,41,5],[39,6,41,6],[38,7,41,7],[17,0,19,0],[32,6,33,6],[25,2,26,2],[25,3,26,3],[25,4,26,4],[31,2,33,2],[31,3,33,3],[32,4,33,4],[32,5,33,5],[86,0,87,0],[89,0,91,0],[9,0,11,0],[13,0,14,0],[15,0,16,0],[37,0,41,0],[24,0,26,0],[31,0,33,0],[0,0,4,7],[25,5,26,5],[25,6,26,6],[27,0,28,0],[29,0,30,0],[10,4,11,4],[10,5,11,5],[10,6,11,6],[10,7,11,7]]}
["2023 BUPA CARE COMPARACION DE BENEFICIOS"]

{"sheet":"Tablas","index":4,"n_rows":579,"n_cols":25,"rows_kept":579,"cut":false,"hidden":true,"merged":[[4,0,4,7],[5,0,5,7],[41,0,41,1],[41,2,41,6],[40,0,40,7],[6,0,6,1],[6,2,6,6],[1,8,1,9],[4,10,4,11],[4,16,4,17],[1,19,1,20],[436,0,436,8],[435,0,435,8],[363,0,363,7],[220,0,220,7],[151,0,151,7],[152,0,152,1],[77,0,77,7],[293,2,293,6],[327,0,327,7],[328,0,328,1],[328,2,328,6],[396,0,396,7],[77,16,77,17],[78,0,78,7],[79,0,79,1],[79,2,79,6],[293,0,293,1],[257,0,257,1],[257,2,257,6],[113,0,113,7],[114,0,114,1],[114,2,114,6],[291,0,291,7],[292,0,292,7],[150,0,150,7],[184,0,184,7],[185,0,185,1],[185,2,185,6],[509,2,509,6],[509,0,509,1],[362,0,362,7],[508,0,508,8],[77,10,77,11],[397,0,397,1],[397,2,397,6],[364,0,364,1],[364,2,364,6],[438,0,438,1],[437,2,437,6],[152,2,152,6],[221,0,221,7],[222,0,222,1],[222,2,222,6],[256,0,256,7]]}
[null,null,null,null,null,null,null,null,null,null,"Critical","Diamond","Complete","Advantage","Secure","Essential"]
[null,"REGIÓN",{"$f":"'INGRESO DE DATOS'!W22","v":8},null,"FACTOR SEMESTRAL :",null,0.53,null,"TOTAL DISCOUNT",null,{"$f":"'INGRESO DE DATOS'!O42","v":1},{"$f":"'INGRESO DE DATOS'!P42","v":1},{"$f":"'INGRESO DE DATOS'!Q42","v":1},{"$f":"'INGRESO DE DATOS'!R42","v":1},{"$f":"'INGRESO DE DATOS'!S42","v":1},{"$f":"'INGRESO DE DATOS'!T42","v":1},null,null,null,"Impuesto (14.94%)",null,{"$f":"14.94/100+1","v":1.1494}]
[]
[]
["BUPA DIAMOND CARE (MUNDIAL)",null,null,null,null,null,null,null,null,null,"ORIGINAL RATES",null,null,null,null,null,"DISCOUNTS APPLIED"]
["TARIFAS ANUALES"]
["EDAD"]
[" "," ","DW1","DW2","DW3","DW4","DW5","DW6"]
[18,"18-24",null,{"$f":"Q9*$V$2","v":{"$error":"#REF!"}},{"$f":"R9*$V$2","v":{"$error":"#REF!"}},{"$error":"#REF!"},{"$error":"#REF!"},{"$error":"#REF!"},null,null,{"$f":"Region!#REF!","v":{"$error":"#REF!"}},{"$f":"Region!#REF!","v":{"$error":"#REF!"}},{"$f":"Region!#REF!","v":{"$error":"#REF!"}},{"$f":"Region!#REF!","v":{"$error":"#REF!"}},{"$f":"Region!#REF!","v":{"$error":"#REF!"}},null,{"$f":"(K9-50)*$L$2+50","v":{"$error":"#REF!"}},{"$f":"(L9-50)*$L$2+50","v":{"$error":"#REF!"}},{"$error":"#REF!"},{"$error":"#REF!"},{"$error":"#REF!"}]
[25,"25-29",null,{"$f":"Q10*$V$2","v":{"$error":"#REF!"}},{"$f":"R10*$V$2","v":{"$error":"#REF!"}},{"$f":"S10*$V$2","v":{"$error":"#REF!"}},{"$f":"T10*$V$2","v":{"$error":"#REF!"}},{"$f":"U10*$V$2","v":{"$error":"#REF!"}},null,null,{"$f":"Region!#REF!","v":{"$error":"#REF!"}},{"$f":"Region!#REF!","v":{"$error":"#REF!"}},{"$f":"Region!#REF!","v":{"$error":"#REF!"}},{"$f":"Region!#REF!","v":{"$error":"#REF!"}},{"$f":"Region!#REF!","v":{"$error":"#REF!"}},null,{"$f":"(K10-50)*$L$2+50","v":{"$error":"#REF!"}},{"$f":"(L10-50)*$L$2+50","v":{"$error":"#REF!"}},{"$f":"(M10-50)*$L$2+50","v":{"$error":"#REF!"}},{"$f":"(N10-50)*$L$2+50","v":{"$error":"#REF!"}},{"$f":"(O10-50)*$L$2+50","v":{"$error":"#REF!"}}]
[30,"30-34",null,{"$error":"#REF!"},{"$error":"#REF!"},{"$error":"#REF!"},{"$error":"#REF!"},{"$error":"#REF!"},null,null,{"$f":"Region!#REF!","v":{"$error":"#REF!"}},{"$f":"Region!#REF!","v":{"$error":"#REF!"}},{"$f":"Region!#REF!","v":{"$error":"#REF!"}},{"$f":"Region!#REF!","v":{"$error":"#REF!"}},{"$f":"Region!#REF!","v":{"$error":"#REF!"}},null,{"$error":"#REF!"},{"$error":"#REF!"},{"$error":"#REF!"},{"$error":"#REF!"},{"$error":"#REF!"}]
[35,"35-39",null,{"$error":"#REF!"},{"$error":"#REF!"},{"$error":"#REF!"},{"$error":"#REF!"},{"$error":"#REF!"},null,null,{"$f":"Region!#REF!","v":{"$error":"#REF!"}},{"$f":"Region!#REF!","v":{"$error":"#REF!"}},{"$f":"Region!#REF!","v":{"$error":"#REF!"}},{"$f":"Region!#REF!","v":{"$error":"#REF!"}},{"$f":"Region!#REF!","v":{"$error":"#REF!"}},null,{"$error":"#REF!"},{"$error":"#REF!"},{"$error":"#REF!"},{"$error":"#REF!"},{"$error":"#REF!"}]
[40,"40-44",null,{"$error":"#REF!"},{"$error":"#REF!"},{"$error":"#REF!"},{"$error":"#REF!"},{"$error":"#REF!"},null,null,{"$f":"Region!#REF!","v":{"$error":"#REF!"}},{"$f":"Region!#REF!","v":{"$error":"#REF!"}},{"$f":"Region!#REF!","v":{"$error":"#REF!"}},{"$f":"Region!#REF!","v":{"$error":"#REF!"}},{"$f":"Region!#REF!","v":{"$error":"#REF!"}},null,{"$error":"#REF!"},{"$error":"#REF!"},{"$error":"#REF!"},{"$error":"#REF!"},{"$error":"#REF!"}]
[45,"45-49",null,{"$error":"#REF!"},{"$error":"#REF!"},{"$error":"#REF!"},{"$error":"#REF!"},{"$error":"#REF!"},null,null,{"$f":"Region!#REF!","v":{"$error":"#REF!"}},{"$f":"Region!#REF!","v":{"$error":"#REF!"}},{"$f":"Region!#REF!","v":{"$error":"#REF!"}},{"$f":"Region!#REF!","v":{"$error":"#REF!"}},{"$f":"Region!#REF!","v":{"$error":"#REF!"}},null,{"$error":"#REF!"},{"$error":"#REF!"},{"$error":"#REF!"},{"$error":"#REF!"},{"$error":"#REF!"}]
[50,"50-54",null,{"$error":"#REF!"},{"$error":"#REF!"},{"$error":"#REF!"},{"$error":"#REF!"},{"$error":"#REF!"},null,null,{"$f":"Region!#REF!","v":{"$error":"#REF!"}},{"$f":"Region!#REF!","v":{"$error":"#REF!"}},{"$f":"Region!#REF!","v":{"$error":"#REF!"}},{"$f":"Region!#REF!","v":{"$error":"#REF!"}},{"$f":"Region!#REF!","v":{"$error":"#REF!"}},null,{"$error":"#REF!"},{"$error":"#REF!"},{"$error":"#REF!"},{"$error":"#REF!"},{"$error":"#REF!"}]
[55,"55-59",null,{"$error":"#REF!"},{"$error":"#REF!"},{"$error":"#REF!"},{"$error":"#REF!"},{"$error":"#REF!"},null,null,{"$f":"Region!#REF!","v":{"$error":"#REF!"}},{"$f":"Region!#REF!","v":{"$error":"#REF!"}},{"$f":"Region!#REF!","v":{"$error":"#REF!"}},{"$f":"Region!#REF!","v":{"$error":"#REF!"}},{"$f":"Region!#REF!","v":{"$error":"#REF!"}},null,{"$error":"#REF!"},{"$error":"#REF!"},{"$error":"#REF!"},{"$error":"#REF!"},{"$error":"#REF!"}]
[60,"60",null,{"$error":"#REF!"},{"$error":"#REF!"},{"$error":"#REF!"},{"$error":"#REF!"},{"$error":"#REF!"},null,null,{"$f":"Region!#REF!","v":{"$error":"#REF!"}},{"$f":"Region!#REF!","v":{"$error":"#REF!"}},{"$f":"Region!#REF!","v":{"$error":"#REF!"}},{"$f":"Region!#REF!","v":{"$error":"#REF!"}},{"$f":"Region!#REF!","v":{"$error":"#REF!"}},null,{"$error":"#REF!"},{"$error":"#REF!"},{"$error":"#REF!"},{"$error":"#REF!"},{"$error":"#REF!"}]
[61,"61",null,{"$error":"#REF!"},{"$error":"#REF!"},{"$error":"#REF!"},{"$error":"#REF!"},{"$error":"#REF!"},null,null,{"$f":"Region!#REF!","v":{"$error":"#REF!"}},{"$f":"Region!#REF!","v":{"$error":"#REF!"}},{"$f":"Region!#REF!","v":{"$error":"#REF!"}},{"$f":"Region!#REF!","v":{"$error":"#REF!"}},{"$f":"Region!#REF!","v":{"$error":"#REF!"}},null,{"$error":"#REF!"},{"$error":"#REF!"},{"$error":"#REF!"},{"$error":"#REF!"},{"$error":"#REF!"}]
[62,"62",null,{"$error":"#REF!"},{"$error":"#REF!"},{"$error":"#REF!"},{"$error":"#REF!"},{"$error":"#REF!"},null,null,{"$f":"Region!#REF!","v":{"$error":"#REF!"}},{"$f":"Region!#REF!","v":{"$error":"#REF!"}},{"$f":"Region!#REF!","v":{"$error":"#REF!"}},{"$f":"Region!#REF!","v":{"$error":"#REF!"}},{"$f":"Region!#REF!","v":{"$error":"#REF!"}},null,{"$error":"#REF!"},{"$error":"#REF!"},{"$error":"#REF!"},{"$error":"#REF!"},{"$error":"#REF!"}]
[63,"63",null,{"$error":"#REF!"},{"$error":"#REF!"},{"$error":"#REF!"},{"$error":"#REF!"},{"$error":"#REF!"},null,null,{"$f":"Region!#REF!","v":{"$error":"#REF!"}},{"$f":"Region!#REF!","v":{"$error":"#REF!"}},{"$f":"Region!#REF!","v":{"$error":"#REF!"}},{"$f":"Region!#REF!","v":{"$error":"#REF!"}},{"$f":"Region!#REF!","v":{"$error":"#REF!"}},null,{"$error":"#REF!"},{"$error":"#REF!"},{"$error":"#REF!"},{"$error":"#REF!"},{"$error":"#REF!"}]
[64,"64",null,{"$error":"#REF!"},{"$error":"#REF!"},{"$error":"#REF!"},{"$error":"#REF!"},{"$error":"#REF!"},null,null,{"$f":"Region!#REF!","v":{"$error":"#REF!"}},{"$f":"Region!#REF!","v":{"$error":"#REF!"}},{"$f":"Region!#REF!","v":{"$error":"#REF!"}},{"$f":"Region!#REF!","v":{"$error":"#REF!"}},{"$f":"Region!#REF!","v":{"$error":"#REF!"}},null,{"$error":"#REF!"},{"$error":"#REF!"},{"$error":"#REF!"},{"$error":"#REF!"},{"$error":"#REF!"}]
[65,"65",null,{"$error":"#REF!"},{"$error":"#REF!"},{"$error":"#REF!"},{"$error":"#REF!"},{"$error":"#REF!"},null,null,{"$f":"Region!#REF!","v":{"$error":"#REF!"}},{"$f":"Region!#REF!","v":{"$error":"#REF!"}},{"$f":"Region!#REF!","v":{"$error":"#REF!"}},{"$f":"Region!#REF!","v":{"$error":"#REF!"}},{"$f":"Region!#REF!","v":{"$error":"#REF!"}},null,{"$error":"#REF!"},{"$error":"#REF!"},{"$error":"#REF!"},{"$error":"#REF!"},{"$error":"#REF!"}]
[66,"66",null,{"$error":"#REF!"},{"$error":"#REF!"},{"$error":"#REF!"},{"$error":"#REF!"},{"$error":"#REF!"},null,null,{"$f":"Region!#REF!","v":{"$error":"#REF!"}},{"$f":"Region!#REF!","v":{"$error":"#REF!"}},{"$f":"Region!#REF!","v":{"$error":"#REF!"}},{"$f":"Region!#REF!","v":{"$error":"#REF!"}},{"$f":"Region!#REF!","v":{"$error":"#REF!"}},null,{"$error":"#REF!"},{"$error":"#REF!"},{"$error":"#REF!"},{"$error":"#REF!"},{"$error":"#REF!"}]
[67,"67",null,{"$error":"#REF!"},{"$error":"#REF!"},{"$error":"#REF!"},{"$error":"#REF!"},{"$error":"#REF!"},null,null,{"$f":"Region!#REF!","v":{"$error":"#REF!"}},{"$f":"Region!#REF!","v":{"$error":"#REF!"}},{"$f":"Region!#REF!","v":{"$error":"#REF!"}},{"$f":"Region!#REF!","v":{"$error":"#REF!"}},{"$f":"Region!#REF!","v":{"$error":"#REF!"}},null,{"$error":"#REF!"},{"$error":"#REF!"},{"$error":"#REF!"},{"$error":"#REF!"},{"$error":"#REF!"}]
[68,"68",null,{"$error":"#REF!"},{"$error":"#REF!"},{"$error":"#REF!"},{"$error":"#REF!"},{"$error":"#REF!"},null,null,{"$f":"Region!#REF!","v":{"$error":"#REF!"}},{"$f":"Region!#REF!","v":{"$error":"#REF!"}},{"$f":"Region!#REF!","v":{"$error":"#REF!"}},{"$f":"Region!#REF!","v":{"$error":"#REF!"}},{"$f":"Region!#REF!","v":{"$error":"#REF!"}},null,{"$error":"#REF!"},{"$error":"#REF!"},{"$error":"#REF!"},{"$error":"#REF!"},{"$error":"#REF!"}]
[69,"69",null,{"$error":"#REF!"},{"$error":"#REF!"},{"$error":"#REF!"},{"$error":"#REF!"},{"$error":"#REF!"},null,null,{"$f":"Region!#REF!","v":{"$error":"#REF!"}},{"$f":"Region!#REF!","v":{"$error":"#REF!"}},{"$f":"Region!#REF!","v":{"$error":"#REF!"}},{"$f":"Region!#REF!","v":{"$error":"#REF!"}},{"$f":"Region!#REF!","v":{"$error":"#REF!"}},null,{"$error":"#REF!"},{"$error":"#REF!"},{"$error":"#REF!"},{"$error":"#REF!"},{"$error":"#REF!"}]
[70,"70",null,{"$error":"#REF!"},{"$error":"#REF!"},{"$error":"#REF!"},{"$error":"#REF!"},{"$error":"#REF!"},null,null,{"$f":"Region!#REF!","v":{"$error":"#REF!"}},{"$f":"Region!#REF!","v":{"$error":"#REF!"}},{"$f":"Region!#REF!","v":{"$error":"#REF!"}},{"$f":"Region!#REF!","v":{"$error":"#REF!"}},{"$f":"Region!#REF!","v":{"$error":"#REF!"}},null,{"$error":"#REF!"},{"$error":"#REF!"},{"$error":"#REF!"},{"$error":"#REF!"},{"$error":"#REF!"}]
[71,"71",null,{"$error":"#REF!"},{"$error":"#REF!"},{"$error":"#REF!"},{"$error":"#REF!"},{"$error":"#REF!"},null,null,{"$f":"Region!#REF!","v":{"$error":"#REF!"}},{"$f":"Region!#REF!","v":{"$error":"#REF!"}},{"$f":"Region!#REF!","v":{"$error":"#REF!"}},{"$f":"Region!#REF!","v":{"$error":"#REF!"}},{"$f":"Region!#REF!","v":{"$error":"#REF!"}},null,{"$error":"#REF!"},{"$error":"#REF!"},{"$error":"#REF!"},{"$error":"#REF!"},{"$error":"#REF!"}]
[72,"72",null,{"$error":"#REF!"},{"$error":"#REF!"},{"$error":"#REF!"},{"$error":"#REF!"},{"$error":"#REF!"},null,null,{"$f":"Region!#REF!","v":{"$error":"#REF!"}},{"$f":"Region!#REF!","v":{"$error":"#REF!"}},{"$f":"Region!#REF!","v":{"$error":"#REF!"}},{"$f":"Region!#REF!","v":{"$error":"#REF!"}},{"$f":"Region!#REF!","v":{"$error":"#REF!"}},null,{"$error":"#REF!"},{"$error":"#REF!"},{"$error":"#REF!"},{"$error":"#REF!"},{"$error":"#REF!"}]
[73,"73",null,{"$error":"#REF!"},{"$error":"#REF!"},{"$error":"#REF!"},{"$error":"#REF!"},{"$error":"#REF!"},null,null,{"$f":"Region!#REF!","v":{"$error":"#REF!"}},{"$f":"Region!#REF!","v":{"$error":"#REF!"}},{"$f":"Region!#REF!","v":{"$error":"#REF!"}},{"$f":"Region!#REF!","v":{"$error":"#REF!"}},{"$f":"Region!#REF!","v":{"$error":"#REF!"}},null,{"$error":"#REF!"},{"$error":"#REF!"},{"$error":"#REF!"},{"$error":"#REF!"},{"$error":"#REF!"}]
[74,"74",null,{"$error":"#REF!"},{"$error":"#REF!"},{"$error":"#REF!"},{"$error":"#REF!"},{"$error":"#REF!"},null,null,{"$f":"Region!#REF!","v":{"$error":"#REF!"}},{"$f":"Region!#REF!","v":{"$error":"#REF!"}},{"$f":"Region!#REF!","v":{"$error":"#REF!"}},{"$f":"Region!#REF!","v":{"$error":"#REF!"}},{"$f":"Region!#REF!","v":{"$error":"#REF!"}},null,{"$error":"#REF!"},{"$error":"#REF!"},{"$error":"#REF!"},{"$error":"#REF!"},{"$error":"#REF!"}]
[75,"75+",null,{"$error":"#REF!"},{"$error":"#REF!"},{"$error":"#REF!"},{"$error":"#REF!"},{"$error":"#REF!"},null,null,{"$f":"Region!#REF!","v":{"$error":"#REF!"}},{"$f":"Region!#REF!","v":{"$error":"#REF!"}},{"$f":"Region!#REF!","v":{"$error":"#REF!"}},{"$f":"Region!#REF!","v":{"$error":"#REF!"}},{"$f":"Region!#REF!","v":{"$error":"#REF!"}},null,{"$error":"#REF!"},{"$error":"#REF!"},{"$error":"#REF!"},{"$error":"#REF!"},{"$error":"#REF!"}]
[1,"1 Child",null,1222.9616000000001,863.19939999999997,714.92679999999996,587.34339999999997,411.48519999999996,null,null,{"$f":"Region!D72","v":1064},{"$f":"Region!E72","v":751},{"$f":"Region!F72","v":622},{"$f":"Region!G72","v":511},{"$f":"Region!H72","v":358},null,{"$f":"(K33)*$L$2","v":1064},{"$f":"(L33)*$L$2","v":751},622,511,358]
[2,"2 Children",null,1881.5678,1367.7860000000001,1126.412,919.52,645.96280000000002,null,null,{"$f":"Region!D73","v":1637},{"$f":"Region!E73","v":1190},{"$f":"Region!F73","v":980},{"$f":"Region!G73","v":800},{"$f":"Region!H73","v":562},null,{"$f":"(K34)*$L$2","v":1637},{"$f":"(L34)*$L$2","v":1190},{"$f":"(M34)*$L$2","v":980},{"$f":"(N34)*$L$2","v":800},{"$f":"(O34)*$L$2","v":562}]
[3,"3+ Children",null,{"$f":"Q35*$V$2","v":2721.7791999999999},1990.7608,1633.2973999999999,1335.6027999999999,933.31279999999992,null,null,{"$f":"Region!D74","v":2368},{"$f":"Region!E74","v":1732},{"$f":"Region!F74","v":1421},{"$f":"Region!G74","v":1162},{"$f":"Region!H74","v":812},null,2368,1732,1421,1162,812]
[1,"Rider Comp. Maternidad",null,{"$f":"K36*$V$2","v":0},{"$f":"L36*$V$2","v":0},258.61500000000001,258.61500000000001,258.61500000000001,null,null,0,0,225,225,225]
[1,"Transplante de organos",null,{"$f":"K37*$V$2","v":0},{"$f":"L37*$V$2","v":0},{"$f":"M37*$V$2","v":0},{"$f":"N37*$V$2","v":0},{"$f":"O37*$V$2","v":0},null,null,0,0,0,0,0]
[null,null,null,0,0,0,0,0]
[]
[]
["TARIFAS SEMESTRALES "]
["EDAD"]
[" "," ",null,"DW2","DW3","DW4","DW5","DW6"]
[18,"18-24",null,{"$f":"$G$2*D9","v":{"$error":"#REF!"}},{"$error":"#REF!"},{"$error":"#REF!"},{"$error":"#REF!"},{"$error":"#REF!"}]
[25,"25-29",null,{"$error":"#REF!"},{"$error":"#REF!"},{"$error":"#REF!"},{"$error":"#REF!"},{"$error":"#REF!"}]
[30,"30-34",null,{"$error":"#REF!"},{"$error":"#REF!"},{"$error":"#REF!"},{"$error":"#REF!"},{"$error":"#REF!"}]
[35,"35-39",null,{"$error":"#REF!"},{"$error":"#REF!"},{"$error":"#REF!"},{"$error":"#REF!"},{"$error":"#REF!"}]
[40,"40-44",null,{"$error":"#REF!"},{"$error":"#REF!"},{"$error":"#REF!"},{"$error":"#REF!"},{"$error":"#REF!"}]
[45,"45-49",null,{"$error":"#REF!"},{"$error":"#REF!"},{"$error":"#REF!"},{"$error":"#REF!"},{"$error":"#REF!"}]
[50,"50-54",null,{"$error":"#REF!"},{"$error":"#REF!"},{"$error":"#REF!"},{"$error":"#REF!"},{"$error":"#REF!"}]
[55,"55-59",null,{"$error":"#REF!"},{"$error":"#REF!"},{"$error":"#REF!"},{"$error":"#REF!"},{"$error":"#REF!"}]
[60,"60",null,{"$error":"#REF!"},{"$error":"#REF!"},{"$error":"#REF!"},{"$error":"#REF!"},{"$error":"#REF!"}]
[61,"61",null,{"$error":"#REF!"},{"$error":"#REF!"},{"$error":"#REF!"},{"$error":"#REF!"},{"$error":"#REF!"}]
[62,"62",null,{"$f":"$G$2*D19","v":{"$error":"#REF!"}},{"$error":"#REF!"},{"$error":"#REF!"},{"$error":"#REF!"},{"$error":"#REF!"}]
[63,"63",null,{"$error":"#REF!"},{"$error":"#REF!"},{"$error":"#REF!"},{"$error":"#REF!"},{"$error":"#REF!"}]
[64,"64",null,{"$error":"#REF!"},{"$error":"#REF!"},{"$error":"#REF!"},{"$error":"#REF!"},{"$error":"#REF!"}]
[65,"65",null,{"$error":"#REF!"},{"$error":"#REF!"},{"$error":"#REF!"},{"$error":"#REF!"},{"$error":"#REF!"}]
[66,"66",null,{"$error":"#REF!"},{"$error":"#REF!"},{"$error":"#REF!"},{"$error":"#REF!"},{"$error":"#REF!"}]
[67,"67",null,{"$error":"#REF!"},{"$error":"#REF!"},{"$error":"#REF!"},{"$error":"#REF!"},{"$error":"#REF!"}]
[68,"68",null,{"$error":"#REF!"},{"$error":"#REF!"},{"$error":"#REF!"},{"$error":"#REF!"},{"$error":"#REF!"}]
[69,"69",null,{"$error":"#REF!"},{"$error":"#REF!"},{"$error":"#REF!"},{"$error":"#REF!"},{"$error":"#REF!"}]
[70,"70",null,{"$error":"#REF!"},{"$error":"#REF!"},{"$error":"#REF!"},{"$error":"#REF!"},{"$error":"#REF!"}]
[71,"71",null,{"$error":"#REF!"},{"$error":"#REF!"},{"$error":"#REF!"},{"$error":"#REF!"},{"$error":"#REF!"}]
[72,"72",null,{"$f":"$G$2*D29","v":{"$error":"#REF!"}},{"$error":"#REF!"},{"$error":"#REF!"},{"$error":"#REF!"},{"$error":"#REF!"}]
[73,"73",null,{"$error":"#REF!"},{"$error":"#REF!"},{"$error":"#REF!"},{"$error":"#REF!"},{"$error":"#REF!"}]
[74,"74",null,{"$error":"#REF!"},{"$error":"#REF!"},{"$error":"#REF!"},{"$error":"#REF!"},{"$error":"#REF!"}]
[75,"75+",null,{"$error":"#REF!"},{"$error":"#REF!"},{"$error":"#REF!"},{"$error":"#REF!"},{"$error":"#REF!"}]
[1,"1 Child",null,648.16964800000005,457.49568199999999,378.911204,311.29200200000002,218.08715599999999]
[2,"2 Children",null,997.23093400000005,724.92658000000006,596.99836000000005,487.34559999999999,342.36028400000004]
[3,"3+ Children",null,1442.542976,1055.103224,865.64762199999996,707.86948399999994,494.65578399999998]
[1,"Rider Comp. Maternidad",null,{"$f":"+D36*$G$2","v":0},0,137.06595000000002,137.06595000000002,137.06595000000002]
[1,"Transplante de organos",null,0,0,0,0,0]
[]
[]
[]
[]
[]
["BUPA DIAMOND CARE (LATIN AMERICA)",null,null,null,null,null,null,null,null,null,"ORIGINAL RATES",null,null,null,null,null,"DISCOUNTS APPLIED"]
["TARIFAS ANUALES"]
["EDAD"]
[" "," ","DW1","DW2","DW3","DW4","DW5","DW6"]
[18,"18-24",null,{"$f":"Q82*$V$2","v":{"$error":"#REF!"}},{"$f":"R82*$V$2","v":{"$error":"#REF!"}},{"$error":"#REF!"},{"$error":"#REF!"},{"$error":"#REF!"},null,null,{"$f":"Region!#REF!","v":{"$error":"#REF!"}},{"$f":"Region!#REF!","v":{"$error":"#REF!"}},{"$f":"Region!#REF!","v":{"$error":"#REF!"}},{"$f":"Region!#REF!","v":{"$error":"#REF!"}},{"$f":"Region!#REF!","v":{"$error":"#REF!"}},null,{"$f":"(K82-50)*$L$2+50","v":{"$error":"#REF!"}},{"$f":"(L82-50)*$L$2+50","v":{"$error":"#REF!"}},{"$f":"(M82-50)*$L$2+50","v":{"$error":"#REF!"}},{"$f":"(N82-50)*$L$2+50","v":{"$error":"#REF!"}},{"$f":"(O82-50)*$L$2+50","v":{"$error":"#REF!"}}]
[25,"25-29",null,{"$f":"Q83*$V$2","v":{"$error":"#REF!"}},{"$f":"R83*$V$2","v":{"$error":"#REF!"}},{"$f":"S83*$V$2","v":{"$error":"#REF!"}},{"$f":"T83*$V$2","v":{"$error":"#REF!"}},{"$f":"U83*$V$2","v":{"$error":"#REF!"}},null,null,{"$f":"Region!#REF!","v":{"$error":"#REF!"}},{"$f":"Region!#REF!","v":{"$error":"#REF!"}},{"$f":"Region!#REF!","v":{"$error":"#REF!"}},{"$f":"Region!#REF!","v":{"$error":"#REF!"}},{"$f":"Region!#REF!","v":{"$error":"#REF!"}},null,{"$f":"(K83-50)*$L$2+50","v":{"$error":"#REF!"}},{"$error":"#REF!"},{"$error":"#REF!"},{"$error":"#REF!"},{"$error":"#REF!"}]
[30,"30-34",null,{"$error":"#REF!"},{"$error":"#REF!"},{"$error":"#REF!"},{"$error":"#REF!"},{"$error":"#REF!"},null,null,{"$f":"Region!#REF!","v":{"$error":"#REF!"}},{"$f":"Region!#REF!","v":{"$error":"#REF!"}},{"$f":"Region!#REF!","v":{"$error":"#REF!"}},{"$f":"Region!#REF!","v":{"$error":"#REF!"}},{"$f":"Region!#REF!","v":{"$error":"#REF!"}},null,{"$error":"#REF!"},{"$error":"#REF!"},{"$error":"#REF!"},{"$error":"#REF!"},{"$error":"#REF!"}]
[35,"35-39",null,{"$error":"#REF!"},{"$error":"#REF!"},{"$error":"#REF!"},{"$error":"#REF!"},{"$error":"#REF!"},null,null,{"$f":"Region!#REF!","v":{"$error":"#REF!"}},{"$f":"Region!#REF!","v":{"$error":"#REF!"}},{"$f":"Region!#REF!","v":{"$error":"#REF!"}},{"$f":"Region!#REF!","v":{"$error":"#REF!"}},{"$f":"Region!#REF!","v":{"$error":"#REF!"}},null,{"$error":"#REF!"},{"$error":"#REF!"},{"$error":"#REF!"},{"$error":"#REF!"},{"$error":"#REF!"}]
[40,"40-44",null,{"$error":"#REF!"},{"$error":"#REF!"},{"$error":"#REF!"},{"$error":"#REF!"},{"$error":"#REF!"},null,null,{"$f":"Region!#REF!","v":{"$error":"#REF!"}},{"$f":"Region!#REF!","v":{"$error":"#REF!"}},{"$f":"Region!#REF!","v":{"$error":"#REF!"}},{"$f":"Region!#REF!","v":{"$error":"#REF!"}},{"$f":"Region!#REF!","v":{"$error":"#REF!"}},null,{"$error":"#REF!"},{"$error":"#REF!"},{"$error":"#REF!"},{"$error":"#REF!"},{"$error":"#REF!"}]
[45,"45-49",null,{"$error":"#REF!"},{"$error":"#REF!"},{"$error":"#REF!"},{"$error":"#REF!"},{"$error":"#REF!"},null,null,{"$f":"Region!#REF!","v":{"$error":"#REF!"}},{"$f":"Region!#REF!","v":{"$error":"#REF!"}},{"$f":"Region!#REF!","v":{"$error":"#REF!"}},{"$f":"Region!#REF!","v":{"$error":"#REF!"}},{"$f":"Region!#REF!","v":{"$error":"#REF!"}},null,{"$error":"#REF!"},{"$error":"#REF!"},{"$error":"#REF!"},{"$error":"#REF!"},{"$error":"#REF!"}]
[50,"50-54",null,{"$error":"#REF!"},{"$error":"#REF!"},{"$error":"#REF!"},{"$error":"#REF!"},{"$error":"#REF!"},null,null,{"$f":"Region!#REF!","v":{"$error":"#REF!"}},{"$f":"Region!#REF!","v":{"$error":"#REF!"}},{"$f":"Region!#REF!","v":{"$error":"#REF!"}},{"$f":"Region!#REF!","v":{"$error":"#REF!"}},{"$f":"Region!#REF!","v":{"$error":"#REF!"}},null,{"$error":"#REF!"},{"$error":"#REF!"},{"$error":"#REF!"},{"$error":"#REF!"},{"$error":"#REF!"}]
[55,"55-59",null,{"$error":"#REF!"},{"$error":"#REF!"},{"$error":"#REF!"},{"$error":"#REF!"},{"$error":"#REF!"},null,null,{"$f":"Region!#REF!","v":{"$error":"#REF!"}},{"$f":"Region!#REF!","v":{"$error":"#REF!"}},{"$f":"Region!#REF!","v":{"$error":"#REF!"}},{"$f":"Region!#REF!","v":{"$error":"#REF!"}},{"$f":"Region!#REF!","v":{"$error":"#REF!"}},null,{"$error":"#REF!"},{"$error":"#REF!"},{"$error":"#REF!"},{"$error":"#REF!"},{"$error":"#REF!"}]
[60,"60",null,{"$error":"#REF!"},{"$error":"#REF!"},{"$error":"#REF!"},{"$error":"#REF!"},{"$error":"#REF!"},null,null,{"$f":"Region!#REF!","v":{"$error":"#REF!"}},{"$f":"Region!#REF!","v":{"$error":"#REF!"}},{"$f":"Region!#REF!","v":{"$error":"#REF!"}},{"$f":"Region!#REF!","v":{"$error":"#REF!"}},{"$f":"Region!#REF!","v":{"$error":"#REF!"}},null,{"$error":"#REF!"},{"$error":"#REF!"},{"$error":"#REF!"},{"$error":"#REF!"},{"$error":"#REF!"}]
[61,"61",null,{"$error":"#REF!"},{"$error":"#REF!"},{"$error":"#REF!"},{"$error":"#REF!"},{"$error":"#REF!"},null,null,{"$f":"Region!#REF!","v":{"$error":"#REF!"}},{"$f":"Region!#REF!","v":{"$error":"#REF!"}},{"$f":"Region!#REF!","v":{"$error":"#REF!"}},{"$f":"Region!#REF!","v":{"$error":"#REF!"}},{"$f":"Region!#REF!","v":{"$error":"#REF!"}},null,{"$error":"#REF!"},{"$error":"#REF!"},{"$error":"#REF!"},{"$error":"#REF!"},{"$error":"#REF!"}]
[62,"62",null,{"$error":"#REF!"},{"$error":"#REF!"},{"$error":"#REF!"},{"$error":"#REF!"},{"$error":"#REF!"},null,null,{"$f":"Region!#REF!","v":{"$error":"#REF!"}},{"$f":"Region!#REF!","v":{"$error":"#REF!"}},{"$f":"Region!#REF!","v":{"$error":"#REF!"}},{"$f":"Region!#REF!","v":{"$error":"#REF!"}},{"$f":"Region!#REF!","v":{"$error":"#REF!"}},null,{"$error":"#REF!"},{"$error":"#REF!"},{"$error":"#REF!"},{"$error":"#REF!"},{"$error":"#REF!"}]
[63,"63",null,{"$error":"#REF!"},{"$error":"#REF!"},{"$error":"#REF!"},{"$error":"#REF!"},{"$error":"#REF!"},null,null,{"$f":"Region!#REF!","v":{"$error":"#REF!"}},{"$f":"Region!#REF!","v":{"$error":"#REF!"}},{"$f":"Region!#REF!","v":{"$error":"#REF!"}},{"$f":"Region!#REF!","v":{"$error":"#REF!"}},{"$f":"Region!#REF!","v":{"$error":"#REF!"}},null,{"$error":"#REF!"},{"$error":"#REF!"},{"$error":"#REF!"},{"$error":"#REF!"},{"$error":"#REF!"}]
[64,"64",null,{"$error":"#REF!"},{"$error":"#REF!"},{"$error":"#REF!"},{"$error":"#REF!"},{"$error":"#REF!"},null,null,{"$f":"Region!#REF!","v":{"$error":"#REF!"}},{"$f":"Region!#REF!","v":{"$error":"#REF!"}},{"$f":"Region!#REF!","v":{"$error":"#REF!"}},{"$f":"Region!#REF!","v":{"$error":"#REF!"}},{"$f":"Region!#REF!","v":{"$error":"#REF!"}},null,{"$error":"#REF!"},{"$error":"#REF!"},{"$error":"#REF!"},{"$error":"#REF!"},{"$error":"#REF!"}]
[65,"65",null,{"$error":"#REF!"},{"$error":"#REF!"},{"$error":"#REF!"},{"$error":"#REF!"},{"$error":"#REF!"},null,null,{"$f":"Region!#REF!","v":{"$error":"#REF!"}},{"$f":"Region!#REF!","v":{"$error":"#REF!"}},{"$f":"Region!#REF!","v":{"$error":"#REF!"}},{"$f":"Region!#REF!","v":{"$error":"#REF!"}},{"$f":"Region!#REF!","v":{"$error":"#REF!"}},null,{"$error":"#REF!"},{"$error":"#REF!"},{"$error":"#REF!"},{"$error":"#REF!"},{"$error":"#REF!"}]
[66,"66",null,{"$error":"#REF!"},{"$error":"#REF!"},{"$error":"#REF!"},{"$error":"#REF!"},{"$error":"#REF!"},null,null,{"$f":"Region!#REF!","v":{"$error":"#REF!"}},{"$f":"Region!#REF!","v":{"$error":"#REF!"}},{"$f":"Region!#REF!","v":{"$error":"#REF!"}},{"$f":"Region!#REF!","v":{"$error":"#REF!"}},{"$f":"Region!#REF!","v":{"$error":"#REF!"}},null,{"$error":"#REF!"},{"$error":"#REF!"},{"$error":"#REF!"},{"$error":"#REF!"},{"$error":"#REF!"}]
[67,"67",null,{"$error":"#REF!"},{"$error":"#REF!"},{"$error":"#REF!"},{"$error":"#REF!"},{"$error":"#REF!"},null,null,{"$f":"Region!#REF!","v":{"$error":"#REF!"}},{"$f":"Region!#REF!","v":{"$error":"#REF!"}},{"$f":"Region!#REF!","v":{"$error":"#REF!"}},{"$f":"Region!#REF!","v":{"$error":"#REF!"}},{"$f":"Region!#REF!","v":{"$error":"#REF!"}},null,{"$error":"#REF!"},{"$error":"#REF!"},{"$error":"#REF!"},{"$error":"#REF!"},{"$error":"#REF!"}]
[68,"68",null,{"$error":"#REF!"},{"$error":"#REF!"},{"$error":"#REF!"},{"$error":"#REF!"},{"$error":"#REF!"},null,null,{"$f":"Region!#REF!","v":{"$error":"#REF!"}},{"$f":"Region!#REF!","v":{"$error":"#REF!"}},{"$f":"Region!#REF!","v":{"$error":"#REF!"}},{"$f":"Region!#REF!","v":{"$error":"#REF!"}},{"$f":"Region!#REF!","v":{"$error":"#REF!"}},null,{"$error":"#REF!"},{"$error":"#REF!"},{"$error":"#REF!"},{"$error":"#REF!"},{"$error":"#REF!"}]
[69,"69",null,{"$error":"#REF!"},{"$error":"#REF!"},{"$error":"#REF!"},{"$error":"#REF!"},{"$error":"#REF!"},null,null,{"$f":"Region!#REF!","v":{"$error":"#REF!"}},{"$f":"Region!#REF!","v":{"$error":"#REF!"}},{"$f":"Region!#REF!","v":{"$error":"#REF!"}},{"$f":"Region!#REF!","v":{"$error":"#REF!"}},{"$f":"Region!#REF!","v":{"$error":"#REF!"}},null,{"$error":"#REF!"},{"$error":"#REF!"},{"$error":"#REF!"},{"$error":"#REF!"},{"$error":"#REF!"}]
[70,"70",null,{"$error":"#REF!"},{"$error":"#REF!"},{"$error":"#REF!"},{"$error":"#REF!"},{"$error":"#REF!"},null,null,{"$f":"Region!#REF!","v":{"$error":"#REF!"}},{"$f":"Region!#REF!","v":{"$error":"#REF!"}},{"$f":"Region!#REF!","v":{"$error":"#REF!"}},{"$f":"Region!#REF!","v":{"$error":"#REF!"}},{"$f":"Region!#REF!","v":{"$error":"#REF!"}},null,{"$error":"#REF!"},{"$error":"#REF!"},{"$error":"#REF!"},{"$error":"#REF!"},{"$error":"#REF!"}]
[71,"71",null,{"$error":"#REF!"},{"$error":"#REF!"},{"$error":"#REF!"},{"$error":"#REF!"},{"$error":"#REF!"},null,null,{"$f":"Region!#REF!","v":{"$error":"#REF!"}},{"$f":"Region!#REF!","v":{"$error":"#REF!"}},{"$f":"Region!#REF!","v":{"$error":"#REF!"}},{"$f":"Region!#REF!","v":{"$error":"#REF!"}},{"$f":"Region!#REF!","v":{"$error":"#REF!"}},null,{"$error":"#REF!"},{"$error":"#REF!"},{"$error":"#REF!"},{"$error":"#REF!"},{"$error":"#REF!"}]
[72,"72",null,{"$error":"#REF!"},{"$error":"#REF!"},{"$error":"#REF!"},{"$error":"#REF!"},{"$error":"#REF!"},null,null,{"$f":"Region!#REF!","v":{"$error":"#REF!"}},{"$f":"Region!#REF!","v":{"$error":"#REF!"}},{"$f":"Region!#REF!","v":{"$error":"#REF!"}},{"$f":"Region!#REF!","v":{"$error":"#REF!"}},{"$f":"Region!#REF!","v":{"$error":"#REF!"}},null,{"$error":"#REF!"},{"$error":"#REF!"},{"$error":"#REF!"},{"$error":"#REF!"},{"$error":"#REF!"}]
[73,"73",null,{"$error":"#REF!"},{"$error":"#REF!"},{"$error":"#REF!"},{"$error":"#REF!"},{"$error":"#REF!"},null,null,{"$f":"Region!#REF!","v":{"$error":"#REF!"}},{"$f":"Region!#REF!","v":{"$error":"#REF!"}},{"$f":"Region!#REF!","v":{"$error":"#REF!"}},{"$f":"Region!#REF!","v":{"$error":"#REF!"}},{"$f":"Region!#REF!","v":{"$error":"#REF!"}},null,{"$error":"#REF!"},{"$error":"#REF!"},{"$error":"#REF!"},{"$error":"#REF!"},{"$error":"#REF!"}]
[74,"74",null,{"$error":"#REF!"},{"$error":"#REF!"},{"$error":"#REF!"},{"$error":"#REF!"},{"$error":"#REF!"},null,null,{"$f":"Region!#REF!","v":{"$error":"#REF!"}},{"$f":"Region!#REF!","v":{"$error":"#REF!"}},{"$f":"Region!#REF!","v":{"$error":"#REF!"}},{"$f":"Region!#REF!","v":{"$error":"#REF!"}},{"$f":"Region!#REF!","v":{"$error":"#REF!"}},null,{"$error":"#REF!"},{"$error":"#REF!"},{"$error":"#REF!"},{"$error":"#REF!"},{"$error":"#REF!"}]
[75,"75+",null,{"$error":"#REF!"},{"$error":"#REF!"},{"$error":"#REF!"},{"$error":"#REF!"},{"$error":"#REF!"},null,null,{"$f":"Region!#REF!","v":{"$error":"#REF!"}},{"$f":"Region!#REF!","v":{"$error":"#REF!"}},{"$f":"Region!#REF!","v":{"$error":"#REF!"}},{"$f":"Region!#REF!","v":{"$error":"#REF!"}},{"$f":"Region!#REF!","v":{"$error":"#REF!"}},null,{"$error":"#REF!"},{"$error":"#REF!"},{"$error":"#REF!"},{"$error":"#REF!"},{"$error":"#REF!"}]
[1,"1 Child",null,{"$error":"#REF!"},{"$error":"#REF!"},{"$error":"#REF!"},{"$error":"#REF!"},{"$error":"#REF!"},null,null,{"$f":"Region!#REF!","v":{"$error":"#REF!"}},{"$f":"Region!#REF!","v":{"$error":"#REF!"}},{"$f":"Region!#REF!","v":{"$error":"#REF!"}},{"$f":"Region!#REF!","v":{"$error":"#REF!"}},{"$f":"Region!#REF!","v":{"$error":"#REF!"}},null,{"$f":"(K106)*$L$2","v":{"$error":"#REF!"}},{"$f":"(L106)*$L$2","v":{"$error":"#REF!"}},{"$f":"(M106)*$L$2","v":{"$error":"#REF!"}},{"$f":"(N106)*$L$2","v":{"$error":"#REF!"}},{"$f":"(O106)*$L$2","v":{"$error":"#REF!"}}]
[2,"2 Children",null,{"$error":"#REF!"},{"$error":"#REF!"},{"$error":"#REF!"},{"$error":"#REF!"},{"$error":"#REF!"},null,null,{"$f":"Region!#REF!","v":{"$error":"#REF!"}},{"$f":"Region!#REF!","v":{"$error":"#REF!"}},{"$f":"Region!#REF!","v":{"$error":"#REF!"}},{"$f":"Region!#REF!","v":{"$error":"#REF!"}},{"$f":"Region!#REF!","v":{"$error":"#REF!"}},null,{"$f":"(K107)*$L$2","v":{"$error":"#REF!"}},{"$error":"#REF!"},{"$error":"#REF!"},{"$error":"#REF!"},{"$error":"#REF!"}]
[3,"3+ Children",null,{"$error":"#REF!"},{"$error":"#REF!"},{"$error":"#REF!"},{"$error":"#REF!"},{"$error":"#REF!"},null,null,{"$f":"Region!#REF!","v":{"$error":"#REF!"}},{"$f":"Region!#REF!","v":{"$error":"#REF!"}},{"$f":"Region!#REF!","v":{"$error":"#REF!"}},{"$f":"Region!#REF!","v":{"$error":"#REF!"}},{"$f":"Region!#REF!","v":{"$error":"#REF!"}},null,{"$error":"#REF!"},{"$error":"#REF!"},{"$error":"#REF!"},{"$error":"#REF!"},{"$error":"#REF!"}]
[1,"Rider Comp. Maternidad",null,{"$f":"K109*$V$2","v":0},{"$f":"L109*$V$2","v":0},258.61500000000001,258.61500000000001,258.61500000000001,null,null,0,0,225,225,225]
[1,"Transplante de organos",null,{"$f":"K110*$V$2","v":0},{"$f":"L110*$V$2","v":0},{"$f":"M110*$V$2","v":0},{"$f":"N110*$V$2","v":0},{"$f":"O110*$V$2","v":0},null,null,0,0,0,0,0]
[null,null,null,0,0,0,0,0]
[]
[]
["TARIFAS SEMESTRALES "]
["EDAD"]
[" "," ",null,"DW2","DW3","DW4","DW5","DW6"]
[18,"18-24",null,{"$f":"$G$2*D82","v":{"$error":"#REF!"}},{"$error":"#REF!"},{"$error":"#REF!"},{"$error":"#REF!"},{"$error":"#REF!"}]
[25,"25-29",null,{"$f":"$G$2*D83","v":{"$error":"#REF!"}},{"$error":"#REF!"},{"$error":"#REF!"},{"$error":"#REF!"},{"$error":"#REF!"}]
[30,"30-34",null,{"$f":"$G$2*D84","v":{"$error":"#REF!"}},{"$error":"#REF!"},{"$error":"#REF!"},{"$error":"#REF!"},{"$error":"#REF!"}]
[35,"35-39",null,{"$f":"$G$2*D85","v":{"$error":"#REF!"}},{"$error":"#REF!"},{"$error":"#REF!"},{"$error":"#REF!"},{"$error":"#REF!"}]
[40,"40-44",null,{"$f":"$G$2*D86","v":{"$error":"#REF!"}},{"$error":"#REF!"},{"$error":"#REF!"},{"$error":"#REF!"},{"$error":"#REF!"}]
[45,"45-49",null,{"$f":"$G$2*D87","v":{"$error":"#REF!"}},{"$error":"#REF!"},{"$error":"#REF!"},{"$error":"#REF!"},{"$error":"#REF!"}]
[50,"50-54",null,{"$f":"$G$2*D88","v":{"$error":"#REF!"}},{"$error":"#REF!"},{"$error":"#REF!"},{"$error":"#REF!"},{"$error":"#REF!"}]
[55,"55-59",null,{"$f":"$G$2*D89","v":{"$error":"#REF!"}},{"$error":"#REF!"},{"$error":"#REF!"},{"$error":"#REF!"},{"$error":"#REF!"}]
[60,"60",null,{"$f":"$G$2*D90","v":{"$error":"#REF!"}},{"$error":"#REF!"},{"$error":"#REF!"},{"$error":"#REF!"},{"$error":"#REF!"}]
[61,"61",null,{"$f":"$G$2*D91","v":{"$error":"#REF!"}},{"$error":"#REF!"},{"$error":"#REF!"},{"$error":"#REF!"},{"$error":"#REF!"}]
[62,"62",null,{"$f":"$G$2*D92","v":{"$error":"#REF!"}},{"$error":"#REF!"},{"$error":"#REF!"},{"$error":"#REF!"},{"$error":"#REF!"}]
[63,"63",null,{"$f":"$G$2*D93","v":{"$error":"#REF!"}},{"$error":"#REF!"},{"$error":"#REF!"},{"$error":"#REF!"},{"$error":"#REF!"}]
[64,"64",null,{"$f":"$G$2*D94","v":{"$error":"#REF!"}},{"$error":"#REF!"},{"$error":"#REF!"},{"$error":"#REF!"},{"$error":"#REF!"}]
[65,"65",null,{"$f":"$G$2*D95","v":{"$error":"#REF!"}},{"$error":"#REF!"},{"$error":"#REF!"},{"$error":"#REF!"},{"$error":"#REF!"}]
[66,"66",null,{"$f":"$G$2*D96","v":{"$error":"#REF!"}},{"$error":"#REF!"},{"$error":"#REF!"},{"$error":"#REF!"},{"$error":"#REF!"}]
[67,"67",null,{"$f":"$G$2*D97","v":{"$error":"#REF!"}},{"$error":"#REF!"},{"$error":"#REF!"},{"$error":"#REF!"},{"$error":"#REF!"}]
[68,"68",null,{"$f":"$G$2*D98","v":{"$error":"#REF!"}},{"$error":"#REF!"},{"$error":"#REF!"},{"$error":"#REF!"},{"$error":"#REF!"}]
[69,"69",null,{"$f":"$G$2*D99","v":{"$error":"#REF!"}},{"$error":"#REF!"},{"$error":"#REF!"},{"$error":"#REF!"},{"$error":"#REF!"}]
[70,"70",null,{"$f":"$G$2*D100","v":{"$error":"#REF!"}},{"$error":"#REF!"},{"$error":"#REF!"},{"$error":"#REF!"},{"$error":"#REF!"}]
[71,"71",null,{"$f":"$G$2*D101","v":{"$error":"#REF!"}},{"$error":"#REF!"},{"$error":"#REF!"},{"$error":"#REF!"},{"$error":"#REF!"}]
[72,"72",null,{"$f":"$G$2*D102","v":{"$error":"#REF!"}},{"$error":"#REF!"},{"$error":"#REF!"},{"$error":"#REF!"},{"$error":"#REF!"}]
[73,"73",null,{"$f":"$G$2*D103","v":{"$error":"#REF!"}},{"$error":"#REF!"},{"$error":"#REF!"},{"$error":"#REF!"},{"$error":"#REF!"}]
[74,"74",null,{"$f":"$G$2*D104","v":{"$error":"#REF!"}},{"$error":"#REF!"},{"$error":"#REF!"},{"$error":"#REF!"},{"$error":"#REF!"}]
[75,"75+",null,{"$f":"$G$2*D105","v":{"$error":"#REF!"}},{"$error":"#REF!"},{"$error":"#REF!"},{"$error":"#REF!"},{"$error":"#REF!"}]
[1,"1 Child",null,{"$f":"$G$2*D106","v":{"$error":"#REF!"}},{"$error":"#REF!"},{"$error":"#REF!"},{"$error":"#REF!"},{"$error":"#REF!"}]
[2,"2 Children",null,{"$f":"$G$2*D107","v":{"$error":"#REF!"}},{"$error":"#REF!"},{"$error":"#REF!"},{"$error":"#REF!"},{"$error":"#REF!"}]
[3,"3+ Children",null,{"$f":"$G$2*D108","v":{"$error":"#REF!"}},{"$error":"#REF!"},{"$error":"#REF!"},{"$error":"#REF!"},{"$error":"#REF!"}]
[1,"Rider Comp. Maternidad",null,{"$f":"+D109*$G$2","v":0},0,137.06595000000002,137.06595000000002,137.06595000000002]
[1,"Transplante de organos",null,{"$f":"+D110*$G$2","v":0},0,0,0,0]
[]
[]
[]
[]
[]
["DIAMOND (LATINAMERICA ONLY)"]
["TARIFAS ANUALES"]
["EDAD"]
[" "," ","DL1","DL2","DL3","DL4","DL5","DL6"]
[18,"-  24"]
[25,"-  29"]
[30,"-  34"]
[35,"-  39"]
[40,"-  44"]
[45,"-  49"]
[50,"-  54"]
[55,"-  59"]
[60]
[61]
[62]
[63]
[64]
[65]
[66]
[67]
[68]
[69]
[70]
[71]
[72]
[73]
[74]
[75,"o más"]
[1,"Hijo"]
[2,"Hijos"]
[3,"Hijos o más"]
[1,"Rider Comp. Maternidad"]
[1,"Transplante de organos",0,0,0,0,0,0]
[]
["TARIFAS SEMESTRALES "]
["EDAD"]
[" "," ","DL1","DL2","DL3","DL4","DL5","DL6"]
[18,"-  24",{"$f":"+C155*$G$2","v":0},0,0,0,0,0]
[25,"-  29",0,0,0,0,0,0]
[30,"-  34",0,0,0,0,0,0]
[35,"-  39",0,0,0,0,0,0]
[40,"-  44",0,0,0,0,0,0]
[45,"-  49",0,0,0,0,0,0]
[50,"-  54",0,0,0,0,0,0]
[55,"-  59",0,0,0,0,0,0]
[60,null,0,0,0,0,0,0]
[61,null,0,0,0,0,0,0]
[62,null,{"$f":"+C165*$G$2","v":0},0,0,0,0,0]
[63,null,0,0,0,0,0,0]
[64,null,0,0,0,0,0,0]
[65,null,0,0,0,0,0,0]
[66,null,0,0,0,0,0,0]
[67,null,0,0,0,0,0,0]
[68,null,0,0,0,0,0,0]
[69,null,0,0,0,0,0,0]
[70,null,0,0,0,0,0,0]
[71,null,0,0,0,0,0,0]
[72,null,{"$f":"+C175*$G$2","v":0},0,0,0,0,0]
[73,null,0,0,0,0,0,0]
[74,null,0,0,0,0,0,0]
[75,"o más",0,0,0,0,0,0]
[1,"Hijo",0,0,0,0,0,0]
[2,"Hijos",0,0,0,0,0,0]
[3,"Hijos o más",0,0,0,0,0,0]
[1,"Rider Comp. Maternidad",0,0,0,0,0,0]
[1,"Transplante de organos",0,0,0,0,0,0]
[]
[]
[]
[]
["BUPA COMPLETE CARE (MUNDIAL)"]
["TARIFAS ANUALES"]
["EDAD"]
[" "," ","CW1","CW2","CW3","CW4","CW5","CW6"]
[18,"18-24",null,{"$f":"Q225*$V$2","v":{"$error":"#REF!"}},{"$f":"R225*$V$2","v":{"$error":"#REF!"}},{"$error":"#REF!"},{"$error":"#REF!"},{"$error":"#REF!"},null,null,{"$f":"Region!#REF!","v":{"$error":"#REF!"}},{"$f":"Region!#REF!","v":{"$error":"#REF!"}},{"$f":"Region!#REF!","v":{"$error":"#REF!"}},{"$f":"Region!#REF!","v":{"$error":"#REF!"}},{"$f":"Region!#REF!","v":{"$error":"#REF!"}},null,{"$f":"(K225-50)*$M$2+50","v":{"$error":"#REF!"}},{"$f":"(L225-50)*$M$2+50","v":{"$error":"#REF!"}},{"$error":"#REF!"},{"$error":"#REF!"},{"$error":"#REF!"}]
[25,"25-29",null,{"$f":"Q226*$V$2","v":{"$error":"#REF!"}},{"$f":"R226*$V$2","v":{"$error":"#REF!"}},{"$f":"S226*$V$2","v":{"$error":"#REF!"}},{"$f":"T226*$V$2","v":{"$error":"#REF!"}},{"$f":"U226*$V$2","v":{"$error":"#REF!"}},null,null,{"$f":"Region!#REF!","v":{"$error":"#REF!"}},{"$f":"Region!#REF!","v":{"$error":"#REF!"}},{"$f":"Region!#REF!","v":{"$error":"#REF!"}},{"$f":"Region!#REF!","v":{"$error":"#REF!"}},{"$f":"Region!#REF!","v":{"$error":"#REF!"}},null,{"$f":"(K226-50)*$M$2+50","v":{"$error":"#REF!"}},{"$f":"(L226-50)*$M$2+50","v":{"$error":"#REF!"}},{"$f":"(M226-50)*$M$2+50","v":{"$error":"#REF!"}},{"$f":"(N226-50)*$M$2+50","v":{"$error":"#REF!"}},{"$f":"(O226-50)*$M$2+50","v":{"$error":"#REF!"}}]
[30,"30-34",null,{"$error":"#REF!"},{"$error":"#REF!"},{"$error":"#REF!"},{"$error":"#REF!"},{"$error":"#REF!"},null,null,{"$f":"Region!#REF!","v":{"$error":"#REF!"}},{"$f":"Region!#REF!","v":{"$error":"#REF!"}},{"$f":"Region!#REF!","v":{"$error":"#REF!"}},{"$f":"Region!#REF!","v":{"$error":"#REF!"}},{"$f":"Region!#REF!","v":{"$error":"#REF!"}},null,{"$error":"#REF!"},{"$error":"#REF!"},{"$error":"#REF!"},{"$error":"#REF!"},{"$error":"#REF!"}]
[35,"35-39",null,{"$error":"#REF!"},{"$error":"#REF!"},{"$error":"#REF!"},{"$error":"#REF!"},{"$error":"#REF!"},null,null,{"$f":"Region!#REF!","v":{"$error":"#REF!"}},{"$f":"Region!#REF!","v":{"$error":"#REF!"}},{"$f":"Region!#REF!","v":{"$error":"#REF!"}},{"$f":"Region!#REF!","v":{"$error":"#REF!"}},{"$f":"Region!#REF!","v":{"$error":"#REF!"}},null,{"$error":"#REF!"},{"$error":"#REF!"},{"$error":"#REF!"},{"$error":"#REF!"},{"$error":"#REF!"}]
[40,"40-44",null,{"$error":"#REF!"},{"$error":"#REF!"},{"$error":"#REF!"},{"$error":"#REF!"},{"$error":"#REF!"},null,null,{"$f":"Region!#REF!","v":{"$error":"#REF!"}},{"$f":"Region!#REF!","v":{"$error":"#REF!"}},{"$f":"Region!#REF!","v":{"$error":"#REF!"}},{"$f":"Region!#REF!","v":{"$error":"#REF!"}},{"$f":"Region!#REF!","v":{"$error":"#REF!"}},null,{"$error":"#REF!"},{"$error":"#REF!"},{"$error":"#REF!"},{"$error":"#REF!"},{"$error":"#REF!"}]
[45,"45-49",null,{"$error":"#REF!"},{"$error":"#REF!"},{"$error":"#REF!"},{"$error":"#REF!"},{"$error":"#REF!"},null,null,{"$f":"Region!#REF!","v":{"$error":"#REF!"}},{"$f":"Region!#REF!","v":{"$error":"#REF!"}},{"$f":"Region!#REF!","v":{"$error":"#REF!"}},{"$f":"Region!#REF!","v":{"$error":"#REF!"}},{"$f":"Region!#REF!","v":{"$error":"#REF!"}},null,{"$error":"#REF!"},{"$error":"#REF!"},{"$error":"#REF!"},{"$error":"#REF!"},{"$error":"#REF!"}]
[50,"50-54",null,{"$error":"#REF!"},{"$error":"#REF!"},{"$error":"#REF!"},{"$error":"#REF!"},{"$error":"#REF!"},null,null,{"$f":"Region!#REF!","v":{"$error":"#REF!"}},{"$f":"Region!#REF!","v":{"$error":"#REF!"}},{"$f":"Region!#REF!","v":{"$error":"#REF!"}},{"$f":"Region!#REF!","v":{"$error":"#REF!"}},{"$f":"Region!#REF!","v":{"$error":"#REF!"}},null,{"$error":"#REF!"},{"$error":"#REF!"},{"$error":"#REF!"},{"$error":"#REF!"},{"$error":"#REF!"}]
[55,"55-59",null,{"$error":"#REF!"},{"$error":"#REF!"},{"$error":"#REF!"},{"$error":"#REF!"},{"$error":"#REF!"},null,null,{"$f":"Region!#REF!","v":{"$error":"#REF!"}},{"$f":"Region!#REF!","v":{"$error":"#REF!"}},{"$f":"Region!#REF!","v":{"$error":"#REF!"}},{"$f":"Region!#REF!","v":{"$error":"#REF!"}},{"$f":"Region!#REF!","v":{"$error":"#REF!"}},null,{"$error":"#REF!"},{"$error":"#REF!"},{"$error":"#REF!"},{"$error":"#REF!"},{"$error":"#REF!"}]
[60,"60",null,{"$error":"#REF!"},{"$error":"#REF!"},{"$error":"#REF!"},{"$error":"#REF!"},{"$error":"#REF!"},null,null,{"$f":"Region!#REF!","v":{"$error":"#REF!"}},{"$f":"Region!#REF!","v":{"$error":"#REF!"}},{"$f":"Region!#REF!","v":{"$error":"#REF!"}},{"$f":"Region!#REF!","v":{"$error":"#REF!"}},{"$f":"Region!#REF!","v":{"$error":"#REF!"}},null,{"$error":"#REF!"},{"$error":"#REF!"},{"$error":"#REF!"},{"$error":"#REF!"},{"$error":"#REF!"}]
[61,"61",null,{"$error":"#REF!"},{"$error":"#REF!"},{"$error":"#REF!"},{"$error":"#REF!"},{"$error":"#REF!"},null,null,{"$f":"Region!#REF!","v":{"$error":"#REF!"}},{"$f":"Region!#REF!","v":{"$error":"#REF!"}},{"$f":"Region!#REF!","v":{"$error":"#REF!"}},{"$f":"Region!#REF!","v":{"$error":"#REF!"}},{"$f":"Region!#REF!","v":{"$error":"#REF!"}},null,{"$error":"#REF!"},{"$error":"#REF!"},{"$error":"#REF!"},{"$error":"#REF!"},{"$error":"#REF!"}]
[62,"62",null,{"$error":"#REF!"},{"$error":"#REF!"},{"$error":"#REF!"},{"$error":"#REF!"},{"$error":"#REF!"},null,null,{"$f":"Region!#REF!","v":{"$error":"#REF!"}},{"$f":"Region!#REF!","v":{"$error":"#REF!"}},{"$f":"Region!#REF!","v":{"$error":"#REF!"}},{"$f":"Region!#REF!","v":{"$error":"#REF!"}},{"$f":"Region!#REF!","v":{"$error":"#REF!"}},null,{"$error":"#REF!"},{"$error":"#REF!"},{"$error":"#REF!"},{"$error":"#REF!"},{"$error":"#REF!"}]
[63,"63",null,{"$error":"#REF!"},{"$error":"#REF!"},{"$error":"#REF!"},{"$error":"#REF!"},{"$error":"#REF!"},null,null,{"$f":"Region!#REF!","v":{"$error":"#REF!"}},{"$f":"Region!#REF!","v":{"$error":"#REF!"}},{"$f":"Region!#REF!","v":{"$error":"#REF!"}},{"$f":"Region!#REF!","v":{"$error":"#REF!"}},{"$f":"Region!#REF!","v":{"$error":"#REF!"}},null,{"$error":"#REF!"},{"$error":"#REF!"},{"$error":"#REF!"},{"$error":"#REF!"},{"$error":"#REF!"}]
[64,"64",null,{"$error":"#REF!"},{"$error":"#REF!"},{"$error":"#REF!"},{"$error":"#REF!"},{"$error":"#REF!"},null,null,{"$f":"Region!#REF!","v":{"$error":"#REF!"}},{"$f":"Region!#REF!","v":{"$error":"#REF!"}},{"$f":"Region!#REF!","v":{"$error":"#REF!"}},{"$f":"Region!#REF!","v":{"$error":"#REF!"}},{"$f":"Region!#REF!","v":{"$error":"#REF!"}},null,{"$error":"#REF!"},{"$error":"#REF!"},{"$error":"#REF!"},{"$error":"#REF!"},{"$error":"#REF!"}]
[65,"65",null,{"$error":"#REF!"},{"$error":"#REF!"},{"$error":"#REF!"},{"$error":"#REF!"},{"$error":"#REF!"},null,null,{"$f":"Region!#REF!","v":{"$error":"#REF!"}},{"$f":"Region!#REF!","v":{"$error":"#REF!"}},{"$f":"Region!#REF!","v":{"$error":"#REF!"}},{"$f":"Region!#REF!","v":{"$error":"#REF!"}},{"$f":"Region!#REF!","v":{"$error":"#REF!"}},null,{"$error":"#REF!"},{"$error":"#REF!"},{"$error":"#REF!"},{"$error":"#REF!"},{"$error":"#REF!"}]
[66,"66",null,{"$error":"#REF!"},{"$error":"#REF!"},{"$error":"#REF!"},{"$error":"#REF!"},{"$error":"#REF!"},null,null,{"$f":"Region!#REF!","v":{"$error":"#REF!"}},{"$f":"Region!#REF!","v":{"$error":"#REF!"}},{"$f":"Region!#REF!","v":{"$error":"#REF!"}},{"$f":"Region!#REF!","v":{"$error":"#REF!"}},{"$f":"Region!#REF!","v":{"$error":"#REF!"}},null,{"$error":"#REF!"},{"$error":"#REF!"},{"$error":"#REF!"},{"$error":"#REF!"},{"$error":"#REF!"}]
[67,"67",null,{"$error":"#REF!"},{"$error":"#REF!"},{"$error":"#REF!"},{"$error":"#REF!"},{"$error":"#REF!"},null,null,{"$f":"Region!#REF!","v":{"$error":"#REF!"}},{"$f":"Region!#REF!","v":{"$error":"#REF!"}},{"$f":"Region!#REF!","v":{"$error":"#REF!"}},{"$f":"Region!#REF!","v":{"$error":"#REF!"}},{"$f":"Region!#REF!","v":{"$error":"#REF!"}},null,{"$error":"#REF!"},{"$error":"#REF!"},{"$error":"#REF!"},{"$error":"#REF!"},{"$error":"#REF!"}]
[68,"68",null,{"$error":"#REF!"},{"$error":"#REF!"},{"$error":"#REF!"},{"$error":"#REF!"},{"$error":"#REF!"},null,null,{"$f":"Region!#REF!","v":{"$error":"#REF!"}},{"$f":"Region!#REF!","v":{"$error":"#REF!"}},{"$f":"Region!#REF!","v":{"$error":"#REF!"}},{"$f":"Region!#REF!","v":{"$error":"#REF!"}},{"$f":"Region!#REF!","v":{"$error":"#REF!"}},null,{"$error":"#REF!"},{"$error":"#REF!"},{"$error":"#REF!"},{"$error":"#REF!"},{"$error":"#REF!"}]
[69,"69",null,{"$error":"#REF!"},{"$error":"#REF!"},{"$error":"#REF!"},{"$error":"#REF!"},{"$error":"#REF!"},null,null,{"$f":"Region!#REF!","v":{"$error":"#REF!"}},{"$f":"Region!#REF!","v":{"$error":"#REF!"}},{"$f":"Region!#REF!","v":{"$error":"#REF!"}},{"$f":"Region!#REF!","v":{"$error":"#REF!"}},{"$f":"Region!#REF!","v":{"$error":"#REF!"}},null,{"$error":"#REF!"},{"$error":"#REF!"},{"$error":"#REF!"},{"$error":"#REF!"},{"$error":"#REF!"}]
[70,"70",null,{"$error":"#REF!"},{"$error":"#REF!"},{"$error":"#REF!"},{"$error":"#REF!"},{"$error":"#REF!"},null,null,{"$f":"Region!#REF!","v":{"$error":"#REF!"}},{"$f":"Region!#REF!","v":{"$error":"#REF!"}},{"$f":"Region!#REF!","v":{"$error":"#REF!"}},{"$f":"Region!#REF!","v":{"$error":"#REF!"}},{"$f":"Region!#REF!","v":{"$error":"#REF!"}},null,{"$error":"#REF!"},{"$error":"#REF!"},{"$error":"#REF!"},{"$error":"#REF!"},{"$error":"#REF!"}]
[71,"71",null,{"$error":"#REF!"},{"$error":"#REF!"},{"$error":"#REF!"},{"$error":"#REF!"},{"$error":"#REF!"},null,null,{"$f":"Region!#REF!","v":{"$error":"#REF!"}},{"$f":"Region!#REF!","v":{"$error":"#REF!"}},{"$f":"Region!#REF!","v":{"$error":"#REF!"}},{"$f":"Region!#REF!","v":{"$error":"#REF!"}},{"$f":"Region!#REF!","v":{"$error":"#REF!"}},null,{"$error":"#REF!"},{"$error":"#REF!"},{"$error":"#REF!"},{"$error":"#REF!"},{"$error":"#REF!"}]
[72,"72",null,{"$error":"#REF!"},{"$error":"#REF!"},{"$error":"#REF!"},{"$error":"#REF!"},{"$error":"#REF!"},null,null,{"$f":"Region!#REF!","v":{"$error":"#REF!"}},{"$f":"Region!#REF!","v":{"$error":"#REF!"}},{"$f":"Region!#REF!","v":{"$error":"#REF!"}},{"$f":"Region!#REF!","v":{"$error":"#REF!"}},{"$f":"Region!#REF!","v":{"$error":"#REF!"}},null,{"$error":"#REF!"},{"$error":"#REF!"},{"$error":"#REF!"},{"$error":"#REF!"},{"$error":"#REF!"}]
[73,"73",null,{"$error":"#REF!"},{"$error":"#REF!"},{"$error":"#REF!"},{"$error":"#REF!"},{"$error":"#REF!"},null,null,{"$f":"Region!#REF!","v":{"$error":"#REF!"}},{"$f":"Region!#REF!","v":{"$error":"#REF!"}},{"$f":"Region!#REF!","v":{"$error":"#REF!"}},{"$f":"Region!#REF!","v":{"$error":"#REF!"}},{"$f":"Region!#REF!","v":{"$error":"#REF!"}},null,{"$error":"#REF!"},{"$error":"#REF!"},{"$error":"#REF!"},{"$error":"#REF!"},{"$error":"#REF!"}]
[74,"74",null,{"$error":"#REF!"},{"$error":"#REF!"},{"$error":"#REF!"},{"$error":"#REF!"},{"$error":"#REF!"},null,null,{"$f":"Region!#REF!","v":{"$error":"#REF!"}},{"$f":"Region!#REF!","v":{"$error":"#REF!"}},{"$f":"Region!#REF!","v":{"$error":"#REF!"}},{"$f":"Region!#REF!","v":{"$error":"#REF!"}},{"$f":"Region!#REF!","v":{"$error":"#REF!"}},null,{"$error":"#REF!"},{"$error":"#REF!"},{"$error":"#REF!"},{"$error":"#REF!"},{"$error":"#REF!"}]
[75,"75+",null,{"$error":"#REF!"},{"$error":"#REF!"},{"$error":"#REF!"},{"$error":"#REF!"},{"$error":"#REF!"},null,null,{"$f":"Region!#REF!","v":{"$error":"#REF!"}},{"$f":"Region!#REF!","v":{"$error":"#REF!"}},{"$f":"Region!#REF!","v":{"$error":"#REF!"}},{"$f":"Region!#REF!","v":{"$error":"#REF!"}},{"$f":"Region!#REF!","v":{"$error":"#REF!"}},null,{"$error":"#REF!"},{"$error":"#REF!"},{"$error":"#REF!"},{"$error":"#REF!"},{"$error":"#REF!"}]
[1,"1 Child",null,{"$error":"#REF!"},{"$error":"#REF!"},{"$error":"#REF!"},{"$error":"#REF!"},{"$error":"#REF!"},null,null,{"$f":"Region!#REF!","v":{"$error":"#REF!"}},{"$f":"Region!#REF!","v":{"$error":"#REF!"}},{"$f":"Region!#REF!","v":{"$error":"#REF!"}},{"$f":"Region!#REF!","v":{"$error":"#REF!"}},{"$f":"Region!#REF!","v":{"$error":"#REF!"}},null,{"$f":"(K249)*$M$2","v":{"$error":"#REF!"}},{"$f":"(L249)*$M$2","v":{"$error":"#REF!"}},{"$error":"#REF!"},{"$error":"#REF!"},{"$error":"#REF!"}]
[2,"2 Children",null,{"$error":"#REF!"},{"$error":"#REF!"},{"$error":"#REF!"},{"$error":"#REF!"},{"$error":"#REF!"},null,null,{"$f":"Region!#REF!","v":{"$error":"#REF!"}},{"$f":"Region!#REF!","v":{"$error":"#REF!"}},{"$f":"Region!#REF!","v":{"$error":"#REF!"}},{"$f":"Region!#REF!","v":{"$error":"#REF!"}},{"$f":"Region!#REF!","v":{"$error":"#REF!"}},null,{"$f":"(K250)*$M$2","v":{"$error":"#REF!"}},{"$f":"(L250)*$M$2","v":{"$error":"#REF!"}},{"$f":"(M250)*$M$2","v":{"$error":"#REF!"}},{"$f":"(N250)*$M$2","v":{"$error":"#REF!"}},{"$f":"(O250)*$M$2","v":{"$error":"#REF!"}}]
[3,"3+ Children",null,{"$error":"#REF!"},{"$error":"#REF!"},{"$error":"#REF!"},{"$error":"#REF!"},{"$error":"#REF!"},null,null,{"$f":"Region!#REF!","v":{"$error":"#REF!"}},{"$f":"Region!#REF!","v":{"$error":"#REF!"}},{"$f":"Region!#REF!","v":{"$error":"#REF!"}},{"$f":"Region!#REF!","v":{"$error":"#REF!"}},{"$f":"Region!#REF!","v":{"$error":"#REF!"}},null,{"$error":"#REF!"},{"$error":"#REF!"},{"$error":"#REF!"},{"$error":"#REF!"},{"$error":"#REF!"}]
[1,"Rider Comp. Maternidad",null,{"$f":"K252*$V$2","v":0},{"$f":"L252*$V$2","v":0},258.61500000000001,258.61500000000001,258.61500000000001,null,null,0,0,225,225,225]
[1,"Transplante de organos",null,{"$f":"K253*$V$2","v":0},{"$f":"L253*$V$2","v":0},{"$f":"M253*$V$2","v":0},{"$f":"N253*$V$2","v":0},{"$f":"O253*$V$2","v":0},null,null,0,0,0,0,0]
[null,null,null,0,0,0,0,0]
[]
[]
["TARIFAS SEMESTRALES "]
["EDAD"]
[" "," ",null,"CW2","CW3","CW4","CW5","CW6"]
[18,"18-24",null,{"$f":"$G$2*D225","v":{"$error":"#REF!"}},{"$error":"#REF!"},{"$error":"#REF!"},{"$error":"#REF!"},{"$error":"#REF!"}]
[25,"25-29",null,{"$error":"#REF!"},{"$error":"#REF!"},{"$error":"#REF!"},{"$error":"#REF!"},{"$error":"#REF!"}]
[30,"30-34",null,{"$error":"#REF!"},{"$error":"#REF!"},{"$error":"#REF!"},{"$error":"#REF!"},{"$error":"#REF!"}]
[35,"35-39",null,{"$error":"#REF!"},{"$error":"#REF!"},{"$error":"#REF!"},{"$error":"#REF!"},{"$error":"#REF!"}]
[40,"40-44",null,{"$error":"#REF!"},{"$error":"#REF!"},{"$error":"#REF!"},{"$error":"#REF!"},{"$error":"#REF!"}]
[45,"45-49",null,{"$error":"#REF!"},{"$error":"#REF!"},{"$error":"#REF!"},{"$error":"#REF!"},{"$error":"#REF!"}]
[50,"50-54",null,{"$error":"#REF!"},{"$error":"#REF!"},{"$error":"#REF!"},{"$error":"#REF!"},{"$error":"#REF!"}]
[55,"55-59",null,{"$error":"#REF!"},{"$error":"#REF!"},{"$error":"#REF!"},{"$error":"#REF!"},{"$error":"#REF!"}]
[60,"60",null,{"$error":"#REF!"},{"$error":"#REF!"},{"$error":"#REF!"},{"$error":"#REF!"},{"$error":"#REF!"}]
[61,"61",null,{"$error":"#REF!"},{"$error":"#REF!"},{"$error":"#REF!"},{"$error":"#REF!"},{"$error":"#REF!"}]
[62,"62",null,{"$f":"$G$2*D235","v":{"$error":"#REF!"}},{"$error":"#REF!"},{"$error":"#REF!"},{"$error":"#REF!"},{"$error":"#REF!"}]
[63,"63",null,{"$error":"#REF!"},{"$error":"#REF!"},{"$error":"#REF!"},{"$error":"#REF!"},{"$error":"#REF!"}]
[64,"64",null,{"$error":"#REF!"},{"$error":"#REF!"},{"$error":"#REF!"},{"$error":"#REF!"},{"$error":"#REF!"}]
[65,"65",null,{"$error":"#REF!"},{"$error":"#REF!"},{"$error":"#REF!"},{"$error":"#REF!"},{"$error":"#REF!"}]
[66,"66",null,{"$error":"#REF!"},{"$error":"#REF!"},{"$error":"#REF!"},{"$error":"#REF!"},{"$error":"#REF!"}]
[67,"67",null,{"$error":"#REF!"},{"$error":"#REF!"},{"$error":"#REF!"},{"$error":"#REF!"},{"$error":"#REF!"}]
[68,"68",null,{"$error":"#REF!"},{"$error":"#REF!"},{"$error":"#REF!"},{"$error":"#REF!"},{"$error":"#REF!"}]
[69,"69",null,{"$error":"#REF!"},{"$error":"#REF!"},{"$error":"#REF!"},{"$error":"#REF!"},{"$error":"#REF!"}]
[70,"70",null,{"$error":"#REF!"},{"$error":"#REF!"},{"$error":"#REF!"},{"$error":"#REF!"},{"$error":"#REF!"}]
[71,"71",null,{"$error":"#REF!"},{"$error":"#REF!"},{"$error":"#REF!"},{"$error":"#REF!"},{"$error":"#REF!"}]
[72,"72",null,{"$f":"$G$2*D245","v":{"$error":"#REF!"}},{"$error":"#REF!"},{"$error":"#REF!"},{"$error":"#REF!"},{"$error":"#REF!"}]
[73,"73",null,{"$error":"#REF!"},{"$error":"#REF!"},{"$error":"#REF!"},{"$error":"#REF!"},{"$error":"#REF!"}]
[74,"74",null,{"$error":"#REF!"},{"$error":"#REF!"},{"$error":"#REF!"},{"$error":"#REF!"},{"$error":"#REF!"}]
[75,"75+",null,{"$error":"#REF!"},{"$error":"#REF!"},{"$error":"#REF!"},{"$error":"#REF!"},{"$error":"#REF!"}]
[1,"1 Child",null,{"$error":"#REF!"},{"$error":"#REF!"},{"$error":"#REF!"},{"$error":"#REF!"},{"$error":"#REF!"}]
[2,"2 Children",null,{"$error":"#REF!"},{"$error":"#REF!"},{"$error":"#REF!"},{"$error":"#REF!"},{"$error":"#REF!"}]
[3,"3+ Children",null,{"$error":"#REF!"},{"$error":"#REF!"},{"$error":"#REF!"},{"$error":"#REF!"},{"$error":"#REF!"}]
[1,"Rider Comp. Maternidad",null,{"$f":"+D252*$G$2","v":0},0,137.06595000000002,137.06595000000002,137.06595000000002]
[1,"Transplante de organos",null,0,0,0,0,0]
[]
[]
[]
["BUPA COMPLETE CARE (LATIN AMERICA)"]
["TARIFAS ANUALES"]
["EDAD"]
[" "," ","CW1","CW2","CW3","CW4","CW5","CW6"]
[18,"18-24",null,{"$f":"Q296*$V$2","v":{"$error":"#REF!"}},{"$f":"R296*$V$2","v":{"$error":"#REF!"}},{"$error":"#REF!"},{"$error":"#REF!"},{"$error":"#REF!"},null,null,{"$f":"Region!#REF!","v":{"$error":"#REF!"}},{"$f":"Region!#REF!","v":{"$error":"#REF!"}},{"$f":"Region!#REF!","v":{"$error":"#REF!"}},{"$f":"Region!#REF!","v":{"$error":"#REF!"}},{"$f":"Region!#REF!","v":{"$error":"#REF!"}},null,{"$f":"(K296-50)*$M$2+50","v":{"$error":"#REF!"}},{"$f":"(L296-50)*$M$2+50","v":{"$error":"#REF!"}},{"$f":"(M296-50)*$M$2+50","v":{"$error":"#REF!"}},{"$f":"(N296-50)*$M$2+50","v":{"$error":"#REF!"}},{"$f":"(O296-50)*$M$2+50","v":{"$error":"#REF!"}}]
[25,"25-29",null,{"$f":"Q297*$V$2","v":{"$error":"#REF!"}},{"$f":"R297*$V$2","v":{"$error":"#REF!"}},{"$f":"S297*$V$2","v":{"$error":"#REF!"}},{"$f":"T297*$V$2","v":{"$error":"#REF!"}},{"$f":"U297*$V$2","v":{"$error":"#REF!"}},null,null,{"$f":"Region!#REF!","v":{"$error":"#REF!"}},{"$f":"Region!#REF!","v":{"$error":"#REF!"}},{"$f":"Region!#REF!","v":{"$error":"#REF!"}},{"$f":"Region!#REF!","v":{"$error":"#REF!"}},{"$f":"Region!#REF!","v":{"$error":"#REF!"}},null,{"$f":"(K297-50)*$M$2+50","v":{"$error":"#REF!"}},{"$error":"#REF!"},{"$error":"#REF!"},{"$error":"#REF!"},{"$error":"#REF!"}]
[30,"30-34",null,{"$error":"#REF!"},{"$error":"#REF!"},{"$error":"#REF!"},{"$error":"#REF!"},{"$error":"#REF!"},null,null,{"$f":"Region!#REF!","v":{"$error":"#REF!"}},{"$f":"Region!#REF!","v":{"$error":"#REF!"}},{"$f":"Region!#REF!","v":{"$error":"#REF!"}},{"$f":"Region!#REF!","v":{"$error":"#REF!"}},{"$f":"Region!#REF!","v":{"$error":"#REF!"}},null,{"$error":"#REF!"},{"$error":"#REF!"},{"$error":"#REF!"},{"$error":"#REF!"},{"$error":"#REF!"}]
[35,"35-39",null,{"$error":"#REF!"},{"$error":"#REF!"},{"$error":"#REF!"},{"$error":"#REF!"},{"$error":"#REF!"},null,null,{"$f":"Region!#REF!","v":{"$error":"#REF!"}},{"$f":"Region!#REF!","v":{"$error":"#REF!"}},{"$f":"Region!#REF!","v":{"$error":"#REF!"}},{"$f":"Region!#REF!","v":{"$error":"#REF!"}},{"$f":"Region!#REF!","v":{"$error":"#REF!"}},null,{"$error":"#REF!"},{"$error":"#REF!"},{"$error":"#REF!"},{"$error":"#REF!"},{"$error":"#REF!"}]
[40,"40-44",null,{"$error":"#REF!"},{"$error":"#REF!"},{"$error":"#REF!"},{"$error":"#REF!"},{"$error":"#REF!"},null,null,{"$f":"Region!#REF!","v":{"$error":"#REF!"}},{"$f":"Region!#REF!","v":{"$error":"#REF!"}},{"$f":"Region!#REF!","v":{"$error":"#REF!"}},{"$f":"Region!#REF!","v":{"$error":"#REF!"}},{"$f":"Region!#REF!","v":{"$error":"#REF!"}},null,{"$error":"#REF!"},{"$error":"#REF!"},{"$error":"#REF!"},{"$error":"#REF!"},{"$error":"#REF!"}]
[45,"45-49",null,{"$error":"#REF!"},{"$error":"#REF!"},{"$error":"#REF!"},{"$error":"#REF!"},{"$error":"#REF!"},null,null,{"$f":"Region!#REF!","v":{"$error":"#REF!"}},{"$f":"Region!#REF!","v":{"$error":"#REF!"}},{"$f":"Region!#REF!","v":{"$error":"#REF!"}},{"$f":"Region!#REF!","v":{"$error":"#REF!"}},{"$f":"Region!#REF!","v":{"$error":"#REF!"}},null,{"$error":"#REF!"},{"$error":"#REF!"},{"$error":"#REF!"},{"$error":"#REF!"},{"$error":"#REF!"}]
[50,"50-54",null,{"$error":"#REF!"},{"$error":"#REF!"},{"$error":"#REF!"},{"$error":"#REF!"},{"$error":"#REF!"},null,null,{"$f":"Region!#REF!","v":{"$error":"#REF!"}},{"$f":"Region!#REF!","v":{"$error":"#REF!"}},{"$f":"Region!#REF!","v":{"$error":"#REF!"}},{"$f":"Region!#REF!","v":{"$error":"#REF!"}},{"$f":"Region!#REF!","v":{"$error":"#REF!"}},null,{"$error":"#REF!"},{"$error":"#REF!"},{"$error":"#REF!"},{"$error":"#REF!"},{"$error":"#REF!"}]
[55,"55-59",null,{"$error":"#REF!"},{"$error":"#REF!"},{"$error":"#REF!"},{"$error":"#REF!"},{"$error":"#REF!"},null,null,{"$f":"Region!#REF!","v":{"$error":"#REF!"}},{"$f":"Region!#REF!","v":{"$error":"#REF!"}},{"$f":"Region!#REF!","v":{"$error":"#REF!"}},{"$f":"Region!#REF!","v":{"$error":"#REF!"}},{"$f":"Region!#REF!","v":{"$error":"#REF!"}},null,{"$error":"#REF!"},{"$error":"#REF!"},{"$error":"#REF!"},{"$error":"#REF!"},{"$error":"#REF!"}]
[60,"60",null,{"$error":"#REF!"},{"$error":"#REF!"},{"$error":"#REF!"},{"$error":"#REF!"},{"$error":"#REF!"},null,null,{"$f":"Region!#REF!","v":{"$error":"#REF!"}},{"$f":"Region!#REF!","v":{"$error":"#REF!"}},{"$f":"Region!#REF!","v":{"$error":"#REF!"}},{"$f":"Region!#REF!","v":{"$error":"#REF!"}},{"$f":"Region!#REF!","v":{"$error":"#REF!"}},null,{"$error":"#REF!"},{"$error":"#REF!"},{"$error":"#REF!"},{"$error":"#REF!"},{"$error":"#REF!"}]
[61,"61",null,{"$error":"#REF!"},{"$error":"#REF!"},{"$error":"#REF!"},{"$error":"#REF!"},{"$error":"#REF!"},null,null,{"$f":"Region!#REF!","v":{"$error":"#REF!"}},{"$f":"Region!#REF!","v":{"$error":"#REF!"}},{"$f":"Region!#REF!","v":{"$error":"#REF!"}},{"$f":"Region!#REF!","v":{"$error":"#REF!"}},{"$f":"Region!#REF!","v":{"$error":"#REF!"}},null,{"$error":"#REF!"},{"$error":"#REF!"},{"$error":"#REF!"},{"$error":"#REF!"},{"$error":"#REF!"}]
[62,"62",null,{"$error":"#REF!"},{"$error":"#REF!"},{"$error":"#REF!"},{"$error":"#REF!"},{"$error":"#REF!"},null,null,{"$f":"Region!#REF!","v":{"$error":"#REF!"}},{"$f":"Region!#REF!","v":{"$error":"#REF!"}},{"$f":"Region!#REF!","v":{"$error":"#REF!"}},{"$f":"Region!#REF!","v":{"$error":"#REF!"}},{"$f":"Region!#REF!","v":{"$error":"#REF!"}},null,{"$error":"#REF!"},{"$error":"#REF!"},{"$error":"#REF!"},{"$error":"#REF!"},{"$error":"#REF!"}]
[63,"63",null,{"$error":"#REF!"},{"$error":"#REF!"},{"$error":"#REF!"},{"$error":"#REF!"},{"$error":"#REF!"},null,null,{"$f":"Region!#REF!","v":{"$error":"#REF!"}},{"$f":"Region!#REF!","v":{"$error":"#REF!"}},{"$f":"Region!#REF!","v":{"$error":"#REF!"}},{"$f":"Region!#REF!","v":{"$error":"#REF!"}},{"$f":"Region!#REF!","v":{"$error":"#REF!"}},null,{"$error":"#REF!"},{"$error":"#REF!"},{"$error":"#REF!"},{"$error":"#REF!"},{"$error":"#REF!"}]
[64,"64",null,{"$error":"#REF!"},{"$error":"#REF!"},{"$error":"#REF!"},{"$error":"#REF!"},{"$error":"#REF!"},null,null,{"$f":"Region!#REF!","v":{"$error":"#REF!"}},{"$f":"Region!#REF!","v":{"$error":"#REF!"}},{"$f":"Region!#REF!","v":{"$error":"#REF!"}},{"$f":"Region!#REF!","v":{"$error":"#REF!"}},{"$f":"Region!#REF!","v":{"$error":"#REF!"}},null,{"$error":"#REF!"},{"$error":"#REF!"},{"$error":"#REF!"},{"$error":"#REF!"},{"$error":"#REF!"}]
[65,"65",null,{"$error":"#REF!"},{"$error":"#REF!"},{"$error":"#REF!"},{"$error":"#REF!"},{"$error":"#REF!"},null,null,{"$f":"Region!#REF!","v":{"$error":"#REF!"}},{"$f":"Region!#REF!","v":{"$error":"#REF!"}},{"$f":"Region!#REF!","v":{"$error":"#REF!"}},{"$f":"Region!#REF!","v":{"$error":"#REF!"}},{"$f":"Region!#REF!","v":{"$error":"#REF!"}},null,{"$error":"#REF!"},{"$error":"#REF!"},{"$error":"#REF!"},{"$error":"#REF!"},{"$error":"#REF!"}]
[66,"66",null,{"$error":"#REF!"},{"$error":"#REF!"},{"$error":"#REF!"},{"$error":"#REF!"},{"$error":"#REF!"},null,null,{"$f":"Region!#REF!","v":{"$error":"#REF!"}},{"$f":"Region!#REF!","v":{"$error":"#REF!"}},{"$f":"Region!#REF!","v":{"$error":"#REF!"}},{"$f":"Region!#REF!","v":{"$error":"#REF!"}},{"$f":"Region!#REF!","v":{"$error":"#REF!"}},null,{"$error":"#REF!"},{"$error":"#REF!"},{"$error":"#REF!"},{"$error":"#REF!"},{"$error":"#REF!"}]
[67,"67",null,{"$error":"#REF!"},{"$error":"#REF!"},{"$error":"#REF!"},{"$error":"#REF!"},{"$error":"#REF!"},null,null,{"$f":"Region!#REF!","v":{"$error":"#REF!"}},{"$f":"Region!#REF!","v":{"$error":"#REF!"}},{"$f":"Region!#REF!","v":{"$error":"#REF!"}},{"$f":"Region!#REF!","v":{"$error":"#REF!"}},{"$f":"Region!#REF!","v":{"$error":"#REF!"}},null,{"$error":"#REF!"},{"$error":"#REF!"},{"$error":"#REF!"},{"$error":"#REF!"},{"$error":"#REF!"}]
[68,"68",null,{"$error":"#REF!"},{"$error":"#REF!"},{"$error":"#REF!"},{"$error":"#REF!"},{"$error":"#REF!"},null,null,{"$f":"Region!#REF!","v":{"$error":"#REF!"}},{"$f":"Region!#REF!","v":{"$error":"#REF!"}},{"$f":"Region!#REF!","v":{"$error":"#REF!"}},{"$f":"Region!#REF!","v":{"$error":"#REF!"}},{"$f":"Region!#REF!","v":{"$error":"#REF!"}},null,{"$error":"#REF!"},{"$error":"#REF!"},{"$error":"#REF!"},{"$error":"#REF!"},{"$error":"#REF!"}]
[69,"69",null,{"$error":"#REF!"},{"$error":"#REF!"},{"$error":"#REF!"},{"$error":"#REF!"},{"$error":"#REF!"},null,null,{"$f":"Region!#REF!","v":{"$error":"#REF!"}},{"$f":"Region!#REF!","v":{"$error":"#REF!"}},{"$f":"Region!#REF!","v":{"$error":"#REF!"}},{"$f":"Region!#REF!","v":{"$error":"#REF!"}},{"$f":"Region!#REF!","v":{"$error":"#REF!"}},null,{"$error":"#REF!"},{"$error":"#REF!"},{"$error":"#REF!"},{"$error":"#REF!"},{"$error":"#REF!"}]
[70,"70",null,{"$error":"#REF!"},{"$error":"#REF!"},{"$error":"#REF!"},{"$error":"#REF!"},{"$error":"#REF!"},null,null,{"$f":"Region!#REF!","v":{"$error":"#REF!"}},{"$f":"Region!#REF!","v":{"$error":"#REF!"}},{"$f":"Region!#REF!","v":{"$error":"#REF!"}},{"$f":"Region!#REF!","v":{"$error":"#REF!"}},{"$f":"Region!#REF!","v":{"$error":"#REF!"}},null,{"$error":"#REF!"},{"$error":"#REF!"},{"$error":"#REF!"},{"$error":"#REF!"},{"$error":"#REF!"}]
[71,"71",null,{"$error":"#REF!"},{"$error":"#REF!"},{"$error":"#REF!"},{"$error":"#REF!"},{"$error":"#REF!"},null,null,{"$f":"Region!#REF!","v":{"$error":"#REF!"}},{"$f":"Region!#REF!","v":{"$error":"#REF!"}},{"$f":"Region!#REF!","v":{"$error":"#REF!"}},{"$f":"Region!#REF!","v":{"$error":"#REF!"}},{"$f":"Region!#REF!","v":{"$error":"#REF!"}},null,{"$error":"#REF!"},{"$error":"#REF!"},{"$error":"#REF!"},{"$error":"#REF!"},{"$error":"#REF!"}]
[72,"72",null,{"$error":"#REF!"},{"$error":"#REF!"},{"$error":"#REF!"},{"$error":"#REF!"},{"$error":"#REF!"},null,null,{"$f":"Region!#REF!","v":{"$error":"#REF!"}},{"$f":"Region!#REF!","v":{"$error":"#REF!"}},{"$f":"Region!#REF!","v":{"$error":"#REF!"}},{"$f":"Region!#REF!","v":{"$error":"#REF!"}},{"$f":"Region!#REF!","v":{"$error":"#REF!"}},null,{"$error":"#REF!"},{"$error":"#REF!"},{"$error":"#REF!"},{"$error":"#REF!"},{"$error":"#REF!"}]
[73,"73",null,{"$error":"#REF!"},{"$error":"#REF!"},{"$error":"#REF!"},{"$error":"#REF!"},{"$error":"#REF!"},null,null,{"$f":"Region!#REF!","v":{"$error":"#REF!"}},{"$f":"Region!#REF!","v":{"$error":"#REF!"}},{"$f":"Region!#REF!","v":{"$error":"#REF!"}},{"$f":"Region!#REF!","v":{"$error":"#REF!"}},{"$f":"Region!#REF!","v":{"$error":"#REF!"}},null,{"$error":"#REF!"},{"$error":"#REF!"},{"$error":"#REF!"},{"$error":"#REF!"},{"$error":"#REF!"}]
[74,"74",null,{"$error":"#REF!"},{"$error":"#REF!"},{"$error":"#REF!"},{"$error":"#REF!"},{"$error":"#REF!"},null,null,{"$f":"Region!#REF!","v":{"$error":"#REF!"}},{"$f":"Region!#REF!","v":{"$error":"#REF!"}},{"$f":"Region!#REF!","v":{"$error":"#REF!"}},{"$f":"Region!#REF!","v":{"$error":"#REF!"}},{"$f":"Region!#REF!","v":{"$error":"#REF!"}},null,{"$error":"#REF!"},{"$error":"#REF!"},{"$error":"#REF!"},{"$error":"#REF!"},{"$error":"#REF!"}]
[75,"75+",null,{"$error":"#REF!"},{"$error":"#REF!"},{"$error":"#REF!"},{"$error":"#REF!"},{"$error":"#REF!"},null,null,{"$f":"Region!#REF!","v":{"$error":"#REF!"}},{"$f":"Region!#REF!","v":{"$error":"#REF!"}},{"$f":"Region!#REF!","v":{"$error":"#REF!"}},{"$f":"Region!#REF!","v":{"$error":"#REF!"}},{"$f":"Region!#REF!","v":{"$error":"#REF!"}},null,{"$error":"#REF!"},{"$error":"#REF!"},{"$error":"#REF!"},{"$error":"#REF!"},{"$error":"#REF!"}]
[1,"1 Child",null,{"$error":"#REF!"},{"$error":"#REF!"},{"$error":"#REF!"},{"$error":"#REF!"},{"$error":"#REF!"},null,null,{"$f":"Region!#REF!","v":{"$error":"#REF!"}},{"$f":"Region!#REF!","v":{"$error":"#REF!"}},{"$f":"Region!#REF!","v":{"$error":"#REF!"}},{"$f":"Region!#REF!","v":{"$error":"#REF!"}},{"$f":"Region!#REF!","v":{"$error":"#REF!"}},null,{"$f":"(K320)*$M$2","v":{"$error":"#REF!"}},{"$f":"(L320)*$M$2","v":{"$error":"#REF!"}},{"$f":"(M320)*$M$2","v":{"$error":"#REF!"}},{"$f":"(N320)*$M$2","v":{"$error":"#REF!"}},{"$f":"(O320)*$M$2","v":{"$error":"#REF!"}}]
[2,"2 Children",null,{"$error":"#REF!"},{"$error":"#REF!"},{"$error":"#REF!"},{"$error":"#REF!"},{"$error":"#REF!"},null,null,{"$f":"Region!#REF!","v":{"$error":"#REF!"}},{"$f":"Region!#REF!","v":{"$error":"#REF!"}},{"$f":"Region!#REF!","v":{"$error":"#REF!"}},{"$f":"Region!#REF!","v":{"$error":"#REF!"}},{"$f":"Region!#REF!","v":{"$error":"#REF!"}},null,{"$f":"(K321)*$M$2","v":{"$error":"#REF!"}},{"$error":"#REF!"},{"$error":"#REF!"},{"$error":"#REF!"},{"$error":"#REF!"}]
[3,"3+ Children",null,{"$error":"#REF!"},{"$error":"#REF!"},{"$error":"#REF!"},{"$error":"#REF!"},{"$error":"#REF!"},null,null,{"$f":"Region!#REF!","v":{"$error":"#REF!"}},{"$f":"Region!#REF!","v":{"$error":"#REF!"}},{"$f":"Region!#REF!","v":{"$error":"#REF!"}},{"$f":"Region!#REF!","v":{"$error":"#REF!"}},{"$f":"Region!#REF!","v":{"$error":"#REF!"}},null,{"$error":"#REF!"},{"$error":"#REF!"},{"$error":"#REF!"},{"$error":"#REF!"},{"$error":"#REF!"}]
[1,"Rider Comp. Maternidad",null,{"$f":"K323*$V$2","v":0},{"$f":"L323*$V$2","v":0},258.61500000000001,258.61500000000001,258.61500000000001,null,null,0,0,225,225,225]
[1,"Transplante de organos",null,{"$f":"K324*$V$2","v":0},{"$f":"L324*$V$2","v":0},{"$f":"M324*$V$2","v":0},{"$f":"N324*$V$2","v":0},{"$f":"O324*$V$2","v":0},null,null,0,0,0,0,0]
[null,null,null,0,0,0,0,0]
[]
[]
["TARIFAS SEMESTRALES "]
["EDAD"]
[" "," ",null,"CW2","CW3","CW4","CW5","CW6"]
[18,"18-24",null,{"$f":"$G$2*D296","v":{"$error":"#REF!"}},{"$error":"#REF!"},{"$error":"#REF!"},{"$error":"#REF!"},{"$error":"#REF!"}]
[25,"25-29",null,{"$f":"$G$2*D297","v":{"$error":"#REF!"}},{"$error":"#REF!"},{"$error":"#REF!"},{"$error":"#REF!"},{"$error":"#REF!"}]
[30,"30-34",null,{"$f":"$G$2*D298","v":{"$error":"#REF!"}},{"$error":"#REF!"},{"$error":"#REF!"},{"$error":"#REF!"},{"$error":"#REF!"}]
[35,"35-39",null,{"$f":"$G$2*D299","v":{"$error":"#REF!"}},{"$error":"#REF!"},{"$error":"#REF!"},{"$error":"#REF!"},{"$error":"#REF!"}]
[40,"40-44",null,{"$f":"$G$2*D300","v":{"$error":"#REF!"}},{"$error":"#REF!"},{"$error":"#REF!"},{"$error":"#REF!"},{"$error":"#REF!"}]
[45,"45-49",null,{"$f":"$G$2*D301","v":{"$error":"#REF!"}},{"$error":"#REF!"},{"$error":"#REF!"},{"$error":"#REF!"},{"$error":"#REF!"}]
[50,"50-54",null,{"$f":"$G$2*D302","v":{"$error":"#REF!"}},{"$error":"#REF!"},{"$error":"#REF!"},{"$error":"#REF!"},{"$error":"#REF!"}]
[55,"55-59",null,{"$f":"$G$2*D303","v":{"$error":"#REF!"}},{"$error":"#REF!"},{"$error":"#REF!"},{"$error":"#REF!"},{"$error":"#REF!"}]
[60,"60",null,{"$f":"$G$2*D304","v":{"$error":"#REF!"}},{"$error":"#REF!"},{"$error":"#REF!"},{"$error":"#REF!"},{"$error":"#REF!"}]
[61,"61",null,{"$f":"$G$2*D305","v":{"$error":"#REF!"}},{"$error":"#REF!"},{"$error":"#REF!"},{"$error":"#REF!"},{"$error":"#REF!"}]
[62,"62",null,{"$f":"$G$2*D306","v":{"$error":"#REF!"}},{"$error":"#REF!"},{"$error":"#REF!"},{"$error":"#REF!"},{"$error":"#REF!"}]
[63,"63",null,{"$f":"$G$2*D307","v":{"$error":"#REF!"}},{"$error":"#REF!"},{"$error":"#REF!"},{"$error":"#REF!"},{"$error":"#REF!"}]
[64,"64",null,{"$f":"$G$2*D308","v":{"$error":"#REF!"}},{"$error":"#REF!"},{"$error":"#REF!"},{"$error":"#REF!"},{"$error":"#REF!"}]
[65,"65",null,{"$f":"$G$2*D309","v":{"$error":"#REF!"}},{"$error":"#REF!"},{"$error":"#REF!"},{"$error":"#REF!"},{"$error":"#REF!"}]
[66,"66",null,{"$f":"$G$2*D310","v":{"$error":"#REF!"}},{"$error":"#REF!"},{"$error":"#REF!"},{"$error":"#REF!"},{"$error":"#REF!"}]
[67,"67",null,{"$f":"$G$2*D311","v":{"$error":"#REF!"}},{"$error":"#REF!"},{"$error":"#REF!"},{"$error":"#REF!"},{"$error":"#REF!"}]
[68,"68",null,{"$f":"$G$2*D312","v":{"$error":"#REF!"}},{"$error":"#REF!"},{"$error":"#REF!"},{"$error":"#REF!"},{"$error":"#REF!"}]
[69,"69",null,{"$f":"$G$2*D313","v":{"$error":"#REF!"}},{"$error":"#REF!"},{"$error":"#REF!"},{"$error":"#REF!"},{"$error":"#REF!"}]
[70,"70",null,{"$f":"$G$2*D314","v":{"$error":"#REF!"}},{"$error":"#REF!"},{"$error":"#REF!"},{"$error":"#REF!"},{"$error":"#REF!"}]
[71,"71",null,{"$f":"$G$2*D315","v":{"$error":"#REF!"}},{"$error":"#REF!"},{"$error":"#REF!"},{"$error":"#REF!"},{"$error":"#REF!"}]
[72,"72",null,{"$f":"$G$2*D316","v":{"$error":"#REF!"}},{"$error":"#REF!"},{"$error":"#REF!"},{"$error":"#REF!"},{"$error":"#REF!"}]
[73,"73",null,{"$f":"$G$2*D317","v":{"$error":"#REF!"}},{"$error":"#REF!"},{"$error":"#REF!"},{"$error":"#REF!"},{"$error":"#REF!"}]
[74,"74",null,{"$f":"$G$2*D318","v":{"$error":"#REF!"}},{"$error":"#REF!"},{"$error":"#REF!"},{"$error":"#REF!"},{"$error":"#REF!"}]
[75,"75+",null,{"$f":"$G$2*D319","v":{"$error":"#REF!"}},{"$error":"#REF!"},{"$error":"#REF!"},{"$error":"#REF!"},{"$error":"#REF!"}]
[1,"1 Child",null,{"$f":"$G$2*D320","v":{"$error":"#REF!"}},{"$error":"#REF!"},{"$error":"#REF!"},{"$error":"#REF!"},{"$error":"#REF!"}]
[2,"2 Children",null,{"$f":"$G$2*D321","v":{"$error":"#REF!"}},{"$error":"#REF!"},{"$error":"#REF!"},{"$error":"#REF!"},{"$error":"#REF!"}]
[3,"3+ Children",null,{"$f":"$G$2*D322","v":{"$error":"#REF!"}},{"$error":"#REF!"},{"$error":"#REF!"},{"$error":"#REF!"},{"$error":"#REF!"}]
[1,"Rider Comp. Maternidad",null,{"$f":"+D323*$G$2","v":0},0,137.06595000000002,137.06595000000002,137.06595000000002]
[1,"Transplante de organos",null,{"$f":"+D324*$G$2","v":0},0,0,0,0]
[]
[]
[]
["COMPLETE (LATINAMERICA ONLY)"]
["TARIFAS ANUALES"]
["EDAD"]
[" "," ","CL1","CL2","CL3","CL4","CL5","CL6"]
[18,"-  24"]
[25,"-  29"]
[30,"-  34"]
[35,"-  39"]
[40,"-  44"]
[45,"-  49"]
[50,"-  54"]
[55,"-  59"]
[60]
[61]
[62]
[63]
[64]
[65]
[66]
[67]
[68]
[69]
[70]
[71]
[72]
[73]
[74]
[75,"o más"]
[1,"Hijo"]
[2,"Hijos"]
[3,"Hijos o más"]
[1,"Rider Comp. Maternidad"]
[1,"Transplante de organos",0,0,0,0,0,0]
[]
["TARIFAS SEMESTRALES "]
["EDAD"]
[" "," ","CL1","CL2","CL3","CL4","CL5","CL6"]
[18,"-  24",{"$f":"+C367*$G$2","v":0},0,0,0,0,0]
[25,"-  29",0,0,0,0,0,0]
[30,"-  34",0,0,0,0,0,0]
[35,"-  39",0,0,0,0,0,0]
[40,"-  44",0,0,0,0,0,0]
[45,"-  49",0,0,0,0,0,0]
[50,"-  54",0,0,0,0,0,0]
[55,"-  59",0,0,0,0,0,0]
[60,null,0,0,0,0,0,0]
[61,null,0,0,0,0,0,0]
[62,null,{"$f":"+C377*$G$2","v":0},0,0,0,0,0]
[63,null,0,0,0,0,0,0]
[64,null,0,0,0,0,0,0]
[65,null,0,0,0,0,0,0]
[66,null,0,0,0,0,0,0]
[67,null,0,0,0,0,0,0]
[68,null,0,0,0,0,0,0]
[69,null,0,0,0,0,0,0]
[70,null,0,0,0,0,0,0]
[71,null,0,0,0,0,0,0]
[72,null,{"$f":"+C387*$G$2","v":0},0,0,0,0,0]
[73,null,0,0,0,0,0,0]
[74,null,0,0,0,0,0,0]
[75,"o más",0,0,0,0,0,0]
[1,"Hijo",0,0,0,0,0,0]
[2,"Hijos",0,0,0,0,0,0]
[3,"Hijos o más",0,0,0,0,0,0]
[1,"Rider Comp. Maternidad",0,0,0,0,0,0]
[1,"Transplante de organos",0,0,0,0,0,0]
[]
[]
[]
[]
[]
[]
[]
["BUPA MAX"]
["TARIFAS ANUALES"]
[]
["EDAD",null,null,"AW2","AW3","AW4","AW5","AW6","AW7"]
[18,18,null,{"$f":"U440","v":1817},{"$f":"V440","v":1311},1058,832,583,null,null,null,null,{"$f":"Region!D9","v":1817},{"$f":"Region!E9","v":1311},{"$f":"Region!F9","v":1058},{"$f":"Region!G9","v":832},{"$f":"Region!H9","v":583},null,null,null,{"$f":"(M440-50)*$N$2+50","v":1817},{"$f":"(N440-50)*$N$2+50","v":1311},{"$f":"(O440-50)*$N$2+50","v":1058},{"$f":"(P440-50)*$N$2+50","v":832},{"$f":"(Q440-50)*$N$2+50","v":583}]
[19,19,null,{"$f":"U441","v":1882},1356,1095,855,600,null,null,null,null,{"$f":"Region!D10","v":1882},{"$f":"Region!E10","v":1356},{"$f":"Region!F10","v":1095},{"$f":"Region!G10","v":855},{"$f":"Region!H10","v":600},null,null,null,1882,1356,1095,855,600]
[20,20,null,1937,1397,1131,885,621,null,null,null,null,{"$f":"Region!D11","v":1937},{"$f":"Region!E11","v":1397},{"$f":"Region!F11","v":1131},{"$f":"Region!G11","v":885},{"$f":"Region!H11","v":621},null,null,null,1937,1397,1131,885,621]
[21,21,null,2002,1442,1165,909,639,null,null,null,null,{"$f":"Region!D12","v":2002},{"$f":"Region!E12","v":1442},{"$f":"Region!F12","v":1165},{"$f":"Region!G12","v":909},{"$f":"Region!H12","v":639},null,null,null,2002,1442,1165,909,639]
[22,22,null,2065,1487,1203,940,660,null,null,null,null,{"$f":"Region!D13","v":2065},{"$f":"Region!E13","v":1487},{"$f":"Region!F13","v":1203},{"$f":"Region!G13","v":940},{"$f":"Region!H13","v":660},null,null,null,2065,1487,1203,940,660]
[23,23,null,2130,1530,1238,969,681,null,null,null,null,{"$f":"Region!D14","v":2130},{"$f":"Region!E14","v":1530},{"$f":"Region!F14","v":1238},{"$f":"Region!G14","v":969},{"$f":"Region!H14","v":681},null,null,null,2130,1530,1238,969,681]
[24,24,null,2196,1574,1276,995,699,null,null,null,null,{"$f":"Region!D15","v":2196},{"$f":"Region!E15","v":1574},{"$f":"Region!F15","v":1276},{"$f":"Region!G15","v":995},{"$f":"Region!H15","v":699},null,null,null,2196,1574,1276,995,699]
[25,25,null,2257,1623,1311,1022,718,null,null,null,null,{"$f":"Region!D16","v":2257},{"$f":"Region!E16","v":1623},{"$f":"Region!F16","v":1311},{"$f":"Region!G16","v":1022},{"$f":"Region!H16","v":718},null,null,null,2257,1623,1311,1022,718]
[26,26,null,2323,1668,1353,1050,737,null,null,null,null,{"$f":"Region!D17","v":2323},{"$f":"Region!E17","v":1668},{"$f":"Region!F17","v":1353},{"$f":"Region!G17","v":1050},{"$f":"Region!H17","v":737},null,null,null,2323,1668,1353,1050,737]
[27,27,null,2388,1713,1389,1077,754,null,null,null,null,{"$f":"Region!D18","v":2388},{"$f":"Region!E18","v":1713},{"$f":"Region!F18","v":1389},{"$f":"Region!G18","v":1077},{"$f":"Region!H18","v":754},null,null,null,2388,1713,1389,1077,754]
[28,28,null,2533,1816,1469,1142,800,null,null,null,null,{"$f":"Region!D19","v":2533},{"$f":"Region!E19","v":1816},{"$f":"Region!F19","v":1469},{"$f":"Region!G19","v":1142},{"$f":"Region!H19","v":800},null,null,null,2533,1816,1469,1142,800]
[29,29,null,2672,1919,1546,1203,842,null,null,null,null,{"$f":"Region!D20","v":2672},{"$f":"Region!E20","v":1919},{"$f":"Region!F20","v":1546},{"$f":"Region!G20","v":1203},{"$f":"Region!H20","v":842},null,null,null,2672,1919,1546,1203,842]
[30,30,null,2814,2021,1630,1263,886,null,null,null,null,{"$f":"Region!D21","v":2814},{"$f":"Region!E21","v":2021},{"$f":"Region!F21","v":1630},{"$f":"Region!G21","v":1263},{"$f":"Region!H21","v":886},null,null,null,2814,2021,1630,1263,886]
[31,31,null,2956,2130,1713,1324,928,null,null,null,null,{"$f":"Region!D22","v":2956},{"$f":"Region!E22","v":2130},{"$f":"Region!F22","v":1713},{"$f":"Region!G22","v":1324},{"$f":"Region!H22","v":928},null,null,null,2956,2130,1713,1324,928]
[32,32,null,3098,2235,1792,1388,973,null,null,null,null,{"$f":"Region!D23","v":3098},{"$f":"Region!E23","v":2235},{"$f":"Region!F23","v":1792},{"$f":"Region!G23","v":1388},{"$f":"Region!H23","v":973},null,null,null,3098,2235,1792,1388,973]
[33,33,null,3172,2279,1836,1413,988,null,null,null,null,{"$f":"Region!D24","v":3172},{"$f":"Region!E24","v":2279},{"$f":"Region!F24","v":1836},{"$f":"Region!G24","v":1413},{"$f":"Region!H24","v":988},null,null,null,3172,2279,1836,1413,988]
[34,34,null,3247,{"$f":"V456","v":2323},{"$f":"W456","v":1884},{"$f":"X456","v":1441},{"$f":"Y456","v":1008},null,null,null,null,{"$f":"Region!D25","v":3247},{"$f":"Region!E25","v":2323},{"$f":"Region!F25","v":1884},{"$f":"Region!G25","v":1441},{"$f":"Region!H25","v":1008},null,null,null,3247,2323,1884,1441,1008]
[35,35,null,3319,2368,1927,1463,1029,null,null,null,null,{"$f":"Region!D26","v":3319},{"$f":"Region!E26","v":2368},{"$f":"Region!F26","v":1927},{"$f":"Region!G26","v":1463},{"$f":"Region!H26","v":1029},null,null,null,3319,2368,1927,1463,1029]
[36,36,null,3392,2412,1972,1489,1044,null,null,null,null,{"$f":"Region!D27","v":3392},{"$f":"Region!E27","v":2412},{"$f":"Region!F27","v":1972},{"$f":"Region!G27","v":1489},{"$f":"Region!H27","v":1044},null,null,null,3392,2412,1972,1489,1044]
[37,37,null,3470,2456,2016,1515,1058,null,null,null,null,{"$f":"Region!D28","v":3470},{"$f":"Region!E28","v":2456},{"$f":"Region!F28","v":2016},{"$f":"Region!G28","v":1515},{"$f":"Region!H28","v":1058},null,null,null,3470,2456,2016,1515,1058]
[38,38,null,3582,2535,2072,1563,1095,null,null,null,null,{"$f":"Region!D29","v":3582},{"$f":"Region!E29","v":2535},{"$f":"Region!F29","v":2072},{"$f":"Region!G29","v":1563},{"$f":"Region!H29","v":1095},null,null,null,3582,2535,2072,1563,1095]
[39,39,null,3695,2610,2130,1608,1126,null,null,null,null,{"$f":"Region!D30","v":3695},{"$f":"Region!E30","v":2610},{"$f":"Region!F30","v":2130},{"$f":"Region!G30","v":1608},{"$f":"Region!H30","v":1126},null,null,null,3695,2610,2130,1608,1126]
[40,40,null,3813,2688,2186,1654,1161,null,null,null,null,{"$f":"Region!D31","v":3813},{"$f":"Region!E31","v":2688},{"$f":"Region!F31","v":2186},{"$f":"Region!G31","v":1654},{"$f":"Region!H31","v":1161},null,null,null,3813,2688,2186,1654,1161]
[41,41,null,3924,2767,2246,1703,1190,null,null,null,null,{"$f":"Region!D32","v":3924},{"$f":"Region!E32","v":2767},{"$f":"Region!F32","v":2246},{"$f":"Region!G32","v":1703},{"$f":"Region!H32","v":1190},null,null,null,3924,2767,2246,1703,1190]
[42,42,null,4040,2839,2299,1747,1222,null,null,null,null,{"$f":"Region!D33","v":4040},{"$f":"Region!E33","v":2839},{"$f":"Region!F33","v":2299},{"$f":"Region!G33","v":1747},{"$f":"Region!H33","v":1222},null,null,null,4040,2839,2299,1747,1222]
[43,43,null,4195,2945,2384,1814,1268,null,null,null,null,{"$f":"Region!D34","v":4195},{"$f":"Region!E34","v":2945},{"$f":"Region!F34","v":2384},{"$f":"Region!G34","v":1814},{"$f":"Region!H34","v":1268},null,null,null,4195,2945,2384,1814,1268]
[44,44,null,4353,3054,2472,1876,1315,null,null,null,null,{"$f":"Region!D35","v":4353},{"$f":"Region!E35","v":3054},{"$f":"Region!F35","v":2472},{"$f":"Region!G35","v":1876},{"$f":"Region!H35","v":1315},null,null,null,4353,3054,2472,1876,1315]
[45,45,null,4516,3160,2556,1938,1359,null,null,null,null,{"$f":"Region!D36","v":4516},{"$f":"Region!E36","v":3160},{"$f":"Region!F36","v":2556},{"$f":"Region!G36","v":1938},{"$f":"Region!H36","v":1359},null,null,null,4516,3160,2556,1938,1359]
[46,46,null,4670,3265,2643,2008,1403,null,null,null,null,{"$f":"Region!D37","v":4670},{"$f":"Region!E37","v":3265},{"$f":"Region!F37","v":2643},{"$f":"Region!G37","v":2008},{"$f":"Region!H37","v":1403},null,null,null,4670,3265,2643,2008,1403]
[47,47,null,4829,3369,2729,2072,1452,null,null,null,null,{"$f":"Region!D38","v":4829},{"$f":"Region!E38","v":3369},{"$f":"Region!F38","v":2729},{"$f":"Region!G38","v":2072},{"$f":"Region!H38","v":1452},null,null,null,4829,3369,2729,2072,1452]
[48,48,null,5093,3554,2892,2212,1546,null,null,null,null,{"$f":"Region!D39","v":5093},{"$f":"Region!E39","v":3554},{"$f":"Region!F39","v":2892},{"$f":"Region!G39","v":2212},{"$f":"Region!H39","v":1546},null,null,null,5093,3554,2892,2212,1546]
[49,49,null,5357,3736,3056,2351,1648,null,null,null,null,{"$f":"Region!D40","v":5357},{"$f":"Region!E40","v":3736},{"$f":"Region!F40","v":3056},{"$f":"Region!G40","v":2351},{"$f":"Region!H40","v":1648},null,null,null,5357,3736,3056,2351,1648]
[50,50,null,5618,3918,3224,2491,1747,null,null,null,null,{"$f":"Region!D41","v":5618},{"$f":"Region!E41","v":3918},{"$f":"Region!F41","v":3224},{"$f":"Region!G41","v":2491},{"$f":"Region!H41","v":1747},null,null,null,5618,3918,3224,2491,1747]
[51,51,null,5882,4101,3387,2630,1842,null,null,null,null,{"$f":"Region!D42","v":5882},{"$f":"Region!E42","v":4101},{"$f":"Region!F42","v":3387},{"$f":"Region!G42","v":2630},{"$f":"Region!H42","v":1842},null,null,null,5882,4101,3387,2630,1842]
[52,52,null,6146,4280,3552,2772,1938,null,null,null,null,{"$f":"Region!D43","v":6146},{"$f":"Region!E43","v":4280},{"$f":"Region!F43","v":3552},{"$f":"Region!G43","v":2772},{"$f":"Region!H43","v":1938},null,null,null,6146,4280,3552,2772,1938]
[53,53,null,6386,4493,3760,2905,2039,null,null,null,null,{"$f":"Region!D44","v":6386},{"$f":"Region!E44","v":4493},{"$f":"Region!F44","v":3760},{"$f":"Region!G44","v":2905},{"$f":"Region!H44","v":2039},null,null,null,6386,4493,3760,2905,2039]
[54,54,null,6623,4700,3970,3040,2130,null,null,null,null,{"$f":"Region!D45","v":6623},{"$f":"Region!E45","v":4700},{"$f":"Region!F45","v":3970},{"$f":"Region!G45","v":3040},{"$f":"Region!H45","v":2130},null,null,null,6623,4700,3970,3040,2130]
[55,55,null,6863,4911,4176,3172,2224,null,null,null,null,{"$f":"Region!D46","v":6863},{"$f":"Region!E46","v":4911},{"$f":"Region!F46","v":4176},{"$f":"Region!G46","v":3172},{"$f":"Region!H46","v":2224},null,null,null,6863,4911,4176,3172,2224]
[56,56,null,7101,5120,4393,3306,2317,null,null,null,null,{"$f":"Region!D47","v":7101},{"$f":"Region!E47","v":5120},{"$f":"Region!F47","v":4393},{"$f":"Region!G47","v":3306},{"$f":"Region!H47","v":2317},null,null,null,7101,5120,4393,3306,2317]
[57,57,null,7347,5328,4603,3437,2408,null,null,null,null,{"$f":"Region!D48","v":7347},{"$f":"Region!E48","v":5328},{"$f":"Region!F48","v":4603},{"$f":"Region!G48","v":3437},{"$f":"Region!H48","v":2408},null,null,null,7347,5328,4603,3437,2408]
[58,58,null,7733,5542,4764,3573,2504,null,null,null,null,{"$f":"Region!D49","v":7733},{"$f":"Region!E49","v":5542},{"$f":"Region!F49","v":4764},{"$f":"Region!G49","v":3573},{"$f":"Region!H49","v":2504},null,null,null,7733,5542,4764,3573,2504]
[59,59,null,8116,5749,4931,3703,2597,null,null,null,null,{"$f":"Region!D50","v":8116},{"$f":"Region!E50","v":5749},{"$f":"Region!F50","v":4931},{"$f":"Region!G50","v":3703},{"$f":"Region!H50","v":2597},null,null,null,8116,5749,4931,3703,2597]
[60,60,null,8506,5957,5093,3839,2688,null,null,null,null,{"$f":"Region!D51","v":8506},{"$f":"Region!E51","v":5957},{"$f":"Region!F51","v":5093},{"$f":"Region!G51","v":3839},{"$f":"Region!H51","v":2688},null,null,null,8506,5957,5093,3839,2688]
[61,61,null,8827,6175,5315,3989,2790,null,null,null,null,{"$f":"Region!D52","v":8827},{"$f":"Region!E52","v":6175},{"$f":"Region!F52","v":5315},{"$f":"Region!G52","v":3989},{"$f":"Region!H52","v":2790},null,null,null,8827,6175,5315,3989,2790]
[62,62,null,9228,6465,5572,4174,2924,null,null,null,null,{"$f":"Region!D53","v":9228},{"$f":"Region!E53","v":6465},{"$f":"Region!F53","v":5572},{"$f":"Region!G53","v":4174},{"$f":"Region!H53","v":2924},null,null,null,9228,6465,5572,4174,2924]
[63,63,null,9703,6792,5859,4391,3074,null,null,null,null,{"$f":"Region!D54","v":9703},{"$f":"Region!E54","v":6792},{"$f":"Region!F54","v":5859},{"$f":"Region!G54","v":4391},{"$f":"Region!H54","v":3074},null,null,null,9703,6792,5859,4391,3074]
[64,64,null,10250,7179,6201,4643,3250,null,null,null,null,{"$f":"Region!D55","v":10250},{"$f":"Region!E55","v":7179},{"$f":"Region!F55","v":6201},{"$f":"Region!G55","v":4643},{"$f":"Region!H55","v":3250},null,null,null,10250,7179,6201,4643,3250]
[65,65,null,10716,7690,6639,4956,3472,null,null,null,null,{"$f":"Region!D56","v":10716},{"$f":"Region!E56","v":7690},{"$f":"Region!F56","v":6639},{"$f":"Region!G56","v":4956},{"$f":"Region!H56","v":3472},null,null,null,10716,7690,6639,4956,3472]
[66,66,null,11576,8277,7143,5327,3730,null,null,null,null,{"$f":"Region!D57","v":11576},{"$f":"Region!E57","v":8277},{"$f":"Region!F57","v":7143},{"$f":"Region!G57","v":5327},{"$f":"Region!H57","v":3730},null,null,null,11576,8277,7143,5327,3730]
[67,67,null,12509,8944,7717,5758,4027,null,null,null,null,{"$f":"Region!D58","v":12509},{"$f":"Region!E58","v":8944},{"$f":"Region!F58","v":7717},{"$f":"Region!G58","v":5758},{"$f":"Region!H58","v":4027},null,null,null,12509,8944,7717,5758,4027]
[68,68,null,13556,9703,8370,6250,4373,null,null,null,null,{"$f":"Region!D59","v":13556},{"$f":"Region!E59","v":9703},{"$f":"Region!F59","v":8370},{"$f":"Region!G59","v":6250},{"$f":"Region!H59","v":4373},null,null,null,13556,9703,8370,6250,4373]
[69,69,null,14806,10599,9142,6822,4775,null,null,null,null,{"$f":"Region!D60","v":14806},{"$f":"Region!E60","v":10599},{"$f":"Region!F60","v":9142},{"$f":"Region!G60","v":6822},{"$f":"Region!H60","v":4775},null,null,null,14806,10599,9142,6822,4775]
[70,70,null,15688,11159,9532,7143,4999,null,null,null,null,{"$f":"Region!D61","v":15688},{"$f":"Region!E61","v":11159},{"$f":"Region!F61","v":9532},{"$f":"Region!G61","v":7143},{"$f":"Region!H61","v":4999},null,null,null,15688,11159,9532,7143,4999]
[71,71,null,17275,12286,10595,7868,5512,null,null,null,null,{"$f":"Region!D62","v":17275},{"$f":"Region!E62","v":12286},{"$f":"Region!F62","v":10595},{"$f":"Region!G62","v":7868},{"$f":"Region!H62","v":5512},null,null,null,17275,12286,10595,7868,5512]
[72,72,null,19121,13601,11726,8714,6103,null,null,null,null,{"$f":"Region!D63","v":19121},{"$f":"Region!E63","v":13601},{"$f":"Region!F63","v":11726},{"$f":"Region!G63","v":8714},{"$f":"Region!H63","v":6103},null,null,null,19121,13601,11726,8714,6103]
[73,73,null,21221,15099,13008,9678,6773,null,null,null,null,{"$f":"Region!D64","v":21221},{"$f":"Region!E64","v":15099},{"$f":"Region!F64","v":13008},{"$f":"Region!G64","v":9678},{"$f":"Region!H64","v":6773},null,null,null,21221,15099,13008,9678,6773]
[74,74,null,23657,16832,14518,10789,7557,null,null,null,null,{"$f":"Region!D65","v":23657},{"$f":"Region!E65","v":16832},{"$f":"Region!F65","v":14518},{"$f":"Region!G65","v":10789},{"$f":"Region!H65","v":7557},null,null,null,23657,16832,14518,10789,7557]
[75,75,null,26622,18887,16218,12098,8464,null,null,null,null,{"$f":"Region!D66","v":26622},{"$f":"Region!E66","v":18887},{"$f":"Region!F66","v":16218},{"$f":"Region!G66","v":12098},{"$f":"Region!H66","v":8464},null,null,null,26622,18887,16218,12098,8464]
[76,76,null,29850,21174,18246,13559,9492,null,null,null,null,{"$f":"Region!D67","v":29850},{"$f":"Region!E67","v":21174},{"$f":"Region!F67","v":18246},{"$f":"Region!G67","v":13559},{"$f":"Region!H67","v":9492},null,null,null,29850,21174,18246,13559,9492]
[77,77,null,33530,23781,20509,15234,10665,null,null,null,null,{"$f":"Region!D68","v":33530},{"$f":"Region!E68","v":23781},{"$f":"Region!F68","v":20509},{"$f":"Region!G68","v":15234},{"$f":"Region!H68","v":10665},null,null,null,33530,23781,20509,15234,10665]
[78,78,null,37672,26720,23042,17116,11982,null,null,null,null,{"$f":"Region!D69","v":37672},{"$f":"Region!E69","v":26720},{"$f":"Region!F69","v":23042},{"$f":"Region!G69","v":17116},{"$f":"Region!H69","v":11982},null,null,null,37672,26720,23042,17116,11982]
[79,79,null,42325,30023,25892,19228,13462,null,null,null,null,{"$f":"Region!D70","v":42325},{"$f":"Region!E70","v":30023},{"$f":"Region!F70","v":25892},{"$f":"Region!G70","v":19228},{"$f":"Region!H70","v":13462},null,null,null,42325,30023,25892,19228,13462]
[80,80,null,47894,33973,29293,21762,15234,null,null,null,null,{"$f":"Region!D71","v":47894},{"$f":"Region!E71","v":33973},{"$f":"Region!F71","v":29293},{"$f":"Region!G71","v":21762},{"$f":"Region!H71","v":15234},null,null,null,47894,33973,29293,21762,15234]
[1,"1 Child",null,1064,751,622,511,358,null,null,null,null,{"$f":"Region!D72","v":1064},{"$f":"Region!E72","v":751},{"$f":"Region!F72","v":622},{"$f":"Region!G72","v":511},{"$f":"Region!H72","v":358},null,null,null,1064,751,622,511,358]
[2,"2 Children",null,1637,1190,980,800,562,null,null,null,null,{"$f":"Region!D73","v":1637},{"$f":"Region!E73","v":1190},{"$f":"Region!F73","v":980},{"$f":"Region!G73","v":800},{"$f":"Region!H73","v":562},null,null,null,{"$f":"(M504-50)*$N$2+50","v":1637},{"$f":"(N504-50)*$N$2+50","v":1190},{"$f":"(O504-50)*$N$2+50","v":980},{"$f":"(P504-50)*$N$2+50","v":800},{"$f":"(Q504-50)*$N$2+50","v":562}]
[3,"3+ Children",null,{"$f":"U505","v":2368},1732,1421,1162,812,null,null,null,null,{"$f":"Region!D74","v":2368},{"$f":"Region!E74","v":1732},{"$f":"Region!F74","v":1421},{"$f":"Region!G74","v":1162},{"$f":"Region!H74","v":812},null,null,null,2368,1732,1421,1162,812]
[1,"Rider Comp. Maternidad",null,225,225,225,225,225,null,null,null,null,{"$f":"Region!D75","v":225},{"$f":"Region!E75","v":225},{"$f":"Region!F75","v":225},{"$f":"Region!G75","v":225},{"$f":"Region!H75","v":225},null,null,null,225,225,225,225,225]
[1,"Transplante de organos",null,300,300,300,300,300,null,null,null,null,{"$f":"Region!D76","v":300},{"$f":"Region!E76","v":300},{"$f":"Region!F76","v":300},{"$f":"Region!G76","v":300},{"$f":"Region!H76","v":300},null,null,null,300,300,300,300,300]
[]
["TARIFAS SEMESTRALES "]
["EDAD"]
[" "," ",null,"AW2","AW3","AW4","AW5","AW6","AW7"]
[18,18,null,{"$f":"+D440*$G$2","v":963.0100000000001},{"$f":"+E440*$G$2","v":694.83},560.74,440.96000000000004,308.99]
[19,19,null,{"$f":"+D441*$G$2","v":997.46},718.68000000000006,580.35,453.15000000000003,318]
[20,20,null,1026.6100000000001,740.41000000000008,599.43000000000006,469.05,329.13]
[21,21,null,1061.06,764.26,617.45000000000005,481.77000000000004,338.67]
[22,22,null,1094.45,788.11,637.59,498.20000000000005,349.8]
[23,23,null,1128.9000000000001,810.90000000000009,656.14,513.57000000000005,360.93]
[24,24,null,1163.8800000000001,834.22,676.28000000000009,527.35,370.47]
[25,25,null,1196.21,860.19,694.83,541.66000000000008,380.54]
[26,26,null,1231.19,884.04000000000008,717.09,556.5,390.61]
[27,27,null,1265.6400000000001,907.8900000000001,736.17000000000007,570.81000000000006,399.62]
[28,28,null,1342.49,962.48,778.57,605.26,424]
[29,29,null,1416.16,1017.07,819.38,637.59,446.26000000000005]
[30,30,null,1491.42,1071.1300000000001,863.90000000000009,669.39,469.58000000000004]
[31,31,null,1566.68,1128.9000000000001,907.8900000000001,701.72,491.84000000000003]
[32,32,null,1641.94,1184.55,949.76,735.64,515.69000000000005]
[33,33,null,1681.16,1207.8700000000001,973.08,748.89,523.64]
[34,34,null,1720.91,1231.19,998.5200000000001,763.73,534.24]
[35,35,null,1759.0700000000002,1255.04,1021.3100000000001,775.39,545.37]
[36,36,null,1797.76,1278.3600000000001,1045.1600000000001,789.17000000000007,553.32000000000005]
[37,37,null,1839.1000000000001,1301.68,1068.48,802.95,560.74]
[38,38,null,1898.46,1343.55,1098.1600000000001,828.39,580.35]
[39,39,null,1958.3500000000001,1383.3000000000002,1128.9000000000001,852.24,596.78000000000009]
[40,40,null,2020.89,1424.64,1158.5800000000002,876.62,615.33000000000004]
[41,41,null,2079.7200000000003,1466.51,1190.3800000000001,902.59,630.70000000000005]
[42,42,null,2141.2000000000003,1504.67,1218.47,925.91000000000008,647.66000000000008]
[43,43,null,2223.35,1560.8500000000001,1263.52,961.42000000000007,672.04000000000008]
[44,44,null,2307.09,1618.6200000000001,1310.1600000000001,994.28000000000009,696.95]
[45,45,null,2393.48,1674.8000000000002,1354.68,1027.1400000000001,720.27]
[46,46,null,2475.1,1730.45,1400.79,1064.24,743.59]
[47,47,null,2559.3700000000003,1785.5700000000002,1446.3700000000001,1098.1600000000001,769.56000000000006]
[48,48,null,2699.29,1883.6200000000001,1532.76,1172.3600000000001,819.38]
[49,49,null,2839.21,1980.0800000000002,1619.68,1246.03,873.44]
[50,50,null,2977.54,2076.54,1708.72,1320.23,925.91000000000008]
[51,51,null,3117.46,2173.5300000000002,1795.1100000000001,1393.9,976.2600000000001]
[52,52,null,3257.38,2268.4,1882.5600000000002,1469.16,1027.1400000000001]
[53,53,null,3384.5800000000004,2381.29,1992.8000000000002,1539.65,1080.67]
[54,54,null,3510.19,2491,2104.1,1611.2,1128.9000000000001]
[55,55,null,3637.3900000000003,2602.83,2213.2800000000002,1681.16,1178.72]
[56,56,null,3763.53,2713.6000000000004,2328.29,1752.18,1228.01]
[57,57,null,3893.9100000000003,2823.84,2439.59,1821.6100000000001,1276.24]
[58,58,null,4098.49,2937.26,2524.92,1893.69,1327.1200000000001]
[59,59,null,4301.4800000000005,3046.9700000000003,2613.4300000000003,1962.5900000000001,1376.41]
[60,60,null,4508.18,3157.21,2699.29,2034.67,1424.64]
[61,61,null,4678.3100000000004,3272.75,2816.9500000000003,2114.17,1478.7]
[62,62,null,4890.84,3426.4500000000003,2953.1600000000003,2212.2200000000003,1549.72]
[63,63,null,5142.59,3599.76,3105.27,2327.23,1629.22]
[64,64,null,5432.5,3804.8700000000003,3286.53,2460.79,1722.5]
[65,65,null,5679.4800000000005,4075.7000000000003,3518.67,2626.6800000000003,1840.16]
[66,66,null,6135.2800000000007,4386.8100000000004,3785.79,2823.31,{"$f":"+H488*$G$2","v":1976.9}]
[67,67,null,6629.77,4740.3200000000006,4090.01,3051.7400000000002,2134.31]
[68,68,null,7184.68,5142.59,4436.1000000000004,3312.5,2317.69]
[69,69,null,7847.18,5617.47,4845.26,3615.6600000000003,2530.75]
[70,70,null,8314.6400000000012,5914.27,5051.96,3785.79,2649.4700000000003]
[71,71,null,9155.75,6511.58,5615.35,4170.04,2921.36]
[72,72,null,10134.130000000001,7208.5300000000007,6214.7800000000007,4618.42,3234.59]
[73,73,null,11247.130000000001,8002.47,6894.2400000000007,5129.34,3589.69]
[74,74,null,12538.210000000001,8920.9600000000009,7694.54,5718.17,4005.21]
[75,75,null,14109.66,10010.11,8595.5400000000009,6411.9400000000005,4485.92]
[76,76,null,15820.5,11222.220000000001,9670.380000000001,7186.27,5030.76]
[77,77,null,17770.900000000001,12603.93,10869.77,8074.02,5652.4500000000007]
[78,78,null,19966.16,14161.6,12212.26,9071.48,6350.46]
[79,79,null,22432.25,15912.19,13722.76,10190.84,7134.8600000000006]
[80,80,null,25383.82,18005.690000000002,15525.29,11533.86,8074.02]
[1,"1 Child",null,563.92000000000007,398.03000000000003,329.66,270.83000000000004,189.74]
[2,"2 Children",null,867.61,{"$f":"+E504*$G$2","v":630.70000000000005},519.4,424,297.86]
[3,"3+ Children",null,{"$f":"+D505*$G$2","v":1255.04},917.96,753.13,615.86,430.36]
[1,"Rider Comp. Maternidad",null,119.25,119.25,119.25,119.25,119.25]
[1,"Transplante de organos",null,159,159,159,159,159]

{"sheet":"Region","index":5,"n_rows":76,"n_cols":16,"rows_kept":76,"cut":false,"hidden":true,"merged":[[1,8,1,9],[4,10,4,11],[5,16,5,17],[7,0,7,1],[6,2,6,6],[5,0,5,8],[4,0,4,8]]}
[null,null,null,null,null,null,null,null,null,null,"D1","D2","D3","D4","D5","D6"]
[null,"REGIÓN",{"$f":"'INGRESO DE DATOS'!W22","v":8},null,"FACTOR SEMESTRAL :",null,0.53,null,"NEW BUSINESS DISCUOUNTS",null,{"$f":"'INGRESO DE DATOS'!O42","v":1},{"$f":"'INGRESO DE DATOS'!P42","v":1},{"$f":"'INGRESO DE DATOS'!Q42","v":1},{"$f":"'INGRESO DE DATOS'!R42","v":1},{"$f":"'INGRESO DE DATOS'!S42","v":1},{"$f":"'INGRESO DE DATOS'!T42","v":1}]
[]
[]
["BUPA ALPHA"]
["TARIFAS ANUALES"]
[]
["EDAD",null,"DW1","DW2","DW3","DW4","DW5","DW6","DW7"]
[18,18,null,1817,1311,1058,832,583]
[19,19,null,1882,1356,1095,855,600]
[20,20,null,1937,1397,1131,885,621]
[21,21,null,2002,1442,1165,909,639]
[22,22,null,2065,1487,1203,940,660]
[23,23,null,2130,1530,1238,969,681]
[24,24,null,2196,1574,1276,995,699]
[25,25,null,2257,1623,1311,1022,718]
[26,26,null,2323,1668,1353,1050,737]
[27,27,null,2388,1713,1389,1077,754]
[28,28,null,2533,1816,1469,1142,800]
[29,29,null,2672,1919,1546,1203,842]
[30,30,null,2814,2021,1630,1263,886]
[31,31,null,2956,2130,1713,1324,928]
[32,32,null,3098,2235,1792,1388,973]
[33,33,null,3172,2279,1836,1413,988]
[34,34,null,3247,2323,1884,1441,1008]
[35,35,null,3319,2368,1927,1463,1029]
[36,36,null,3392,2412,1972,1489,1044]
[37,37,null,3470,2456,2016,1515,1058]
[38,38,null,3582,2535,2072,1563,1095]
[39,39,null,3695,2610,2130,1608,1126]
[40,40,null,3813,2688,2186,1654,1161]
[41,41,null,3924,2767,2246,1703,1190]
[42,42,null,4040,2839,2299,1747,1222]
[43,43,null,4195,2945,2384,1814,1268]
[44,44,null,4353,3054,2472,1876,1315]
[45,45,null,4516,3160,2556,1938,1359]
[46,46,null,4670,3265,2643,2008,1403]
[47,47,null,4829,3369,2729,2072,1452]
[48,48,null,5093,3554,2892,2212,1546]
[49,49,null,5357,3736,3056,2351,1648]
[50,50,null,5618,3918,3224,2491,1747]
[51,51,null,5882,4101,3387,2630,1842]
[52,52,null,6146,4280,3552,2772,1938]
[53,53,null,6386,4493,3760,2905,2039]
[54,54,null,6623,4700,3970,3040,2130]
[55,55,null,6863,4911,4176,3172,2224]
[56,56,null,7101,5120,4393,3306,2317]
[57,57,null,7347,5328,4603,3437,2408]
[58,58,null,7733,5542,4764,3573,2504]
[59,59,null,8116,5749,4931,3703,2597]
[60,60,null,8506,5957,5093,3839,2688]
[61,61,null,8827,6175,5315,3989,2790]
[62,62,null,9228,6465,5572,4174,2924]
[63,63,null,9703,6792,5859,4391,3074]
[64,64,null,10250,7179,6201,4643,3250]
[65,65,null,10716,7690,6639,4956,3472]
[66,66,null,11576,8277,7143,5327,3730]
[67,67,null,12509,8944,7717,5758,4027]
[68,68,null,13556,9703,8370,6250,4373]
[69,69,null,14806,10599,9142,6822,4775]
[70,70,null,15688,11159,9532,7143,4999]
[71,71,null,17275,12286,10595,7868,5512]
[72,72,null,19121,13601,11726,8714,6103]
[73,73,null,21221,15099,13008,9678,6773]
[74,74,null,23657,16832,14518,10789,7557]
[75,75,null,26622,18887,16218,12098,8464]
[76,76,null,29850,21174,18246,13559,9492]
[77,77,null,33530,23781,20509,15234,10665]
[78,78,null,37672,26720,23042,17116,11982]
[79,79,null,42325,30023,25892,19228,13462]
[80,80,null,47894,33973,29293,21762,15234]
[1,"1 Child",null,1064,751,622,511,358]
[2,"2 Children",null,1637,1190,980,800,562]
[3,"3+ Children",null,2368,1732,1421,1162,812]
[1,"Rider Comp. Maternidad",null,225,225,225,225,225]
[1,"Transplante de organos",null,300,300,300,300,300]