{"text_format":"1","workbook":"xlsx","n_sheets":7,"sheets":["INGRESO DE DATOS","Bupa Essential Care","Advantage (LA)","Resumen de Tarifas","Comparacion de Beneficios","Tablas","DR"],"not_rendered":{"charts":0,"images":6,"macros":1,"external_links":0,"defined_names":2,"comments":1,"pivot_tables":0},"unopened":[],"bounds":{"document_bytes":16777216,"sheet_cells":100000,"rows_first":2000,"rows_last":500,"rows_between":2000,"halvings":0,"cell_chars":16384,"cell_head_chars":4096},"cells_cut":0,"cells_raw":0,"read":"whole","date_system":"1900"}

{"sheet":"INGRESO DE DATOS","index":0,"n_rows":84,"n_cols":27,"rows_kept":84,"cut":false,"hidden":false,"merged":[[4,21,11,21],[3,14,3,16],[44,2,44,11],[35,2,35,11],[35,0,35,1],[37,0,37,1],[39,0,39,1],[16,14,16,19],[31,14,31,19],[4,18,11,18],[44,0,44,1],[7,0,7,9],[37,3,37,4],[31,21,31,26],[42,21,42,26],[41,7,42,8],[73,14,73,15],[75,14,76,15],[29,14,29,17],[48,14,48,19],[68,14,68,15],[70,14,70,15],[51,14,51,19]]}
[]
[null,null,null,null,null,null,null,null," "," "," ",null,null,null,"24 years",false]
[]
[null,null,null,null,null,null,null,null,null,null,null,null,null,null,"Descuento 24 años (por edad)"]
[null,null,null,null,null,null,null,null,null,null,null,null,null,null,"age","Discount (%)","Parameter",null,"Type","Nuevo Negocio",null,"Región",2]
[null,null,null,null,null,null,null,null," "," "," "," ",null,null,24,35,{"$f":"1-P6/100","v":0.65},null,null,"Renovación",null,null,3]
[null,null,null,null,null,null,null,null,null,null,null,null,null,null,25,30,{"$f":"1-P7/100","v":0.7},null,null,"Renovación: Octubre 2020-Agosto 2021",null,null,4]
[null,null,null,null,null,null,null,null,null,null,null,null,null,null,26,25,0.75,null,null,null,null,null,5]
[null,null,null,null,null,null,null,null,null,null,null,null,null,null,27,20,0.8,null,null,null,null,null,6]
[null,null,null,null,null,null,null,null,null,null,null,null,null,null,28,15,0.85,null,null,null,null,null,8]
[null,null,null,null,null,null,null,null,null,null,null,null,null,null,29,6,0.94,null,null,null,null,null,9]
[null,null,null,null,null,null,null,null,null,null,null,null,null,null,"All ages",0,1,null,null,null,null,null,"DR"]
[null,null,null,null,null,null,null,null,null,null,null,null,null,null,null,null,null,null,"Type selected",1,null,"Selección",8]
[null,null,null,null,null,null,null,null,null,null,null,null,null,null,null,null,null,null,null,null,null,"Región","REPÚBLICA DOMINICANA"]
[]
[]
[]
[]
[null,null,null,null,null,null,null,null,null,null,null,null,null,null,"Descuento de 24 años:",{"$f":"IF(P2,_xlfn.SWITCH(C40,O6,Q6,O7,Q7,O8,Q8,O9,Q9,O10,Q10,O11,Q11,Q12),Q12)","v":1},null,"IVA: 12%",{"$f":"12/100","v":0.12},{"$f":"S19+1","v":1.1200000000000001}]
[]
[]
[]
[]
[null,null,null,null,null,null,null,null,null,null,null,null,null,null,"Descuento por variante de coaseguro","N/A"]
[]
[]
[]
[]
[]
[null,null,null,null,null,null,null,null,null,null,null,null,null,null,"Descuento si es nuevo negocio (ENTRADA MANUAL)"]
[]
[null,null,null,null,null,null,null,null,null,null,null,null,null,null,"New business discount y Ventas a partir de 1 de agosto 2021",null,null,null,null,null,null,"Período 1/10/2020 a 1/8/2021"]
[null,null,null,null,null,null,null,null,null,null,null,null,null,null,null,"Essential","Unique-Deductible: 0","Unique","Elite",null,null,null,"Essential","Unique-Deductible: 0","Unique","Elite"]
[null,null,null,null,null,null,null,null,null,null,null,null,null,null,0,0,0.4,0.4,0.2,0,null,0,0,0.2,0.2,0,0]
[null,null,null,null,null,null,null,null,null,null,null,null,null,null,null,null,0.45,0.45,null,null,null,null,null,0.2,0.2]
["Nombre del Asegurado principal:",null,"John Doe",null,null,null,null,null,null,null,null,null,null,null,null,null,0.5,0.5,null,null,null,null,null,0.2,0.2]
[null,null,null,null,null,null,null,null,null,null,null,null,null,null,null,null,0.5,0.5,null,null,null,null,null,0.2,0.2]
["Número de adultos en la póliza: ",null,1,"Número de hijos en la póliza:",null,0,null,null,null,null,null,null,null,null,null,null,null,0.5,null,null,null,null,null,null,0.2]
[]
[" Edad del titular:",null,47,null,"Edad de cónyuge:",46]
[]
[null,null,null,null,null,null,null,{"$f":"IF($T$13=1,\"Para nuevos negocios vendidos a partir del 1 de enero de  2024, y renovaciones de pólizas vendidas después del 1 de Agosto de 2021\",IF($T$13=2,\"Para renovaciones de pólizas vendidas antes del 1 de octubre de 2020\",\"Para renovaciones de pólizas vendidas entre Octtubre 2020  y Agosto 2021\"))","v":"Para nuevos negocios vendidos a partir del 1 de enero de  2024, y renovaciones de pólizas vendidas después del 1 de Agosto de 2021"}]
[null,null,null,null,null,null,null,null,null,null,null,null,null,null,null,null,null,null,null,null,null,"Período Antes de 1/1/2020"]
[null,null,null,null,null,null,null,null,null,null,null,null,null,null,null,null,null,null,null,null,null,null,"Essential","Unique-Deductible: 0","Unique","Elite"]
["Nombre de la Agencia :",null,"Agencia",null,null,null,null,null,null,null,null,null,null,null,null,null,null,null,null,null,null,0,0,0,0,0,0]
[null,null,null,null,null,null,null,null,null,null,null,null,null,null,null,null,null,null,null,null,null,null,null,0,0]
[null,null,null,null,null,null,null,null,null,null,null,null,null,null,null,null,null,null,null,null,null,null,null,0,0]
[null,null,null,null,null,null,null,null,null,null,null,null,null,null,null,null,null,null,null,null,null,null,null,0,0]
[null,null,null,null,null,null,null,null,null,null,null,null,null,null,"Descuento combinado 24 años + Nuevo Negocio o Roneovaciones",null,null,null,null,null,null,null,null,null,0]
[]
[]
[null,null,null,null,null,null,null,null,null,null,null,null,null,null,"New business discount"]
[null,null,null,null,null,null,null,null,null,null,null,null,null,null,null,"Essential","Unique-Deductible: 0","Unique","Elite"]
[null,null,null,null,null,null,null,null,null,null,null,null,null,null,{"$f":"1*$P$19","v":1},{"$f":"IF($T$13=1,(1-P34)*$P$19,IF($T$13=2,1*$P$19,(1-W34)*$P$19))","v":1},{"$f":"IF($T$13=1,(1-Q34)*$P$19,IF($T$13=2,1*$P$19,(1-X34)*$P$19))","v":0.6},0.6,0.8,{"$f":"IF($T$13=1,(1-T34)*$P$19,IF($T$13=2,1*$P$19,(1-AA34)*$P$19))","v":1}]
[null,null,null,null,null,null,null,null,null,null,null,null,null,null,null,null,0.55000000000000004,0.55000000000000004]
[null,null,null,null,null,null,null,null,null,null,null,null,null,null,null,null,0.5,0.5]
[null,null,null,null,null,null,null,null,null,null,null,null,null,null,null,null,0.5,0.5]
[null,null,null,null,null,null,null,null,null,null,null,null,null,null,null,null,null,0.5]
[]
[]
[]
[]
[]
[]
[]
[]
[]
[]
[null,null,null,null,null,null,null,null,null,null,null,null,null,null,"DISCOUNT PERU 2020"]
[]
[null,null,null,null,null,null,null,null,null,null,null,null,null,null,"EXCLUSIVE CARE"]
[null,null,null,null,null,null,null,null,null,null,null,null,null,null,0.51]
[]
[null,null,null,null,null,null,null,null,null,null,null,null,null,null,"PRIVILEGE CARE"]
[null,null,null,null,null,null,null,null,null,null,null,null,null,null,0.51]
[null,null,null,null,null,null,null,null,null,null,null,null,null,null,"ADVANTAGE CARE"]
[]
[null,null,null,null,null,null,null,null,null,null,null,null,null,null,0.47]
[]
[null,null,null,null,null,null,null,null,null,null,null,null,null,null,"SECURE CARE"]
[null,null,null,null,null,null,null,null,null,null,null,null,null,null,0.54]
[]
[null,null,null,null,null,null,null,null,null,null,null,null,null,null,"ESSENTIAL CARE"]
[null,null,null,null,null,null,null,null,null,null,null,null,null,null,0.54]

{"sheet":"Bupa Essential Care","index":1,"n_rows":86,"n_cols":21,"rows_kept":86,"cut":false,"hidden":false,"merged":[[20,7,21,7],[72,0,72,1],[72,2,72,3],[73,0,73,1],[73,2,73,3],[74,0,74,1],[74,2,74,3],[75,0,75,1],[75,2,75,3],[61,2,61,3],[62,0,62,1],[62,2,62,3],[63,0,63,1],[63,2,63,3],[64,0,64,1],[64,2,64,3],[32,0,32,1],[32,2,32,3],[38,2,38,3],[46,2,46,3],[39,0,39,1],[39,2,39,3],[41,0,45,1],[41,2,45,3],[85,5,89,9],[33,5,33,10],[45,5,45,10],[58,5,58,10],[71,5,71,10],[81,0,81,1],[81,2,81,3],[76,0,76,1],[76,2,76,3],[77,0,77,1],[77,2,77,3],[79,0,79,1],[79,2,79,3],[80,0,80,1],[80,2,80,3],[33,0,33,1],[33,2,33,3],[60,0,60,1],[60,2,60,3],[59,0,59,1],[59,2,59,3],[36,0,36,1],[36,2,36,3],[38,0,38,1],[13,0,13,1],[13,2,13,3],[4,9,5,9],[6,9,10,9],[12,0,12,5],[4,0,10,8],[12,6,12,9],[14,0,14,5],[16,1,16,5],[16,7,16,8],[14,6,14,9],[18,7,18,8],[20,8,21,9],[30,0,30,1],[30,2,30,3],[31,0,31,1],[31,2,31,3],[68,0,68,1],[68,2,68,3],[69,0,69,1],[69,2,69,3],[29,0,29,1],[29,2,29,3],[22,0,22,1],[22,2,22,3],[23,0,24,1],[23,2,23,3],[24,2,24,3],[25,0,27,1],[25,2,25,3],[66,0,66,1],[66,2,66,3],[67,0,67,1],[67,2,67,3],[61,0,61,1],[35,2,35,3],[18,1,18,5],[19,0,19,1],[19,2,19,3],[20,0,21,1],[20,2,21,3],[27,2,27,3],[28,0,28,1],[28,2,28,3],[17,7,17,8],[0,12,0,18],[0,20,0,26],[55,0,55,1],[55,2,55,3],[56,0,57,1],[56,2,57,3],[49,0,49,1],[49,2,49,3],[50,0,50,1],[50,2,50,3],[47,0,47,1],[47,2,47,3],[48,0,48,1],[48,2,48,3],[46,0,46,1],[51,0,51,1],[51,2,51,3],[53,0,53,1],[53,2,53,3],[54,0,54,1],[54,2,54,3],[34,0,35,1],[34,2,34,3]]}
[null,null,null,null,null,null,null,null,null,null,null,null,"RESUMEN DE BENEFICIOS",null,null,null,null,null,null,null,"RESUMEN DE BENEFICIOS"]
[null,null,null,null,null,null,true,false," "," "," "]
[]
[]
["Cotización de Seguro Médico Internacional\nBupa Essential Care\nTarifas en US$ | Validas: 1 de enero de 2024",null,null,null,null,null,null,null,null,"REGIÓN"]
[]
[null,null,null,null,null,null,null,null,null,{"$f":"IF('INGRESO DE DATOS'!W14=\"Guatemala\",\"GUATEMALA\",'INGRESO DE DATOS'!W14)","v":"REPÚBLICA DOMINICANA"}]
[]
[]
[]
[]
[]
["Nombre del asegurado principal:",null,null,null,null,null,{"$f":"+'INGRESO DE DATOS'!$C$36","v":"John Doe"}]
[]
["Broker/Agente",null,null,null,null,null,{"$f":"+'INGRESO DE DATOS'!$C$45","v":"Agencia"}]
[]
[null,"Número de Adultos en la Póliza",null,null,null,null,{"$f":"+'INGRESO DE DATOS'!$C$38","v":1},"Dependientes (menores de 24 años)",null,{"$f":"+'INGRESO DE DATOS'!$F$38","v":0}]
[null,null,null,null,null,null,null,{"$f":"IF('INGRESO DE DATOS'!$P$2=TRUE, \"Cotización para dependiente de 24 años\",\"\")","v":""}]
[null,"Edad del Titular",null,null,null,null,{"$f":"+'INGRESO DE DATOS'!$C$40","v":47},"Edad del Cónyuge",null,{"$f":"+'INGRESO DE DATOS'!$F$40","v":46}]
[]
[null,null,null,null,null,null,null," Fecha de Cotización:",{"$f":"NOW()","v":"2024-01-10T17:03:00.440"}]
[]
[]
[]
[null,null,null,null,null,null,null," "]
[]
[]
[null,null,null,null,null,null,null,null,null,"No incluye maternidad"]
[null,null,null,null,null,"DEDUCIBLES","PLAN 1","PLAN 2","PLAN 3","PLAN 4","PLAN 5"]
[null,null,null,null,null,"Dentro del pais de residencia","$0","$0",500,2000,10000]
[null,null,null,null,null,"Fuera del pais de residencia",1000,3000,2000,5000,10000]
[]
[]
[null,null,null,null,null,"TARIFAS ANUALES"]
[null,null,null,null,null,"Prima de Titular",{"$f":"VLOOKUP($G$19,Tablas!$A$256:$H$318,3,TRUE)","v":3426},{"$f":"VLOOKUP($G$19,Tablas!$A$256:$H$318,4,TRUE)","v":3111},{"$f":"VLOOKUP($G$19,Tablas!$A$256:$H$318,5,TRUE)","v":2827},{"$f":"VLOOKUP($G$19,Tablas!$A$256:$H$318,6,TRUE)","v":2437},{"$f":"VLOOKUP($G$19,Tablas!$A$10:$H$33,8,TRUE)","v":0}]
[null,null,null,null,null,"Prima de Cónyuge",{"$f":"IF($G$17=1,0,(VLOOKUP($J$19,Tablas!$A$256:$H$318,3,TRUE)))","v":0},{"$f":"IF($G$17=1,0,(VLOOKUP($J$19,Tablas!$A$256:$H$318,4,TRUE)))","v":0},{"$f":"IF($G$17=1,0,(VLOOKUP($J$19,Tablas!$A$256:$H$318,5,TRUE)))","v":0},{"$f":"IF($G$17=1,0,(VLOOKUP($J$19,Tablas!$A$256:$H$318,6,TRUE)))","v":0},{"$f":"IF($G$17=1,0,(VLOOKUP($J$19,Tablas!$A$10:$H$33,8,TRUE)))","v":0}]
[null,null,null,null,null,"Primas Hijos",{"$f":"IF($J$17=0,0,(VLOOKUP($J$17,Tablas!$A$319:$H$321,3,TRUE)))","v":0},{"$f":"IF($J$17=0,0,(VLOOKUP($J$17,Tablas!$A$319:$H$321,4,TRUE)))","v":0},{"$f":"IF($J$17=0,0,(VLOOKUP($J$17,Tablas!$A$319:$H$321,5,TRUE)))","v":0},{"$f":"IF($J$17=0,0,(VLOOKUP($J$17,Tablas!$A$319:$H$321,6,TRUE)))","v":0},{"$f":"IF($J$17=0,0,(VLOOKUP($J$17,Tablas!$A$34:$H$36,8,TRUE)))","v":0}]
[null,null,null,null,null,"Rider: Complicación de Maternidad",0,0,0,0,0]
[null,null,null,null,null,"TOTAL PRIMA NETA",{"$f":"SUM(G35:G38)","v":3426},{"$f":"SUM(H35:H38)","v":3111},{"$f":"SUM(I35:I38)","v":2827},{"$f":"SUM(J35:J38)","v":2437},{"$f":"SUM(K35:K38)","v":0}]
[null,null,null,null,null,"Costo Administrativo Anual",75,75,75,75,75]
[null,null,null,null,null,"IVA (12%)",0,0,0,0,0]
[null,null,null,null,null,"GRAN TOTAL:",{"$f":"SUM(G39:G41)","v":3501},{"$f":"SUM(H39:H41)","v":3186},2902,2512,75]
[]
[]
[]
[null,null,null,null,null,"TARIFAS SEMESTRALES"]
[null,null,null,null,null,"Prima de Titular",{"$f":"VLOOKUP($G$19,Tablas!$A$330:$H$392,3,TRUE)","v":1815.7800000000002},{"$f":"VLOOKUP($G$19,Tablas!$A$330:$H$392,4,TRUE)","v":1648.8300000000002},{"$f":"VLOOKUP($G$19,Tablas!$A$330:$H$392,5,TRUE)","v":1498.3100000000002},{"$f":"VLOOKUP($G$19,Tablas!$A$330:$H$392,6,TRUE)","v":1291.6100000000001},{"$f":"VLOOKUP($G$19,Tablas!$A$45:$H$68,8,TRUE)","v":0}]
[null,null,null,null,null,"Prima de Cónyuge",{"$f":"IF($G$17=1,0,(VLOOKUP($J$19,Tablas!$A$330:$H$392,3,TRUE)))","v":0},{"$f":"IF($G$17=1,0,(VLOOKUP($J$19,Tablas!$A$330:$H$392,4,TRUE)))","v":0},{"$f":"IF($G$17=1,0,(VLOOKUP($J$19,Tablas!$A$330:$H$392,5,TRUE)))","v":0},{"$f":"IF($G$17=1,0,(VLOOKUP($J$19,Tablas!$A$330:$H$392,6,TRUE)))","v":0},{"$f":"IF($G$17=1,0,(VLOOKUP($J$19,Tablas!$A$45:$H$68,8,TRUE)))","v":0}]
[null,null,null,null,null,"Primas Hijos",{"$f":"IF($J$17=0,0,(VLOOKUP($J$17,Tablas!$A$393:$H$395,3,TRUE)))","v":0},{"$f":"IF($J$17=0,0,(VLOOKUP($J$17,Tablas!$A$393:$H$395,4,TRUE)))","v":0},{"$f":"IF($J$17=0,0,(VLOOKUP($J$17,Tablas!$A$393:$H$395,5,TRUE)))","v":0},{"$f":"IF($J$17=0,0,(VLOOKUP($J$17,Tablas!$A$393:$H$395,6,TRUE)))","v":0},{"$f":"IF($J$17=0,0,(VLOOKUP($J$17,Tablas!$A$69:$H$71,8,TRUE)))","v":0}]
[null,null,null,null,null,"Rider: Complicación de Maternidad",0,0,0,0,0]
[null,null,null,null,null,"TOTAL PRIMA NETA",{"$f":"SUM(G47:G50)","v":1815.7800000000002},{"$f":"SUM(H47:H50)","v":1648.8300000000002},{"$f":"SUM(I47:I50)","v":1498.3100000000002},{"$f":"SUM(J47:J50)","v":1291.6100000000001},{"$f":"SUM(K47:K50)","v":0}]
[null,null,null,null,null,"Costo Administrativo Anual",75,75,75,75,75]
[null,null,null,null,null,"IVA (12%)",0,0,0,0,0]
[null,null,null,null,null,"TOTAL  (1ra Cuota)",{"$f":"SUM(G51:G53)","v":1890.7800000000002},{"$f":"SUM(H51:H53)","v":1723.8300000000002},1573.3100000000002,1366.6100000000001,75]
[null,null,null,null,null,"TOTAL  (2da Cuota)",{"$f":"G54-G52","v":1815.7800000000002},{"$f":"H54-H52","v":1648.8300000000002},1498.3100000000002,1291.6100000000001,{"$f":"K54-K52*'INGRESO DE DATOS'!$T$19","v":-9.0000000000000142}]
[null,null,null,null,null,"GRAN TOTAL",{"$f":"SUM(G54:G55)","v":3706.5600000000004},{"$f":"SUM(H54:H55)","v":3372.6600000000003},3071.6200000000003,2658.2200000000003,65.999999999999986]
[]
[]
[null,null,null,null,null,"TARIFAS TRIMESTRALES"]
[null,null,null,null,null,"Prima de Titular",{"$f":"VLOOKUP($G$19,Tablas!$A$405:$H$467,3,TRUE)","v":942.15000000000009},{"$f":"VLOOKUP($G$19,Tablas!$A$405:$H$467,4,TRUE)","v":855.52500000000009},{"$f":"VLOOKUP($G$19,Tablas!$A$405:$H$467,5,TRUE)","v":777.42500000000007},{"$f":"VLOOKUP($G$19,Tablas!$A$405:$H$467,6,TRUE)","v":670.17500000000007},{"$f":"VLOOKUP($G$19,Tablas!$A$79:$H$102,8,TRUE)","v":0}]
[null,null,null,null,null,"Prima de Cónyuge",{"$f":"IF($G$17=1,0,(VLOOKUP($J$19,Tablas!$A$405:$H$467,3,TRUE)))","v":0},{"$f":"IF($G$17=1,0,(VLOOKUP($J$19,Tablas!$A$405:$H$467,4,TRUE)))","v":0},{"$f":"IF($G$17=1,0,(VLOOKUP($J$19,Tablas!$A$405:$H$467,5,TRUE)))","v":0},{"$f":"IF($G$17=1,0,(VLOOKUP($J$19,Tablas!$A$405:$H$467,6,TRUE)))","v":0},{"$f":"IF($G$17=1,0,(VLOOKUP($J$19,Tablas!$A$79:$H$102,8,TRUE)))","v":0}]
[null,null,null,null,null,"Primas Hijos",{"$f":"IF($J$17=0,0,(VLOOKUP($J$17,Tablas!$A$468:$H$470,3,TRUE)))","v":0},{"$f":"IF($J$17=0,0,(VLOOKUP($J$17,Tablas!$A$468:$H$470,4,TRUE)))","v":0},{"$f":"IF($J$17=0,0,(VLOOKUP($J$17,Tablas!$A$468:$H$470,5,TRUE)))","v":0},{"$f":"IF($J$17=0,0,(VLOOKUP($J$17,Tablas!$A$468:$H$470,6,TRUE)))","v":0},{"$f":"IF($J$17=0,0,(VLOOKUP($J$17,Tablas!$A$103:$H$105,8,TRUE)))","v":0}]
[null,null,null,null,null,"Rider: Complicación de Maternidad",0,0,0,0,0]
[null,null,null,null,null,"TOTAL PRIMA NETA",{"$f":"SUM(G60:G63)","v":942.15000000000009},{"$f":"SUM(H60:H63)","v":855.52500000000009},{"$f":"SUM(I60:I63)","v":777.42500000000007},{"$f":"SUM(J60:J63)","v":670.17500000000007},{"$f":"SUM(K60:K63)","v":0}]
[null,null,null,null,null,"Costo Administrativo Anual",75,75,75,75,75]
[null,null,null,null,null,"IVA (12%)",0,0,0,0,0]
[null,null,null,null,null,"TOTAL  (1ra Cuota)",{"$f":"SUM(G64:G66)","v":1017.1500000000001},{"$f":"SUM(H64:H66)","v":930.52500000000009},852.42500000000007,745.17500000000007,75]
[null,null,null,null,null,"TOTAL  (2da a 4ta Cuota)",{"$f":"G67-G65","v":942.15000000000009},{"$f":"H67-H65","v":855.52500000000009},777.42500000000007,670.17500000000007,{"$f":"K67-K65*'INGRESO DE DATOS'!$T$19","v":-9.0000000000000142}]
[null,null,null,null,null,"GRAN TOTAL",{"$f":"G67+G68*3","v":3843.6000000000004},{"$f":"H67+H68*3","v":3497.1000000000004},3184.7000000000003,2755.7000000000003,{"$f":"K67+K68*2","v":56.999999999999972}]
[]
[]
[null,null,null,null,null,"TARIFAS MENSUALES"]
[null,null,null,null,null,"Prima de Titular",{"$f":"VLOOKUP($G$19,Tablas!$A$480:$G$542,3,TRUE)","v":319.75999885800002},{"$f":"VLOOKUP($G$19,Tablas!$A$480:$G$542,4,TRUE)","v":290.35999896300001},{"$f":"VLOOKUP($G$19,Tablas!$A$480:$G$542,5,TRUE)","v":263.85333239100004},{"$f":"VLOOKUP($G$19,Tablas!$A$480:$G$542,6,TRUE)","v":227.45333252100002},{"$f":"VLOOKUP($G$19,Tablas!$A$112:$H$135,8,TRUE)","v":0}]
[null,null,null,null,null,"Prima de Cónyuge",{"$f":"IF($G$17=1,0,(VLOOKUP($J$19,Tablas!$A$480:$G$542,3,TRUE)))","v":0},{"$f":"IF($G$17=1,0,(VLOOKUP($J$19,Tablas!$A$480:$G$542,4,TRUE)))","v":0},{"$f":"IF($G$17=1,0,(VLOOKUP($J$19,Tablas!$A$480:$G$542,5,TRUE)))","v":0},{"$f":"IF($G$17=1,0,(VLOOKUP($J$19,Tablas!$A$480:$G$542,6,TRUE)))","v":0},{"$f":"IF($G$17=1,0,(VLOOKUP($J$19,Tablas!$A$112:$H$135,4,TRUE)))","v":0}]
[null,null,null,null,null,"Primas Hijos",{"$f":"IF($J$17=0,0,(VLOOKUP($J$17,Tablas!$A$543:$G$545,3,TRUE)))","v":0},{"$f":"IF($J$17=0,0,(VLOOKUP($J$17,Tablas!$A$543:$G$545,4,TRUE)))","v":0},{"$f":"IF($J$17=0,0,(VLOOKUP($J$17,Tablas!$A$543:$G$545,5,TRUE)))","v":0},{"$f":"IF($J$17=0,0,(VLOOKUP($J$17,Tablas!$A$543:$G$545,6,TRUE)))","v":0},{"$f":"IF($J$17=0,0,(VLOOKUP($J$17,Tablas!$A$136:$H$138,8,TRUE)))","v":0}]
[null,null,null,null,null,"Rider: Complicación de Maternidad",0,0,0,0,0]
[null,null,null,null,null,"TOTAL PRIMA NETA",{"$f":"SUM(G73:G76)","v":319.75999885800002},{"$f":"SUM(H73:H76)","v":290.35999896300001},{"$f":"SUM(I73:I76)","v":263.85333239100004},{"$f":"SUM(J73:J76)","v":227.45333252100002},{"$f":"SUM(K73:K76)","v":0}]
[null,null,null,null,null,"Costo Administrativo Anual",75,75,75,75,75]
[null,null,null,null,null,"IVA (12%)",0,0,0,0,0]
[null,null,null,null,null,"TOTAL  (1ra Cuota)",{"$f":"SUM(G77:G79)","v":394.75999885800002},{"$f":"SUM(H77:H79)","v":365.35999896300001},338.85333239100004,302.45333252099999,75]
[null,null,null,null,null,"TOTAL  (2da a Cuota 12)",{"$f":"G80-G78","v":319.75999885800002},{"$f":"H80-H78","v":290.35999896300001},263.85333239100004,227.45333252099999,{"$f":"K80-K78*'INGRESO DE DATOS'!$T$19","v":-9.0000000000000142}]
[null,null,null,null,null,"GRAN TOTAL",{"$f":"G80+G81*11","v":3912.1199862960002},{"$f":"H80+H81*11","v":3559.3199875560003},3241.2399886920007,2804.4399902519999,{"$f":"K80+K81*2","v":56.999999999999972}]
[]
[]
[null," "]
[null,null,null,null,null,"Este presupuesto solamente tiene carácter informativo y en ningún momento expresa compromiso legal para suministrarle cobertura de seguro. La emisión de una póliza de seguro Bupa está sujeta a todas las evaluaciones de riesgo por parte de Bupa y a la recepción de todos los pagos de prima requeridos."]

{"sheet":"Advantage (LA)","index":2,"n_rows":50,"n_cols":13,"rows_kept":50,"cut":false,"hidden":true,"merged":[[9,0,9,12],[11,7,11,12],[13,7,13,12],[17,5,17,6],[16,5,16,6],[11,0,11,3],[17,0,18,1],[12,0,12,1],[13,0,13,1],[14,0,14,1],[15,0,15,1],[16,0,16,1],[49,5,49,12],[12,2,12,3],[13,2,13,3],[14,2,14,3],[15,2,15,3],[27,2,27,3],[16,2,16,3],[20,2,20,3],[17,2,18,3],[29,2,29,3],[30,2,30,3],[23,2,23,3],[24,2,24,3],[19,2,19,3],[33,2,33,3],[45,2,46,3],[19,0,19,1],[28,0,28,1],[28,2,28,3],[32,0,32,1],[25,2,25,3],[25,0,25,1],[26,0,26,1],[26,2,26,3],[32,2,32,3],[21,2,21,3],[22,2,22,3],[31,2,31,3],[27,0,27,1],[29,0,29,1],[30,0,31,1],[20,0,21,1],[22,0,23,1],[24,0,24,1],[33,0,33,1],[34,0,34,1],[38,2,38,3],[38,0,38,1],[35,0,35,1],[35,2,35,3],[36,0,36,1],[36,2,36,3],[34,2,34,3],[39,0,39,1],[40,0,40,1],[39,2,39,3],[41,0,41,1],[40,2,40,3],[45,0,46,1],[42,0,42,1],[41,2,41,3],[42,2,42,3],[43,0,43,1],[43,2,43,3],[44,0,44,1],[44,2,44,3]]}
[]
[null,null,null,null,null,null,null,null,null," "," "," "]
[]
[]
[]
[null,null,null,null,null,null,null,null,null," "," "," "," "]
[]
[]
[]
["Cotización de Seguro Médico Internacional - Bupa ADVANTAGE Care (cobertura solo Latinoamérica)"]
[]
["Bupa Advantage Care (cobertura solo en Latinoamérica)",null,null,null,null,null,null,{"$f":"+'INGRESO DE DATOS'!$C$36","v":"John Doe"}]
["Cobertura Máxima anual",null,"US $ 3,500,000"]
["Cobertura Geografica",null,"Limitada a Latinoamérica excluyendo México",null,null,null,null,{"$f":"+'INGRESO DE DATOS'!$C$45","v":"Agencia"}]
["Condiciones médicas cubiertas",null,"Todas las condiciones médicas"]
["Redes de proveedores",null,"Red de Proveedores \"Bupa Advantage\"",null,null,null,null,null,null,{"$f":"+'INGRESO DE DATOS'!$C$38","v":1},null,null,{"$f":"+'INGRESO DE DATOS'!$C$40","v":47}]
["Opciones fuera de la Red",null,"NO, solo en casos de emergencia",null,null,"FECHA DE COTIZACION :"]
["Requiere preautorización",null,"SI, 30% de penalización por omitir prenotificación",null,null,{"$f":"NOW()","v":"2024-01-10T17:03:00.440"},null,null,null,{"$f":"+'INGRESO DE DATOS'!$F$38","v":0},null,null,{"$f":"+'INGRESO DE DATOS'!$F$40","v":46}]
[null,null,null,null,null,null,null,null,null," "," "," "]
["Número máximo de días de hospitalización",null,"Ilimitado",null,null,null,null,null,true,null,"COMPLICACIONES DE MATERNIDAD"]
["Habitación y alimentación",null,"100% dentro de Red Bupa"]
[null,null,"\"UCR\" para L.A. en emergencias fuera de  Red Bupa",null,null,null,null,null,true,null,"TRASPLANTE DE ORGANOS"]
["Cuidados Intensivos",null,"100% dentro de Red Bupa"]
[null,null,"\"UCR\" para L.A. en emergencias fuera de  Red Bupa",null,null,null," "]
["Cobertura de Maternidad",null,"$5,000 (Excepto planes 4,5, y 6)",null,null,"Deducibles",null,"PLAN 1","PLAN 2","PLAN 3","PLAN 4","PLAN 5","PLAN 6"]
["Cobertura Provisional de Recién Nacido",null,"$30,000 por los primeros 90 días",null,null,"Dentro del pais de residencia",null,"n/a",1000,2000,5000,10000,20000]
["Cuidado del Recién Nacido saludable",null,"Ya incluída dentro del beneficio de Maternidad",null,null,"Fuera del pais de residencia",null,"n/a",2000,3000,5000,10000,20000]
["Cobertura de Complicaciones de Maternidad",null,"Disponible a través de cobertura opcional adicional"]
["Trasplante de Organos",null,"$1,000,000 de por vida, por diagnóstico"]
["Condiciones congénitas y hereditarias",null,"<18 años $300,000 de por vida; >=18 al 100%",null,null,"Tarifas Anuales"]
["Coberturas opcionales (Riders)",null,"Complicaciones de Maternidad por $500,000",null,null,"Prima de Titular :",null,"n/a",{"$f":"VLOOKUP($M$16,Tablas!#REF!,4,TRUE)","v":{"$error":"#REF!"}},{"$f":"VLOOKUP($M$16,Tablas!#REF!,5,TRUE)","v":{"$error":"#REF!"}},{"$f":"VLOOKUP($M$16,Tablas!#REF!,6,TRUE)","v":{"$error":"#REF!"}},{"$f":"VLOOKUP($M$16,Tablas!#REF!,7,TRUE)","v":{"$error":"#REF!"}},{"$f":"VLOOKUP($M$16,Tablas!#REF!,8,TRUE)","v":{"$error":"#REF!"}}]
[null,null,"Trasplante de órganos por $ 300,000 adicionales",null,null,"Prima de Cónyuge",null,"n/a",{"$f":"IF($J$16=1,0,(VLOOKUP($M$18,Tablas!#REF!,4,TRUE)))","v":0},{"$f":"IF($J$16=1,0,(VLOOKUP($M$18,Tablas!#REF!,5,TRUE)))","v":0},{"$f":"IF($J$16=1,0,(VLOOKUP($M$18,Tablas!#REF!,6,TRUE)))","v":0},{"$f":"IF($J$16=1,0,(VLOOKUP($M$18,Tablas!#REF!,7,TRUE)))","v":0},{"$f":"IF($J$16=1,0,(VLOOKUP($M$18,Tablas!#REF!,8,TRUE)))","v":0}]
["Acompañamiento de menores hospitalizados",null,"$300 por día",null,null,"Primas Hijos :",null,"n/a",{"$f":"IF($J$18=0,0,(VLOOKUP($J$18,Tablas!#REF!,4,TRUE)))","v":0},{"$f":"IF($J$18=0,0,(VLOOKUP($J$18,Tablas!#REF!,5,TRUE)))","v":0},{"$f":"IF($J$18=0,0,(VLOOKUP($J$18,Tablas!#REF!,6,TRUE)))","v":0},{"$f":"IF($J$18=0,0,(VLOOKUP($J$18,Tablas!#REF!,7,TRUE)))","v":0},{"$f":"IF($J$18=0,0,(VLOOKUP($J$18,Tablas!#REF!,8,TRUE)))","v":0}]
["Ambulancia aérea",null,"$100,000 por año y ticket aéreo de retorno",null,null,"Prima Rider Complic. Maternidad",null,"n/a",{"$f":"+IF($I$20=FALSE,0,Tablas!#REF!)","v":{"$error":"#REF!"}},{"$f":"+IF($I$20=FALSE,0,Tablas!#REF!)","v":{"$error":"#REF!"}},{"$f":"+IF($I$20=FALSE,0,Tablas!#REF!)","v":{"$error":"#REF!"}},{"$f":"+IF($I$20=FALSE,0,Tablas!#REF!)","v":{"$error":"#REF!"}},{"$f":"+IF($I$20=FALSE,0,Tablas!#REF!)","v":{"$error":"#REF!"}}]
["Repatriación restos mortales",null,1,null,null,"Prima Rider Trasplante Organos",null,"n/a",{"$f":"IF($I$22=FALSE,0,Tablas!#REF!)","v":{"$error":"#REF!"}},{"$f":"IF($I$22=FALSE,0,Tablas!#REF!)","v":{"$error":"#REF!"}},{"$f":"IF($I$22=FALSE,0,Tablas!#REF!)","v":{"$error":"#REF!"}},{"$f":"IF($I$22=FALSE,0,Tablas!#REF!)","v":{"$error":"#REF!"}},{"$f":"IF($I$22=FALSE,0,Tablas!#REF!)","v":{"$error":"#REF!"}}]
["Medicamentos por receta",null,"$6,000 por Asegurado, por año póliza",null,null,"TOTAL PRIMA NETA :",null,"n/a",{"$f":"SUM(I31:I35)","v":{"$error":"#REF!"}},{"$error":"#REF!"},{"$error":"#REF!"},{"$error":"#REF!"},{"$error":"#REF!"}]
["Almacenamiento de sangre de cordon umbilical",null,"$500  (Excepto planes 4,5, y 6)",null,null,"Costo Administrativo Anual :",null,"n/a",75,75,75,75,75]
[null,null,null,null,null,"GRAN TOTAL :",null,"n/a",{"$f":"SUM(I36:I37)","v":{"$error":"#REF!"}},{"$f":"SUM(J36:J37)","v":{"$error":"#REF!"}},{"$f":"SUM(K36:K37)","v":{"$error":"#REF!"}},{"$f":"SUM(L36:L37)","v":{"$error":"#REF!"}},{"$f":"SUM(M36:M37)","v":{"$error":"#REF!"}}]
["Atención médica en el hogar",null,"100% de usual/acostumbrado y razonable"]
["Rehabilitación",null,"100% de usual/acostumbrado y razonable",null,null,"Tarifas Semestrales"]
["Residencia y cuidados paliativos",null,"100% de usual/acostumbrado y razonable",null,null,"Prima de Titular :",null,"n/a",{"$f":"VLOOKUP($M$16,Tablas!#REF!,4,TRUE)","v":{"$error":"#REF!"}},{"$f":"VLOOKUP($M$16,Tablas!#REF!,5,TRUE)","v":{"$error":"#REF!"}},{"$f":"VLOOKUP($M$16,Tablas!#REF!,6,TRUE)","v":{"$error":"#REF!"}},{"$f":"VLOOKUP($M$16,Tablas!#REF!,7,TRUE)","v":{"$error":"#REF!"}},{"$f":"VLOOKUP($M$16,Tablas!#REF!,8,TRUE)","v":{"$error":"#REF!"}}]
["Cobertura de actividades peligrosas",null,1,null,null,"Prima de Cónyuge",null,"n/a",{"$f":"IF($J$16=1,0,(VLOOKUP($M$18,Tablas!#REF!,4,TRUE)))","v":0},{"$f":"IF($J$16=1,0,(VLOOKUP($M$18,Tablas!#REF!,5,TRUE)))","v":0},{"$f":"IF($J$16=1,0,(VLOOKUP($M$18,Tablas!#REF!,6,TRUE)))","v":0},{"$f":"IF($J$16=1,0,(VLOOKUP($M$18,Tablas!#REF!,7,TRUE)))","v":0},{"$f":"IF($J$16=1,0,(VLOOKUP($M$18,Tablas!#REF!,8,TRUE)))","v":0}]
["Chequeos generales de rutina",null,"Hasta US$150 por año póliza.Sin deducible",null,null,"Primas Hijos :",null,"n/a",{"$f":"IF($J$18=0,0,(VLOOKUP($J$18,Tablas!#REF!,4,TRUE)))","v":0},{"$f":"IF($J$18=0,0,(VLOOKUP($J$18,Tablas!#REF!,5,TRUE)))","v":0},{"$f":"IF($J$18=0,0,(VLOOKUP($J$18,Tablas!#REF!,6,TRUE)))","v":0},{"$f":"IF($J$18=0,0,(VLOOKUP($J$18,Tablas!#REF!,7,TRUE)))","v":0},{"$f":"IF($J$18=0,0,(VLOOKUP($J$18,Tablas!#REF!,8,TRUE)))","v":0}]
["Cobertura de VIH, SIDA, CAS",null,"Solo como efecto de transfusión de sangre",null,null,"Prima Rider Complic. Maternidad",null,"n/a",{"$f":"+IF($I$20=FALSE,0,Tablas!#REF!)","v":{"$error":"#REF!"}},{"$f":"+IF($I$20=FALSE,0,Tablas!#REF!)","v":{"$error":"#REF!"}},{"$f":"+IF($I$20=FALSE,0,Tablas!#REF!)","v":{"$error":"#REF!"}},{"$f":"+IF($I$20=FALSE,0,Tablas!#REF!)","v":{"$error":"#REF!"}},{"$f":"+IF($I$20=FALSE,0,Tablas!#REF!)","v":{"$error":"#REF!"}}]
["Cobertura de brazos y piernas artificiales",null,"$30,000 por año y hasta $120,000 de por vida",null,null,"Prima Rider Trasplante Organos",null,"n/a",{"$f":"IF($I$22=FALSE,0,Tablas!#REF!)","v":{"$error":"#REF!"}},{"$f":"IF($I$22=FALSE,0,Tablas!#REF!)","v":{"$error":"#REF!"}},{"$f":"IF($I$22=FALSE,0,Tablas!#REF!)","v":{"$error":"#REF!"}},{"$f":"IF($I$22=FALSE,0,Tablas!#REF!)","v":{"$error":"#REF!"}},{"$f":"IF($I$22=FALSE,0,Tablas!#REF!)","v":{"$error":"#REF!"}}]
["Cobertura extendida para dependientes en caso de muerte de asegurado principal",null,"2 años sin costo",null,null,"TOTAL PRIMA NETA :",null,"n/a",{"$f":"SUM(I41:I45)","v":{"$error":"#REF!"}},{"$error":"#REF!"},{"$error":"#REF!"},{"$error":"#REF!"},{"$error":"#REF!"}]
[null,null,null,null,null,"Costo Administrativo Anual :",null,"n/a",75,75,75,75,75]
[null,null,null,null,null,"GRAN TOTAL  (1ra Cuota) :",null,"n/a",{"$f":"SUM(I46:I47)","v":{"$error":"#REF!"}},{"$f":"SUM(J46:J47)","v":{"$error":"#REF!"}},{"$f":"SUM(K46:K47)","v":{"$error":"#REF!"}},{"$f":"SUM(L46:L47)","v":{"$error":"#REF!"}},{"$f":"SUM(M46:M47)","v":{"$error":"#REF!"}}]
[null," ",null,null,null,"GRAN TOTAL  (2da Cuota) :",null,"n/a",{"$f":"I46","v":{"$error":"#REF!"}},{"$f":"J46","v":{"$error":"#REF!"}},{"$error":"#REF!"},{"$error":"#REF!"},{"$error":"#REF!"}]
[null," ",null,null,null,"Tarifas en US $ -  Válidas desde 01 Ene 2013"]

{"sheet":"Resumen de Tarifas","index":3,"n_rows":29,"n_cols":8,"rows_kept":29,"cut":false,"hidden":false,"merged":[[30,0,32,7],[12,11,12,16],[14,11,14,16],[11,2,11,7],[12,1,12,7],[14,1,14,7],[26,0,26,2],[27,0,27,2],[21,0,21,2],[22,0,22,2],[23,0,23,2],[25,0,25,2],[24,0,24,6],[28,0,28,2],[16,4,16,5],[18,4,18,5],[4,0,10,6],[6,7,10,7],[4,7,5,7],[17,4,17,5]]}
[]
[null,null,null,null," "," "," "]
[]
[]
["Cotización de Seguro Médico Internacional\nResumen de Tarifas\nTarifas en US$ | Validas: 1 de enero de 2024",null,null,null,null,null,null,"REGIÓN"]
[]
[null,null,null,null,null,null,null,{"$f":"IF('INGRESO DE DATOS'!W14=\"Guatemala\",\"GUATEMALA\",'INGRESO DE DATOS'!W14)","v":"REPÚBLICA DOMINICANA"}]
[]
[]
[]
[]
[]
["Nombre del asegurado principal",{"$f":"+'INGRESO DE DATOS'!$C$36","v":"John Doe"}]
[]
["Broker/Agente",{"$f":"+'INGRESO DE DATOS'!$C$45","v":"Agencia"}]
[]
["Número de Adultos en la Póliza",{"$f":"+'INGRESO DE DATOS'!$C$38","v":1},null,null,"Dependientes (menores de 24 años)",null,null,{"$f":"+'INGRESO DE DATOS'!$F$38","v":0}]
[null,null,null,null,{"$f":"IF('INGRESO DE DATOS'!$P$2=TRUE, \"Cotización para dependiente de 24 años\",\"\")","v":""}]
["Edad del Titular",{"$f":"+'INGRESO DE DATOS'!$C$40","v":47},null,null,"Edad del Cónyuge",null,null,{"$f":"+'INGRESO DE DATOS'!$F$40","v":46}]
[]
[null,null,null,null," "," "," "]
["DEDUCIBLES",null,null,"PLAN 1","PLAN 2","PLAN 3","PLAN 4"]
["Dentro del pais de residencia",null,null,"$0","$0",500,2000]
["Fuera del pais de residencia",null,null,1000,3000,2000,5000]
["Bupa Essential Care"]
["Tarifas Anuales",null,null,{"$f":"'Bupa Essential Care'!G42","v":3501},{"$f":"'Bupa Essential Care'!H42","v":3186},{"$f":"'Bupa Essential Care'!I42","v":2902},{"$f":"'Bupa Essential Care'!J42","v":2512}]
["Tarifas Semestrales",null,null,{"$f":"'Bupa Essential Care'!G56","v":3706.5600000000004},{"$f":"'Bupa Essential Care'!H56","v":3372.6600000000003},{"$f":"'Bupa Essential Care'!I56","v":3071.6200000000003},{"$f":"'Bupa Essential Care'!J56","v":2658.2200000000003}]
["Tarifas Trimestrales",null,null,{"$f":"'Bupa Essential Care'!G69","v":3843.6000000000004},{"$f":"'Bupa Essential Care'!H69","v":3497.1000000000004},{"$f":"'Bupa Essential Care'!I69","v":3184.7000000000003},{"$f":"'Bupa Essential Care'!J69","v":2755.7000000000003}]
["Tarifas Mensuales",null,null,{"$f":"'Bupa Essential Care'!G82","v":3912.1199862960002},{"$f":"'Bupa Essential Care'!H82","v":3559.3199875560003},{"$f":"'Bupa Essential Care'!I82","v":3241.2399886920007},{"$f":"'Bupa Essential Care'!J82","v":2804.4399902519999}]

{"sheet":"Comparacion de Beneficios","index":4,"n_rows":1,"n_cols":1,"rows_kept":1,"cut":false,"hidden":true,"merged":[[0,0,4,7],[25,5,26,5],[25,6,26,6],[27,0,28,0],[29,0,30,0],[10,4,11,4],[10,5,11,5],[10,6,11,6],[10,7,11,7],[86,0,87,0],[89,0,91,0],[9,0,11,0],[13,0,14,0],[15,0,16,0],[37,0,41,0],[24,0,26,0],[31,0,33,0],[31,7,33,7],[39,5,41,5],[39,6,41,6],[38,7,41,7],[17,0,19,0],[32,6,33,6],[25,2,26,2],[25,3,26,3],[25,4,26,4],[31,2,33,2],[31,3,33,3],[32,4,33,4],[32,5,33,5]]}
["2023 BUPA CARE COMPARACION DE BENEFICIOS"]

{"sheet":"Tablas","index":5,"n_rows":1449,"n_cols":29,"rows_kept":1449,"cut":false,"hidden":true,"merged":[[1229,0,1229,1],[1303,0,1303,7],[1303,16,1303,17],[1304,2,1304,6],[1305,0,1305,1],[1377,0,1377,7],[1377,16,1377,17],[1378,2,1378,6],[1379,0,1379,1],[1151,0,1151,7],[1151,10,1151,11],[1152,0,1152,7],[1152,16,1152,17],[1153,2,1153,6],[1154,0,1154,1],[1227,0,1227,7],[1227,16,1227,17],[1228,2,1228,6],[515,49,515,51],[515,52,515,54],[2,4,2,5],[109,0,109,7],[110,0,110,1],[476,0,476,7],[477,2,477,6],[478,0,478,1],[513,19,513,35],[513,38,513,54],[514,19,514,20],[514,21,514,25],[514,38,514,39],[514,40,514,44],[289,38,289,54],[290,38,290,39],[290,40,290,44],[291,46,291,48],[291,49,291,51],[291,52,291,54],[291,40,291,42],[291,43,291,45],[326,0,326,7],[327,2,327,6],[1,21,1,22],[1,19,1,20],[1,4,1,5],[630,0,630,1],[702,0,702,7],[703,2,703,6],[704,0,704,1],[5,0,5,7],[6,0,6,7],[7,2,7,6],[8,0,8,1],[145,0,145,7],[217,0,217,1],[555,2,555,6],[556,0,556,1],[403,0,403,1],[253,2,253,6],[254,0,254,1],[216,2,216,6],[438,19,438,35],[251,0,251,7],[252,0,252,7],[41,0,41,7],[553,0,553,7],[554,0,554,7],[363,19,363,35],[363,38,363,54],[364,19,364,20],[364,21,364,25],[364,38,364,39],[364,40,364,44],[365,8,365,10],[365,11,365,13],[365,14,365,16],[365,21,365,23],[365,24,365,26],[438,38,438,54],[439,19,439,20],[439,21,439,25],[439,38,439,39],[439,40,439,44],[401,0,401,7],[402,2,402,6],[365,46,365,48],[365,49,365,51],[365,52,365,54],[365,27,365,29],[365,30,365,32],[515,27,515,29],[515,30,515,32],[328,0,328,1],[42,2,42,6],[43,0,43,1],[77,0,77,1],[180,0,180,7],[181,2,181,6],[182,0,182,1],[76,0,76,7],[215,0,215,7],[146,0,146,7],[147,2,147,6],[148,0,148,1],[1004,0,1004,7],[1004,16,1004,17],[365,33,365,35],[365,40,365,42],[365,43,365,45],[440,49,440,51],[440,52,440,54],[628,0,628,7],[629,2,629,6],[440,27,440,29],[440,30,440,32],[440,33,440,35],[440,40,440,42],[440,43,440,45],[440,8,440,10],[440,11,440,13],[440,14,440,16],[440,21,440,23],[440,24,440,26],[515,8,515,10],[515,11,515,13],[515,14,515,16],[515,21,515,23],[515,24,515,26],[1079,2,1079,6],[1080,0,1080,1],[776,0,776,7],[777,2,777,6],[778,0,778,1],[440,46,440,48],[855,0,855,1],[852,0,852,7],[852,10,852,11],[853,0,853,7],[853,16,853,17],[854,2,854,6],[515,46,515,48],[1078,0,1078,7],[1078,16,1078,17],[515,33,515,35],[515,40,515,42],[515,43,515,45],[1005,2,1005,6],[1006,0,1006,1],[928,0,928,7],[928,16,928,17],[929,2,929,6],[930,0,930,1]]}
[null,null,null,null,"FACTOR SEMESTRAL :",null,0.53,null,null,null,null,null,null,null,null,null,null,null,null,null,null,null,null,null,"Essential","Unique-Deductible: 0","Unique","Elite"]
[null,"REGIÓN",{"$f":"'INGRESO DE DATOS'!W14","v":"REPÚBLICA DOMINICANA"},null,"FACTOR TRIMESTRAL",null,0.27500000000000002,null,null,null,null,null,null,null,null,null,null,null,null,null,null,"TOTAL DISCOUNT",null,{"$f":"'INGRESO DE DATOS'!O54","v":1},{"$f":"'INGRESO DE DATOS'!P54","v":1},{"$f":"'INGRESO DE DATOS'!Q54","v":0.6},{"$f":"'INGRESO DE DATOS'!R54","v":0.6},{"$f":"'INGRESO DE DATOS'!S54","v":0.8},{"$f":"'INGRESO DE DATOS'!T54","v":1}]
[null,null,null,null,"FACTOR MENSUAL",null,9.3333333000000004E-2,null,null,null,null,null,null,null,null,null,null,null,null,null,null,null,null,null,null,{"$f":"'INGRESO DE DATOS'!Q55","v":0.55000000000000004},{"$f":"'INGRESO DE DATOS'!R55","v":0.55000000000000004}]
[null,null,null,null,null,null,null,null,null,null,null,null,null,null,null,null,null,null,null,null,null,null,null,null,null,{"$f":"'INGRESO DE DATOS'!Q56","v":0.5},{"$f":"'INGRESO DE DATOS'!R56","v":0.5}]
[null,null,null,null,null,null,null,null,null,null,null,null,null,null,null,null,null,null,null,null,null,null,null,null,null,{"$f":"'INGRESO DE DATOS'!Q57","v":0.5},{"$f":"'INGRESO DE DATOS'!R57","v":0.5}]
["BUPA COMPLETE  CARE",null,null,null,null,null,null,null,null,null,null,null,null,null,null,null,null,null,null,null,null,null,null,null,null,null,{"$f":"'INGRESO DE DATOS'!R58","v":0.5}]
["TARIFAS ANUALES"]
[]
["EDAD",null,null,"CW1","CW2","CW3","CW4"]
[18,"18-24",null,{"$f":"R10","v":0},{"$f":"S10","v":0},{"$f":"T10","v":0},{"$f":"U10","v":0},null,null,null,null,{"$f":"DR!D9","v":0},{"$f":"DR!E9","v":0},{"$f":"DR!F9","v":0},{"$f":"DR!G9","v":0},null,null,{"$f":"L10*$Y$2","v":0},{"$f":"M10*$Y$2","v":0},0,0]
[25,"25-29",null,0,0,0,0,null,null,null,null,{"$f":"DR!D10","v":0},{"$f":"DR!E10","v":0},{"$f":"DR!F10","v":0},{"$f":"DR!G10","v":0},null,null,{"$f":"L11*$Y$2","v":0},{"$f":"M11*$Y$2","v":0},{"$f":"N11*$Y$2","v":0},{"$f":"O11*$Y$2","v":0}]
[30,"30-34",null,0,0,0,0,null,null,null,null,{"$f":"DR!D11","v":0},{"$f":"DR!E11","v":0},{"$f":"DR!F11","v":0},{"$f":"DR!G11","v":0},null,null,0,0,0,0]
[35,"35-39",null,0,0,0,0,null,null,null,null,{"$f":"DR!D12","v":0},{"$f":"DR!E12","v":0},{"$f":"DR!F12","v":0},{"$f":"DR!G12","v":0},null,null,0,0,0,0]
[40,"40-44",null,0,0,0,0,null,null,null,null,{"$f":"DR!D13","v":0},{"$f":"DR!E13","v":0},{"$f":"DR!F13","v":0},{"$f":"DR!G13","v":0},null,null,0,0,0,0]
[45,"45-49",null,0,0,0,0,null,null,null,null,{"$f":"DR!D14","v":0},{"$f":"DR!E14","v":0},{"$f":"DR!F14","v":0},{"$f":"DR!G14","v":0},null,null,0,0,0,0]
[50,"50-54",null,0,0,0,0,null,null,null,null,{"$f":"DR!D15","v":0},{"$f":"DR!E15","v":0},{"$f":"DR!F15","v":0},{"$f":"DR!G15","v":0},null,null,0,0,0,0]
[55,"55-59",null,0,0,0,0,null,null,null,null,{"$f":"DR!D16","v":0},{"$f":"DR!E16","v":0},{"$f":"DR!F16","v":0},{"$f":"DR!G16","v":0},null,null,0,0,0,0]
[60,"60",null,0,0,0,0,null,null,null,null,{"$f":"DR!D17","v":0},{"$f":"DR!E17","v":0},{"$f":"DR!F17","v":0},{"$f":"DR!G17","v":0},null,null,0,0,0,0]
[61,"61",null,0,0,0,0,null,null,null,null,{"$f":"DR!D18","v":0},{"$f":"DR!E18","v":0},{"$f":"DR!F18","v":0},{"$f":"DR!G18","v":0},null,null,0,0,0,0]
[62,"62",null,0,0,0,0,null,null,null,null,{"$f":"DR!D19","v":0},{"$f":"DR!E19","v":0},{"$f":"DR!F19","v":0},{"$f":"DR!G19","v":0},null,null,0,0,0,0]
[63,"63",null,0,0,0,0,null,null,null,null,{"$f":"DR!D20","v":0},{"$f":"DR!E20","v":0},{"$f":"DR!F20","v":0},{"$f":"DR!G20","v":0},null,null,0,0,0,0]
[64,"64",null,0,0,0,0,null,null,null,null,{"$f":"DR!D21","v":0},{"$f":"DR!E21","v":0},{"$f":"DR!F21","v":0},{"$f":"DR!G21","v":0},null,null,0,0,0,0]
[65,"65",null,0,0,0,0,null,null,null,null,{"$f":"DR!D22","v":0},{"$f":"DR!E22","v":0},{"$f":"DR!F22","v":0},{"$f":"DR!G22","v":0},null,null,0,0,0,0]
[66,"66",null,0,0,0,0,null,null,null,null,{"$f":"DR!D23","v":0},{"$f":"DR!E23","v":0},{"$f":"DR!F23","v":0},{"$f":"DR!G23","v":0},null,null,0,0,0,0]
[67,"67",null,0,0,0,0,null,null,null,null,{"$f":"DR!D24","v":0},{"$f":"DR!E24","v":0},{"$f":"DR!F24","v":0},{"$f":"DR!G24","v":0},null,null,0,0,0,0]
[68,"68",null,0,0,0,0,null,null,null,null,{"$f":"DR!D25","v":0},{"$f":"DR!E25","v":0},{"$f":"DR!F25","v":0},{"$f":"DR!G25","v":0},null,null,0,0,0,0]
[69,"69",null,0,0,0,0,null,null,null,null,{"$f":"DR!D26","v":0},{"$f":"DR!E26","v":0},{"$f":"DR!F26","v":0},{"$f":"DR!G26","v":0},null,null,0,0,0,0]
[70,"70",null,0,0,0,0,null,null,null,null,{"$f":"DR!D27","v":0},{"$f":"DR!E27","v":0},{"$f":"DR!F27","v":0},{"$f":"DR!G27","v":0},null,null,0,0,0,0]
[71,"71",null,0,0,0,0,null,null,null,null,{"$f":"DR!D28","v":0},{"$f":"DR!E28","v":0},{"$f":"DR!F28","v":0},{"$f":"DR!G28","v":0},null,null,0,0,0,0]
[72,"72",null,0,0,0,0,null,null,null,null,{"$f":"DR!D29","v":0},{"$f":"DR!E29","v":0},{"$f":"DR!F29","v":0},{"$f":"DR!G29","v":0},null,null,0,0,0,0]
[73,"73",null,0,0,0,0,null,null,null,null,{"$f":"DR!D30","v":0},{"$f":"DR!E30","v":0},{"$f":"DR!F30","v":0},{"$f":"DR!G30","v":0},null,null,0,0,0,0]
[74,"74",null,0,0,0,0,null,null,null,null,{"$f":"DR!D31","v":0},{"$f":"DR!E31","v":0},{"$f":"DR!F31","v":0},{"$f":"DR!G31","v":0},null,null,0,0,0,0]
[75,"75+",null,0,0,0,0,null,null,null,null,{"$f":"DR!D32","v":0},{"$f":"DR!E32","v":0},{"$f":"DR!F32","v":0},{"$f":"DR!G32","v":0},null,null,0,0,0,0]
[1,"1 Child",null,0,0,0,0,null,null,null,null,{"$f":"DR!D33","v":0},{"$f":"DR!E33","v":0},{"$f":"DR!F33","v":0},{"$f":"DR!G33","v":0},null,null,0,0,0,0]
[2,"2 Children",null,0,0,0,0,null,null,null,null,{"$f":"DR!D34","v":0},{"$f":"DR!E34","v":0},{"$f":"DR!F34","v":0},{"$f":"DR!G34","v":0},null,null,0,0,0,0]
[3,"3+ Children",null,0,0,0,0,null,null,null,null,{"$f":"DR!D35","v":0},{"$f":"DR!E35","v":0},{"$f":"DR!F35","v":0},{"$f":"DR!G35","v":0},null,null,0,0,0,0]
[1,"Rider Comp. Maternidad",null,{"$f":"L37","v":0},0,225,225,null,null,null,null,0,0,225,225]
[1,"Transplante de organos",null,0,0,0,0,null,null,null,null,0,0,0,0]
[null,null,null,0,0,0,0]
[]
[]
["TARIFAS SEMESTRALES"]
[]
["EDAD",null,null,"CW1","CW2","CW3","CW4"]
[18,"18-24",null,{"$f":"D10*$G$1","v":0},0,0,0]
[25,"25-29",null,0,0,0,0]
[30,"30-34",null,0,0,0,0]
[35,"35-39",null,0,0,0,0]
[40,"40-44",null,0,0,0,0]
[45,"45-49",null,0,0,0,0]
[50,"50-54",null,0,0,0,0]
[55,"55-59",null,0,0,0,0]
[60,"60",null,0,0,0,0]
[61,"61",null,0,0,0,0]
[62,"62",null,0,0,0,0]
[63,"63",null,0,0,0,0]
[64,"64",null,0,0,0,0]
[65,"65",null,0,0,0,0]
[66,"66",null,0,0,0,0]
[67,"67",null,0,0,0,0]
[68,"68",null,0,0,0,0]
[69,"69",null,0,0,0,0]
[70,"70",null,0,0,0,0]
[71,"71",null,0,0,0,0]
[72,"72",null,0,0,0,0]
[73,"73",null,0,0,0,0]
[74,"74",null,0,0,0,0]
[75,"75+",null,0,0,0,0]
[1,"1 Child",null,0,0,0,0]
[2,"2 Children",null,0,0,0,0]
[3,"3+ Children",null,0,0,0,0]
[1,"Rider Comp. Maternidad",null,0,0,119.25,119.25]
[1,"Transplante de organos",null,0,0,0,0]
[]
[]
[]
["TARIFAS TRIMESTRALES"]
["EDAD",null,null,"CW1","CW2","CW3","CW4"]
[18,"18-24",null,{"$f":"D10*$G$2","v":0},0,0,0]
[25,"25-29",null,0,0,0,0]
[30,"30-34",null,0,0,0,0]
[35,"35-39",null,0,0,0,0]
[40,"40-44",null,0,0,0,0]
[45,"45-49",null,0,0,0,0]
[50,"50-54",null,0,0,0,0]
[55,"55-59",null,0,0,0,0]
[60,"60",null,0,0,0,0]
[61,"61",null,0,0,0,0]
[62,"62",null,0,0,0,0]
[63,"63",null,0,0,0,0]
[64,"64",null,0,0,0,0]
[65,"65",null,0,0,0,0]
[66,"66",null,0,0,0,0]
[67,"67",null,0,0,0,0]
[68,"68",null,0,0,0,0]
[69,"69",null,0,0,0,0]
[70,"70",null,0,0,0,0]
[71,"71",null,0,0,0,0]
[72,"72",null,0,0,0,0]
[73,"73",null,0,0,0,0]
[74,"74",null,0,0,0,0]
[75,"75+",null,0,0,0,0]
[1,"1 Child",null,0,0,0,0]
[2,"2 Children",null,0,0,0,0]
[3,"3+ Children",null,0,0,0,0]
[1,"Rider Comp. Maternidad",null,0,0,61.875000000000007,61.875000000000007]
[1,"Transplante de organos",null,0,0,0,0]
[null,null,null,0,0,0,0]
[]
["TARIFAS MENSUALES"]
["EDAD",null,null,"CW1","CW2","CW3","CW4"]
[18,"18-24",null,{"$f":"D10*$G$3","v":0},0,0,0]
[25,"25-29",null,0,0,0,0]
[30,"30-34",null,0,0,0,0]
[35,"35-39",null,0,0,0,0]
[40,"40-44",null,0,0,0,0]
[45,"45-49",null,0,0,0,0]
[50,"50-54",null,0,0,0,0]
[55,"55-59",null,0,0,0,0]
[60,"60",null,0,0,0,0]
[61,"61",null,0,0,0,0]
[62,"62",null,0,0,0,0]
[63,"63",null,0,0,0,0]
[64,"64",null,0,0,0,0]
[65,"65",null,0,0,0,0]
[66,"66",null,0,0,0,0]
[67,"67",null,0,0,0,0]
[68,"68",null,0,0,0,0]
[69,"69",null,0,0,0,0]
[70,"70",null,0,0,0,0]
[71,"71",null,0,0,0,0]
[72,"72",null,0,0,0,0]
[73,"73",null,0,0,0,0]
[74,"74",null,0,0,0,0]
[75,"75+",null,0,0,0,0]
[1,"1 Child",null,0,0,0,0]
[2,"2 Children",null,0,0,0,0]
[3,"3+ Children",null,0,0,0,0]
[1,"Rider Comp. Maternidad",null,0,0,20.999999925000001,20.999999925000001]
[1,"Transplante de organos",null,0,0,0,0]
[null,null,null,0,0,0,0]
[]
[]
[]
[]
["BUPA SECURE CARE"]
["TARIFAS ANUALES"]
[]
["EDAD",null,null,"SE2","SE3","SE4","SE5","SE6"]
[18,"18-24",null,{"$f":"R150","v":0},{"$f":"S150","v":0},0,0,0,null,null,null,{"$f":"DR!D48","v":0},{"$f":"DR!E48","v":0},{"$f":"DR!F48","v":0},{"$f":"DR!G48","v":0},{"$f":"DR!H48","v":0},null,{"$f":"L150*$AA$2","v":0},{"$f":"M150*$AA$2","v":0},{"$f":"N150*$AA$2","v":0},{"$f":"O150*$AA$2","v":0},{"$f":"P150*$AA$2","v":0}]
[25,"25-29",null,{"$f":"R151","v":0},{"$f":"S151","v":0},{"$f":"T151","v":0},{"$f":"U151","v":0},{"$f":"V151","v":0},null,null,null,{"$f":"DR!D49","v":0},{"$f":"DR!E49","v":0},{"$f":"DR!F49","v":0},{"$f":"DR!G49","v":0},{"$f":"DR!H49","v":0},null,0,0,0,0,0]
[30,"30-34",null,0,0,0,0,0,null,null,null,{"$f":"DR!D50","v":0},{"$f":"DR!E50","v":0},{"$f":"DR!F50","v":0},{"$f":"DR!G50","v":0},{"$f":"DR!H50","v":0},null,0,0,0,0,0]
[35,"35-39",null,0,0,0,0,0,null,null,null,{"$f":"DR!D51","v":0},{"$f":"DR!E51","v":0},{"$f":"DR!F51","v":0},{"$f":"DR!G51","v":0},{"$f":"DR!H51","v":0},null,0,0,0,0,0]
[40,"40-44",null,0,0,0,0,0,null,null,null,{"$f":"DR!D52","v":0},{"$f":"DR!E52","v":0},{"$f":"DR!F52","v":0},{"$f":"DR!G52","v":0},{"$f":"DR!H52","v":0},null,0,0,0,0,0]
[45,"45-49",null,0,0,0,0,0,null,null,null,{"$f":"DR!D53","v":0},{"$f":"DR!E53","v":0},{"$f":"DR!F53","v":0},{"$f":"DR!G53","v":0},{"$f":"DR!H53","v":0},null,0,0,0,0,0]
[50,"50-54",null,0,0,0,0,0,null,null,null,{"$f":"DR!D54","v":0},{"$f":"DR!E54","v":0},{"$f":"DR!F54","v":0},{"$f":"DR!G54","v":0},{"$f":"DR!H54","v":0},null,0,0,0,0,0]
[55,"55-59",null,0,0,0,0,0,null,null,null,{"$f":"DR!D55","v":0},{"$f":"DR!E55","v":0},{"$f":"DR!F55","v":0},{"$f":"DR!G55","v":0},{"$f":"DR!H55","v":0},null,0,0,0,0,0]
[60,"60",null,0,0,0,0,0,null,null,null,{"$f":"DR!D56","v":0},{"$f":"DR!E56","v":0},{"$f":"DR!F56","v":0},{"$f":"DR!G56","v":0},{"$f":"DR!H56","v":0},null,0,0,0,0,0]
[61,"61",null,0,0,0,0,0,null,null,null,{"$f":"DR!D57","v":0},{"$f":"DR!E57","v":0},{"$f":"DR!F57","v":0},{"$f":"DR!G57","v":0},{"$f":"DR!H57","v":0},null,0,0,0,0,0]
[62,"62",null,0,0,0,0,0,null,null,null,{"$f":"DR!D58","v":0},{"$f":"DR!E58","v":0},{"$f":"DR!F58","v":0},{"$f":"DR!G58","v":0},{"$f":"DR!H58","v":0},null,0,0,0,0,0]
[63,"63",null,0,0,0,0,0,null,null,null,{"$f":"DR!D59","v":0},{"$f":"DR!E59","v":0},{"$f":"DR!F59","v":0},{"$f":"DR!G59","v":0},{"$f":"DR!H59","v":0},null,0,0,0,0,0]
[64,"64",null,0,0,0,0,0,null,null,null,{"$f":"DR!D60","v":0},{"$f":"DR!E60","v":0},{"$f":"DR!F60","v":0},{"$f":"DR!G60","v":0},{"$f":"DR!H60","v":0},null,0,0,0,0,0]
[65,"65",null,0,0,0,0,0,null,null,null,{"$f":"DR!D61","v":0},{"$f":"DR!E61","v":0},{"$f":"DR!F61","v":0},{"$f":"DR!G61","v":0},{"$f":"DR!H61","v":0},null,0,0,0,0,0]
[66,"66",null,0,0,0,0,0,null,null,null,{"$f":"DR!D62","v":0},{"$f":"DR!E62","v":0},{"$f":"DR!F62","v":0},{"$f":"DR!G62","v":0},{"$f":"DR!H62","v":0},null,0,0,0,0,0]
[67,"67",null,0,0,0,0,0,null,null,null,{"$f":"DR!D63","v":0},{"$f":"DR!E63","v":0},{"$f":"DR!F63","v":0},{"$f":"DR!G63","v":0},{"$f":"DR!H63","v":0},null,0,0,0,0,0]
[68,"68",null,0,0,0,0,0,null,null,null,{"$f":"DR!D64","v":0},{"$f":"DR!E64","v":0},{"$f":"DR!F64","v":0},{"$f":"DR!G64","v":0},{"$f":"DR!H64","v":0},null,0,0,0,0,0]
[69,"69",null,0,0,0,0,0,null,null,null,{"$f":"DR!D65","v":0},{"$f":"DR!E65","v":0},{"$f":"DR!F65","v":0},{"$f":"DR!G65","v":0},{"$f":"DR!H65","v":0},null,0,0,0,0,0]
[70,"70",null,0,0,0,0,0,null,null,null,{"$f":"DR!D66","v":0},{"$f":"DR!E66","v":0},{"$f":"DR!F66","v":0},{"$f":"DR!G66","v":0},{"$f":"DR!H66","v":0},null,0,0,0,0,0]
[71,"71",null,0,0,0,0,0,null,null,null,{"$f":"DR!D67","v":0},{"$f":"DR!E67","v":0},{"$f":"DR!F67","v":0},{"$f":"DR!G67","v":0},{"$f":"DR!H67","v":0},null,0,0,0,0,0]
[72,"72",null,0,0,0,0,0,null,null,null,{"$f":"DR!D68","v":0},{"$f":"DR!E68","v":0},{"$f":"DR!F68","v":0},{"$f":"DR!G68","v":0},{"$f":"DR!H68","v":0},null,0,0,0,0,0]
[73,"73",null,0,0,0,0,0,null,null,null,{"$f":"DR!D69","v":0},{"$f":"DR!E69","v":0},{"$f":"DR!F69","v":0},{"$f":"DR!G69","v":0},{"$f":"DR!H69","v":0},null,0,0,0,0,0]
[74,"74",null,0,0,0,0,0,null,null,null,{"$f":"DR!D70","v":0},{"$f":"DR!E70","v":0},{"$f":"DR!F70","v":0},{"$f":"DR!G70","v":0},{"$f":"DR!H70","v":0},null,0,0,0,0,0]
[75,"75+",null,0,0,0,0,0,null,null,null,{"$f":"DR!D71","v":0},{"$f":"DR!E71","v":0},{"$f":"DR!F71","v":0},{"$f":"DR!G71","v":0},{"$f":"DR!H71","v":0},null,0,0,0,0,0]
[1,"1 Child",null,0,0,0,0,0,null,null,null,{"$f":"DR!D72","v":0},{"$f":"DR!E72","v":0},{"$f":"DR!F72","v":0},{"$f":"DR!G72","v":0},{"$f":"DR!H72","v":0},null,0,0,0,0,0]
[2,"2 Children",null,0,0,0,0,0,null,null,null,{"$f":"DR!D73","v":0},{"$f":"DR!E73","v":0},{"$f":"DR!F73","v":0},{"$f":"DR!G73","v":0},{"$f":"DR!H73","v":0},null,0,0,0,0,0]
[3,"3+ Children",null,{"$f":"R176","v":0},{"$f":"S176","v":0},{"$f":"T176","v":0},{"$f":"U176","v":0},{"$f":"V176","v":0},null,null,null,{"$f":"DR!D74","v":0},{"$f":"DR!E74","v":0},{"$f":"DR!F74","v":0},{"$f":"DR!G74","v":0},{"$f":"DR!H74","v":0},null,0,0,0,0,0]
[1,"Rider Comp. Maternidad",null,{"$f":"L177","v":225},{"$f":"M177","v":225},225,225,225,null,null,null,225,225,225,225,225]
[1,"Transplante de organos",null,{"$f":"L178","v":300},{"$f":"M178","v":300},{"$f":"N178","v":300},{"$f":"O178","v":300},{"$f":"P178","v":300},null,null,null,300,300,300,300,300]
[]
[]
["TARIFAS SEMESTRALES"]
[]
["EDAD",null,null,"SE2","SE3","SE4","SE5","SE6"]
[18,"18-24",null,{"$f":"D150*$G$1","v":0},0,0,0,0]
[25,"25-29",null,0,0,0,0,0]
[30,"30-34",null,0,0,0,0,0]
[35,"35-39",null,0,0,0,0,0]
[40,"40-44",null,0,0,0,0,0]
[45,"45-49",null,0,0,0,0,0]
[50,"50-54",null,0,0,0,0,0]
[55,"55-59",null,0,0,0,0,0]
[60,"60",null,0,0,0,0,0]
[61,"61",null,0,0,0,0,0]
[62,"62",null,{"$f":"D160*$G$1","v":0},0,0,0,0]
[63,"63",null,0,0,0,0,0]
[64,"64",null,0,0,0,0,0]
[65,"65",null,0,0,0,0,0]
[66,"66",null,0,0,0,0,0]
[67,"67",null,0,0,0,0,0]
[68,"68",null,0,0,0,0,0]
[69,"69",null,0,0,0,0,0]
[70,"70",null,0,0,0,0,0]
[71,"71",null,0,0,0,0,0]
[72,"72",null,{"$f":"D170*$G$1","v":0},0,0,0,0]
[73,"73",null,0,0,0,0,0]
[74,"74",null,0,0,0,0,0]
[75,"75+",null,0,0,0,0,0]
[1,"1 Child",null,0,0,0,0,0]
[2,"2 Children",null,0,0,0,0,0]
[3,"3+ Children",null,0,0,0,0,0]
[1,"Rider Comp. Maternidad",null,119.25,119.25,119.25,119.25,119.25]
[1,"Transplante de organos",null,159,159,159,159,159]
[]
[]
[]
["TARIFAS TRIMESTRALES"]
[]
["EDAD",null,null,"SE2","SE3","SE4","SE5","SE6"]
[18,"18-24",null,{"$f":"D150*$G$2","v":0},0,0,0,0]
[25,"25-29",null,0,0,0,0,0]
[30,"30-34",null,0,0,0,0,0]
[35,"35-39",null,0,0,0,0,0]
[40,"40-44",null,0,0,0,0,0]
[45,"45-49",null,0,0,0,0,0]
[50,"50-54",null,0,0,0,0,0]
[55,"55-59",null,0,0,0,0,0]
[60,"60",null,0,0,0,0,0]
[61,"61",null,0,0,0,0,0]
[62,"62",null,{"$f":"D160*$G$2","v":0},0,0,0,0]
[63,"63",null,0,0,0,0,0]
[64,"64",null,0,0,0,0,0]
[65,"65",null,0,0,0,0,0]
[66,"66",null,0,0,0,0,0]
[67,"67",null,0,0,0,0,0]
[68,"68",null,0,0,0,0,0]
[69,"69",null,0,0,0,0,0]
[70,"70",null,0,0,0,0,0]
[71,"71",null,0,0,0,0,0]
[72,"72",null,{"$f":"D170*$G$2","v":0},0,0,0,0]
[73,"73",null,0,0,0,0,0]
[74,"74",null,0,0,0,0,0]
[75,"75+",null,0,0,0,0,0]
[1,"1 Child",null,0,0,0,0,0]
[2,"2 Children",null,0,0,0,0,0]
[3,"3+ Children",null,0,0,0,0,0]
[1,"Rider Comp. Maternidad",null,61.875000000000007,61.875000000000007,61.875000000000007,61.875000000000007,61.875000000000007]
[1,"Transplante de organos",null,82.5,82.5,82.5,82.5,82.5]
[]
[]
[]
[]
["BUPA ESSENTIAL CARE",null,null,null,null,null,null,null,null,null,null,null,null,null,null,null,null,null,null,null,null,null,null,null,null,null,{"$f":"'INGRESO DE DATOS'!R58","v":0.5}]
["TARIFAS ANUALES"]
[]
["EDAD",null,"ET1","ET2","ET3","ET4","ET5","ET6"]
[18,null,{"$f":"R256","v":1719},{"$f":"S256","v":1561},1417,1222,0,null,null,null,{"$f":"DR!C86","v":1719},{"$f":"DR!D86","v":1561},{"$f":"DR!E86","v":1417},{"$f":"DR!F86","v":1222},{"$f":"DR!G86","v":0},null,null,{"$f":"K256*$Y$2","v":1719},{"$f":"L256*$Y$2","v":1561},1417,1222,{"$f":"O256*$AA$6","v":0},{"$f":"P256*$AB$2","v":0}]
[19,null,{"$f":"R257","v":1719},{"$f":"S257","v":1561},{"$f":"T257","v":1417},{"$f":"U257","v":1222},{"$f":"V257","v":0},null,null,null,{"$f":"DR!C87","v":1719},{"$f":"DR!D87","v":1561},{"$f":"DR!E87","v":1417},{"$f":"DR!F87","v":1222},{"$f":"DR!G87","v":0},null,null,{"$f":"K257*$Y$2","v":1719},{"$f":"L257*$Y$2","v":1561},{"$f":"M257*$Y$2","v":1417},{"$f":"N257*$Y$2","v":1222},{"$f":"O257*$AA$6","v":0},0]
[20,null,1719,1561,1417,1222,0,null,null,null,{"$f":"DR!C88","v":1719},{"$f":"DR!D88","v":1561},{"$f":"DR!E88","v":1417},{"$f":"DR!F88","v":1222},{"$f":"DR!G88","v":0},null,null,1719,1561,1417,1222,0,0]
[21,null,1719,1561,1417,1222,0,null,null,null,{"$f":"DR!C89","v":1719},{"$f":"DR!D89","v":1561},{"$f":"DR!E89","v":1417},{"$f":"DR!F89","v":1222},{"$f":"DR!G89","v":0},null,null,1719,1561,1417,1222,0,0]
[22,null,1719,1561,1417,1222,0,null,null,null,{"$f":"DR!C90","v":1719},{"$f":"DR!D90","v":1561},{"$f":"DR!E90","v":1417},{"$f":"DR!F90","v":1222},{"$f":"DR!G90","v":0},null,null,1719,1561,1417,1222,0,0]
[23,null,1719,1561,1417,1222,0,null,null,null,{"$f":"DR!C91","v":1719},{"$f":"DR!D91","v":1561},{"$f":"DR!E91","v":1417},{"$f":"DR!F91","v":1222},{"$f":"DR!G91","v":0},null,null,1719,1561,1417,1222,0,0]
[24,null,1719,1561,1417,1222,0,null,null,null,{"$f":"DR!C92","v":1719},{"$f":"DR!D92","v":1561},{"$f":"DR!E92","v":1417},{"$f":"DR!F92","v":1222},{"$f":"DR!G92","v":0},null,null,1719,1561,1417,1222,0,0]
[25,null,1932,1755,1594,1375,0,null,null,null,{"$f":"DR!C93","v":1932},{"$f":"DR!D93","v":1755},{"$f":"DR!E93","v":1594},{"$f":"DR!F93","v":1375},{"$f":"DR!G93","v":0},null,null,1932,1755,1594,1375,0,0]
[26,null,1932,1755,1594,1375,0,null,null,null,{"$f":"DR!C94","v":1932},{"$f":"DR!D94","v":1755},{"$f":"DR!E94","v":1594},{"$f":"DR!F94","v":1375},{"$f":"DR!G94","v":0},null,null,1932,1755,1594,1375,0,0]
[27,null,1932,1755,1594,1375,0,null,null,null,{"$f":"DR!C95","v":1932},{"$f":"DR!D95","v":1755},{"$f":"DR!E95","v":1594},{"$f":"DR!F95","v":1375},{"$f":"DR!G95","v":0},null,null,1932,1755,1594,1375,0,0]
[28,null,1932,1755,1594,1375,0,null,null,null,{"$f":"DR!C96","v":1932},{"$f":"DR!D96","v":1755},{"$f":"DR!E96","v":1594},{"$f":"DR!F96","v":1375},{"$f":"DR!G96","v":0},null,null,1932,1755,1594,1375,0,0]
[29,null,1932,1755,1594,1375,0,null,null,null,{"$f":"DR!C97","v":1932},{"$f":"DR!D97","v":1755},{"$f":"DR!E97","v":1594},{"$f":"DR!F97","v":1375},{"$f":"DR!G97","v":0},null,null,1932,1755,1594,1375,0,0]
[30,null,2166,1967,1789,1543,0,null,null,null,{"$f":"DR!C98","v":2166},{"$f":"DR!D98","v":1967},{"$f":"DR!E98","v":1789},{"$f":"DR!F98","v":1543},{"$f":"DR!G98","v":0},null,null,2166,1967,1789,1543,0,0]
[31,null,2166,1967,1789,1543,0,null,null,null,{"$f":"DR!C99","v":2166},{"$f":"DR!D99","v":1967},{"$f":"DR!E99","v":1789},{"$f":"DR!F99","v":1543},{"$f":"DR!G99","v":0},null,null,2166,1967,1789,1543,0,0]
[32,null,2166,1967,1789,1543,0,null,null,null,{"$f":"DR!C100","v":2166},{"$f":"DR!D100","v":1967},{"$f":"DR!E100","v":1789},{"$f":"DR!F100","v":1543},{"$f":"DR!G100","v":0},null,null,2166,1967,1789,1543,0,0]
[33,null,2166,1967,1789,1543,0,null,null,null,{"$f":"DR!C101","v":2166},{"$f":"DR!D101","v":1967},{"$f":"DR!E101","v":1789},{"$f":"DR!F101","v":1543},{"$f":"DR!G101","v":0},null,null,2166,1967,1789,1543,0,0]
[34,null,2166,1967,1789,1543,0,null,null,null,{"$f":"DR!C102","v":2166},{"$f":"DR!D102","v":1967},{"$f":"DR!E102","v":1789},{"$f":"DR!F102","v":1543},{"$f":"DR!G102","v":0},null,null,2166,1967,1789,1543,0,0]
[35,null,2473,2245,2041,1760,0,null,null,null,{"$f":"DR!C103","v":2473},{"$f":"DR!D103","v":2245},{"$f":"DR!E103","v":2041},{"$f":"DR!F103","v":1760},{"$f":"DR!G103","v":0},null,null,2473,2245,2041,1760,0,0]
[36,null,2473,2245,2041,1760,0,null,null,null,{"$f":"DR!C104","v":2473},{"$f":"DR!D104","v":2245},{"$f":"DR!E104","v":2041},{"$f":"DR!F104","v":1760},{"$f":"DR!G104","v":0},null,null,2473,2245,2041,1760,0,0]
[37,null,2473,2245,2041,1760,0,null,null,null,{"$f":"DR!C105","v":2473},{"$f":"DR!D105","v":2245},{"$f":"DR!E105","v":2041},{"$f":"DR!F105","v":1760},{"$f":"DR!G105","v":0},null,null,2473,2245,2041,1760,0,0]
[38,null,2473,2245,2041,1760,0,null,null,null,{"$f":"DR!C106","v":2473},{"$f":"DR!D106","v":2245},{"$f":"DR!E106","v":2041},{"$f":"DR!F106","v":1760},{"$f":"DR!G106","v":0},null,null,2473,2245,2041,1760,0,0]
[39,null,2473,2245,2041,1760,0,null,null,null,{"$f":"DR!C107","v":2473},{"$f":"DR!D107","v":2245},{"$f":"DR!E107","v":2041},{"$f":"DR!F107","v":1760},{"$f":"DR!G107","v":0},null,null,2473,2245,2041,1760,0,0]
[40,null,2867,2603,2365,2039,0,null,null,null,{"$f":"DR!C108","v":2867},{"$f":"DR!D108","v":2603},{"$f":"DR!E108","v":2365},{"$f":"DR!F108","v":2039},{"$f":"DR!G108","v":0},null,null,2867,2603,2365,2039,0,0]
[41,null,2867,2603,2365,2039,0,null,null,null,{"$f":"DR!C109","v":2867},{"$f":"DR!D109","v":2603},{"$f":"DR!E109","v":2365},{"$f":"DR!F109","v":2039},{"$f":"DR!G109","v":0},null,null,2867,2603,2365,2039,0,0]
[42,null,2867,2603,2365,2039,0,null,null,null,{"$f":"DR!C110","v":2867},{"$f":"DR!D110","v":2603},{"$f":"DR!E110","v":2365},{"$f":"DR!F110","v":2039},{"$f":"DR!G110","v":0},null,null,2867,2603,2365,2039,0,0]
[43,null,2867,2603,2365,2039,0,null,null,null,{"$f":"DR!C111","v":2867},{"$f":"DR!D111","v":2603},{"$f":"DR!E111","v":2365},{"$f":"DR!F111","v":2039},{"$f":"DR!G111","v":0},null,null,2867,2603,2365,2039,0,0]
[44,null,2867,2603,2365,2039,0,null,null,null,{"$f":"DR!C112","v":2867},{"$f":"DR!D112","v":2603},{"$f":"DR!E112","v":2365},{"$f":"DR!F112","v":2039},{"$f":"DR!G112","v":0},null,null,2867,2603,2365,2039,0,0]
[45,null,3426,3111,2827,2437,0,null,null,null,{"$f":"DR!C113","v":3426},{"$f":"DR!D113","v":3111},{"$f":"DR!E113","v":2827},{"$f":"DR!F113","v":2437},{"$f":"DR!G113","v":0},null,null,3426,3111,2827,2437,0,0]
[46,null,3426,3111,2827,2437,0,null,null,null,{"$f":"DR!C114","v":3426},{"$f":"DR!D114","v":3111},{"$f":"DR!E114","v":2827},{"$f":"DR!F114","v":2437},{"$f":"DR!G114","v":0},null,null,3426,3111,2827,2437,0,0]
[47,null,3426,3111,2827,2437,0,null,null,null,{"$f":"DR!C115","v":3426},{"$f":"DR!D115","v":3111},{"$f":"DR!E115","v":2827},{"$f":"DR!F115","v":2437},{"$f":"DR!G115","v":0},null,null,3426,3111,2827,2437,0,0]
[48,null,3426,3111,2827,2437,0,null,null,null,{"$f":"DR!C116","v":3426},{"$f":"DR!D116","v":3111},{"$f":"DR!E116","v":2827},{"$f":"DR!F116","v":2437},{"$f":"DR!G116","v":0},null,null,3426,3111,2827,2437,0,0]
[49,null,3426,3111,2827,2437,0,null,null,null,{"$f":"DR!C117","v":3426},{"$f":"DR!D117","v":3111},{"$f":"DR!E117","v":2827},{"$f":"DR!F117","v":2437},{"$f":"DR!G117","v":0},null,null,3426,3111,2827,2437,0,0]
[50,null,4089,3713,3373,2908,0,null,null,null,{"$f":"DR!C118","v":4089},{"$f":"DR!D118","v":3713},{"$f":"DR!E118","v":3373},{"$f":"DR!F118","v":2908},{"$f":"DR!G118","v":0},null,null,4089,3713,3373,2908,0,{"$f":"P288*$AB$2","v":0}]
[51,null,4089,3713,3373,2908,0,null,null,null,{"$f":"DR!C119","v":4089},{"$f":"DR!D119","v":3713},{"$f":"DR!E119","v":3373},{"$f":"DR!F119","v":2908},{"$f":"DR!G119","v":0},null,null,4089,3713,3373,2908,0,0]
[52,null,4089,3713,3373,2908,0,null,null,null,{"$f":"DR!C120","v":4089},{"$f":"DR!D120","v":3713},{"$f":"DR!E120","v":3373},{"$f":"DR!F120","v":2908},{"$f":"DR!G120","v":0},null,null,4089,3713,3373,2908,0,0]
[53,null,4089,3713,3373,2908,0,null,null,null,{"$f":"DR!C121","v":4089},{"$f":"DR!D121","v":3713},{"$f":"DR!E121","v":3373},{"$f":"DR!F121","v":2908},{"$f":"DR!G121","v":0},null,null,4089,3713,3373,2908,0,0]
[54,null,4089,3713,3373,2908,0,null,null,null,{"$f":"DR!C122","v":4089},{"$f":"DR!D122","v":3713},{"$f":"DR!E122","v":3373},{"$f":"DR!F122","v":2908},{"$f":"DR!G122","v":0},null,null,4089,3713,3373,2908,0,0]
[55,null,4865,4418,4015,3461,0,null,null,null,{"$f":"DR!C123","v":4865},{"$f":"DR!D123","v":4418},{"$f":"DR!E123","v":4015},{"$f":"DR!F123","v":3461},{"$f":"DR!G123","v":0},null,null,4865,4418,4015,3461,0,0]
[56,null,4865,4418,4015,3461,0,null,null,null,{"$f":"DR!C124","v":4865},{"$f":"DR!D124","v":4418},{"$f":"DR!E124","v":4015},{"$f":"DR!F124","v":3461},{"$f":"DR!G124","v":0},null,null,4865,4418,4015,3461,0,0]
[57,null,4865,4418,4015,3461,0,null,null,null,{"$f":"DR!C125","v":4865},{"$f":"DR!D125","v":4418},{"$f":"DR!E125","v":4015},{"$f":"DR!F125","v":3461},{"$f":"DR!G125","v":0},null,null,4865,4418,4015,3461,0,0]
[58,null,4865,4418,4015,3461,0,null,null,null,{"$f":"DR!C126","v":4865},{"$f":"DR!D126","v":4418},{"$f":"DR!E126","v":4015},{"$f":"DR!F126","v":3461},{"$f":"DR!G126","v":0},null,null,4865,4418,4015,3461,0,0]
[59,null,4865,4418,4015,3461,0,null,null,null,{"$f":"DR!C127","v":4865},{"$f":"DR!D127","v":4418},{"$f":"DR!E127","v":4015},{"$f":"DR!F127","v":3461},{"$f":"DR!G127","v":0},null,null,4865,4418,4015,3461,0,0]
[60,null,5397,4902,4453,3839,0,null,null,null,{"$f":"DR!C128","v":5397},{"$f":"DR!D128","v":4902},{"$f":"DR!E128","v":4453},{"$f":"DR!F128","v":3839},{"$f":"DR!G128","v":0},null,null,5397,4902,4453,3839,0,0]
[61,null,5622,5104,4637,3998,0,null,null,null,{"$f":"DR!C129","v":5622},{"$f":"DR!D129","v":5104},{"$f":"DR!E129","v":4637},{"$f":"DR!F129","v":3998},{"$f":"DR!G129","v":0},null,null,5622,5104,4637,3998,0,0]
[62,null,5891,5350,4862,4191,0,null,null,null,{"$f":"DR!C130","v":5891},{"$f":"DR!D130","v":5350},{"$f":"DR!E130","v":4862},{"$f":"DR!F130","v":4191},{"$f":"DR!G130","v":0},null,null,5891,5350,4862,4191,0,0]
[63,null,6185,5617,5103,4399,0,null,null,null,{"$f":"DR!C131","v":6185},{"$f":"DR!D131","v":5617},{"$f":"DR!E131","v":5103},{"$f":"DR!F131","v":4399},{"$f":"DR!G131","v":0},null,null,6185,5617,5103,4399,0,0]
[64,null,6538,5938,5394,4650,0,null,null,null,{"$f":"DR!C132","v":6538},{"$f":"DR!D132","v":5938},{"$f":"DR!E132","v":5394},{"$f":"DR!F132","v":4650},{"$f":"DR!G132","v":0},null,null,6538,5938,5394,4650,0,0]
[65,null,7027,6380,5796,4997,0,null,null,null,{"$f":"DR!C133","v":7027},{"$f":"DR!D133","v":6380},{"$f":"DR!E133","v":5796},{"$f":"DR!F133","v":4997},{"$f":"DR!G133","v":0},null,null,7027,6380,5796,4997,0,0]
[66,null,7590,6892,6262,5397,0,null,null,null,{"$f":"DR!C134","v":7590},{"$f":"DR!D134","v":6892},{"$f":"DR!E134","v":6262},{"$f":"DR!F134","v":5397},{"$f":"DR!G134","v":0},null,null,7590,6892,6262,5397,0,0]
[67,null,8193,7440,6760,5826,0,null,null,null,{"$f":"DR!C135","v":8193},{"$f":"DR!D135","v":7440},{"$f":"DR!E135","v":6760},{"$f":"DR!F135","v":5826},{"$f":"DR!G135","v":0},null,null,8193,7440,6760,5826,0,0]
[68,null,8881,8062,7326,6314,0,null,null,null,{"$f":"DR!C136","v":8881},{"$f":"DR!D136","v":8062},{"$f":"DR!E136","v":7326},{"$f":"DR!F136","v":6314},{"$f":"DR!G136","v":0},null,null,8881,8062,7326,6314,0,0]
[69,null,9690,8799,7995,6891,0,null,null,null,{"$f":"DR!C137","v":9690},{"$f":"DR!D137","v":8799},{"$f":"DR!E137","v":7995},{"$f":"DR!F137","v":6891},{"$f":"DR!G137","v":0},null,null,9690,8799,7995,6891,0,0]
[70,null,10694,9710,8823,7604,0,null,null,null,{"$f":"DR!C138","v":10694},{"$f":"DR!D138","v":9710},{"$f":"DR!E138","v":8823},{"$f":"DR!F138","v":7604},{"$f":"DR!G138","v":0},null,null,10694,9710,8823,7604,0,0]
[71,null,11871,10778,9793,8441,0,null,null,null,{"$f":"DR!C139","v":11871},{"$f":"DR!D139","v":10778},{"$f":"DR!E139","v":9793},{"$f":"DR!F139","v":8441},{"$f":"DR!G139","v":0},null,null,11871,10778,9793,8441,0,0]
[72,null,13131,11923,10833,9336,0,null,null,null,{"$f":"DR!C140","v":13131},{"$f":"DR!D140","v":11923},{"$f":"DR!E140","v":10833},{"$f":"DR!F140","v":9336},{"$f":"DR!G140","v":0},null,null,13131,11923,10833,9336,0,0]
[73,null,14568,13228,12018,10359,0,null,null,null,{"$f":"DR!C141","v":14568},{"$f":"DR!D141","v":13228},{"$f":"DR!E141","v":12018},{"$f":"DR!F141","v":10359},{"$f":"DR!G141","v":0},null,null,14568,13228,12018,10359,0,0]
[74,null,16235,14741,13393,11545,0,null,null,null,{"$f":"DR!C142","v":16235},{"$f":"DR!D142","v":14741},{"$f":"DR!E142","v":13393},{"$f":"DR!F142","v":11545},{"$f":"DR!G142","v":0},null,null,16235,14741,13393,11545,0,0]
[75,null,18190,16516,15007,12935,0,null,null,null,{"$f":"DR!C143","v":18190},{"$f":"DR!D143","v":16516},{"$f":"DR!E143","v":15007},{"$f":"DR!F143","v":12935},{"$f":"DR!G143","v":0},null,null,18190,16516,15007,12935,0,0]
[76,null,18190,16516,15007,12935,0,null,null,null,{"$f":"DR!C144","v":18190},{"$f":"DR!D144","v":16516},{"$f":"DR!E144","v":15007},{"$f":"DR!F144","v":12935},{"$f":"DR!G144","v":0},null,null,18190,16516,15007,12935,0,0]
[77,null,18190,16516,15007,12935,0,null,null,null,{"$f":"DR!C145","v":18190},{"$f":"DR!D145","v":16516},{"$f":"DR!E145","v":15007},{"$f":"DR!F145","v":12935},{"$f":"DR!G145","v":0},null,null,18190,16516,15007,12935,0,0]
[78,null,18190,16516,15007,12935,0,null,null,null,{"$f":"DR!C146","v":18190},{"$f":"DR!D146","v":16516},{"$f":"DR!E146","v":15007},{"$f":"DR!F146","v":12935},{"$f":"DR!G146","v":0},null,null,18190,16516,15007,12935,0,0]
[79,null,18190,16516,15007,12935,0,null,null,null,{"$f":"DR!C147","v":18190},{"$f":"DR!D147","v":16516},{"$f":"DR!E147","v":15007},{"$f":"DR!F147","v":12935},{"$f":"DR!G147","v":0},null,null,18190,16516,15007,12935,0,0]
[80,"o mas",18190,16516,15007,12935,0,null,null,null,{"$f":"DR!C148","v":18190},{"$f":"DR!D148","v":16516},{"$f":"DR!E148","v":15007},{"$f":"DR!F148","v":12935},{"$f":"DR!G148","v":0},null,null,18190,16516,15007,12935,0,0]
[1,"Hijo",609,551,501,433,0,null,null,null,{"$f":"DR!C149","v":609},{"$f":"DR!D149","v":551},{"$f":"DR!E149","v":501},{"$f":"DR!F149","v":433},{"$f":"DR!G149","v":0},null,null,609,551,501,433,0,0]
[2,"Hijos",937,850,773,666,0,null,null,null,{"$f":"DR!C150","v":937},{"$f":"DR!D150","v":850},{"$f":"DR!E150","v":773},{"$f":"DR!F150","v":666},{"$f":"DR!G150","v":0},null,null,937,850,773,666,0,0]
[3,"Hijos o más",{"$f":"R321","v":1360},{"$f":"S321","v":1236},{"$f":"T321","v":1123},{"$f":"U321","v":968},{"$f":"V321","v":0},null,null,null,{"$f":"DR!C151","v":1360},{"$f":"DR!D151","v":1236},{"$f":"DR!E151","v":1123},{"$f":"DR!F151","v":968},{"$f":"DR!G151","v":0},null,null,{"$f":"K321*$Y$2","v":1360},{"$f":"L321*$Y$2","v":1236},{"$f":"M321*$Y$2","v":1123},{"$f":"N321*$Y$2","v":968},{"$f":"O321*$AA$6","v":0},0]
[1,"Rider Comp. Maternidad",{"$f":"K322","v":0},{"$f":"L322","v":0},0,0,null,null,null,null,0,0,0,0]
[1,"Transplante de organos",{"$f":"K323","v":0},{"$f":"L323","v":0},{"$f":"M323","v":0},{"$f":"N323","v":0},null,null,null,null,0,0,0,0]
[null,"Eliminación de Deducible",{"$f":"K324","v":0},0,0,0,null,null,null,null,0,0,0,0]
[]
[]
["TARIFAS SEMESTRALES"]
[]
["EDAD",null,"ET1","ET2","ET3","ET4","ET5","ET6"]
[18,null,{"$f":"C256*$G$1","v":911.07},{"$f":"D256*$G$1","v":827.33},751.01,647.66000000000008,0]
[19,null,911.07,827.33,751.01,647.66000000000008,0]
[20,null,911.07,827.33,751.01,647.66000000000008,0]
[21,null,911.07,827.33,751.01,647.66000000000008,0]
[22,null,911.07,827.33,751.01,647.66000000000008,0]
[23,null,911.07,827.33,751.01,647.66000000000008,0]
[24,null,911.07,827.33,751.01,647.66000000000008,0]
[25,null,1023.96,930.15000000000009,844.82,728.75,0]
[26,null,1023.96,930.15000000000009,844.82,728.75,0]
[27,null,1023.96,930.15000000000009,844.82,728.75,0]
[28,null,{"$f":"C266*$G$1","v":1023.96},930.15000000000009,844.82,728.75,0]
[29,null,1023.96,930.15000000000009,844.82,728.75,0]
[30,null,1147.98,1042.51,948.17000000000007,817.79000000000008,0]
[31,null,1147.98,1042.51,948.17000000000007,817.79000000000008,0]
[32,null,1147.98,1042.51,948.17000000000007,817.79000000000008,0]
[33,null,1147.98,1042.51,948.17000000000007,817.79000000000008,0]
[34,null,1147.98,1042.51,948.17000000000007,817.79000000000008,0]
[35,null,1310.69,1189.8500000000001,1081.73,932.80000000000007,0]
[36,null,1310.69,1189.8500000000001,1081.73,932.80000000000007,0]
[37,null,1310.69,1189.8500000000001,1081.73,932.80000000000007,0]
[38,null,{"$f":"C276*$G$1","v":1310.69},1189.8500000000001,1081.73,932.80000000000007,0]
[39,null,1310.69,1189.8500000000001,1081.73,932.80000000000007,0]
[40,null,1519.51,1379.5900000000001,1253.45,1080.67,0]
[41,null,1519.51,1379.5900000000001,1253.45,1080.67,0]
[42,null,1519.51,1379.5900000000001,1253.45,1080.67,0]
[43,null,1519.51,1379.5900000000001,1253.45,1080.67,0]
[44,null,1519.51,1379.5900000000001,1253.45,1080.67,0]
[45,null,1815.7800000000002,1648.8300000000002,1498.3100000000002,1291.6100000000001,0]
[46,null,1815.7800000000002,1648.8300000000002,1498.3100000000002,1291.6100000000001,0]
[47,null,1815.7800000000002,1648.8300000000002,1498.3100000000002,1291.6100000000001,0]
[48,null,{"$f":"C286*$G$1","v":1815.7800000000002},1648.8300000000002,1498.3100000000002,1291.6100000000001,0]
[49,null,1815.7800000000002,1648.8300000000002,1498.3100000000002,1291.6100000000001,0]
[50,null,2167.17,1967.89,1787.69,1541.24,0]
[51,null,2167.17,1967.89,1787.69,1541.24,0]
[52,null,2167.17,1967.89,1787.69,1541.24,0]
[53,null,2167.17,1967.89,1787.69,1541.24,0]
[54,null,2167.17,1967.89,1787.69,1541.24,0,null,"CR3",null,null,"CR4",null,null,"CR5"]
[55,null,2578.4500000000003,2341.54,2127.9500000000003,1834.3300000000002,0,null,"INDIVIDUAL","2 PERSONAS","FAMILIAR","INDIVIDUAL","2 PERSONAS","FAMILIAR","INDIVIDUAL","2 PERSONAS","FAMILIAR"]
[56,null,2578.4500000000003,2341.54,2127.9500000000003,1834.3300000000002,0,null,{"$f":"AU368","v":0},{"$f":"AV368","v":0},{"$f":"AW368","v":0},{"$f":"AX368","v":0},{"$f":"AY368","v":0},{"$f":"AZ368","v":0},{"$f":"BA368","v":0},{"$f":"BB368","v":0},{"$f":"BC368","v":0}]
[57,null,2578.4500000000003,2341.54,2127.9500000000003,1834.3300000000002,0,null,0,0,0,0,0,0,0,0,0]
[58,null,{"$f":"C296*$G$1","v":2578.4500000000003},2341.54,2127.9500000000003,1834.3300000000002,0]
[59,null,2578.4500000000003,2341.54,2127.9500000000003,1834.3300000000002,0]
[60,null,2860.4100000000003,2598.06,2360.09,2034.67,0]
[61,null,2979.6600000000003,2705.1200000000003,2457.61,2118.94,0]
[62,null,3122.23,2835.5,2576.86,2221.23,0]
[63,null,3278.05,2977.01,2704.59,2331.4700000000003,0]
[64,null,3465.1400000000003,3147.1400000000003,2858.82,2464.5,0]
[65,null,3724.3100000000004,3381.4,3071.88,2648.4100000000003,0]
[66,null,4022.7000000000003,3652.76,3318.86,2860.4100000000003,0]
[67,null,4342.29,3943.2000000000003,3582.8,3087.78,0]
[68,null,{"$f":"C306*$G$1","v":4706.93},4272.8600000000006,3882.78,3346.42,0]
[69,null,5135.7,4663.47,4237.3500000000004,3652.23,0]
[70,null,5667.8200000000006,5146.3,4676.1900000000005,4030.1200000000003,0]
[71,null,6291.63,5712.34,5190.29,4473.7300000000005,0]
[72,null,6959.43,6319.1900000000005,5741.4900000000007,4948.08,0]
[73,null,7721.04,7010.84,6369.54,5490.27,0]
[74,null,8604.5500000000011,7812.7300000000005,7098.29,6118.85,0]
[75,null,9640.7000000000007,8753.48,7953.71,6855.55,0]
[76,null,9640.7000000000007,8753.48,7953.71,6855.55,0]
[77,null,9640.7000000000007,8753.48,7953.71,6855.55,0]
[78,null,{"$f":"C316*$G$1","v":9640.7000000000007},8753.48,7953.71,6855.55,0]
[79,null,9640.7000000000007,8753.48,7953.71,6855.55,0]
[80,"o mas",9640.7000000000007,8753.48,7953.71,6855.55,0]
[1,"Hijo",322.77000000000004,292.03000000000003,265.53000000000003,229.49,0]
[2,"Hijos",496.61,450.5,409.69,352.98,0]
[3,"Hijos o más",720.80000000000007,655.08000000000004,595.19000000000005,513.04000000000008,0]
[1,"Rider Comp. Maternidad",0,0,0,0,0]
[1,"Transplante de organos",0,0,0,0,0]
[null,"Elliminación de Deducible",{"$f":"C324*$G$1","v":0},{"$f":"D324*$G$1","v":0},0,0,0]
[]
[]
[]
["TARIFAS TRIMESTRALES"]
[]
["EDAD",null,"ET1","ET2","ET3","ET4","ET5","ET6"]
[18,null,{"$f":"C256*$G$2","v":472.72500000000002},429.27500000000003,389.67500000000001,336.05,0]
[19,null,472.72500000000002,429.27500000000003,389.67500000000001,336.05,0]
[20,null,472.72500000000002,429.27500000000003,389.67500000000001,336.05,0]
[21,null,472.72500000000002,429.27500000000003,389.67500000000001,336.05,0]
[22,null,472.72500000000002,429.27500000000003,389.67500000000001,336.05,0]
[23,null,472.72500000000002,429.27500000000003,389.67500000000001,336.05,0]
[24,null,472.72500000000002,429.27500000000003,389.67500000000001,336.05,0]
[25,null,531.30000000000007,482.62500000000006,438.35,378.12500000000006,0]
[26,null,531.30000000000007,482.62500000000006,438.35,378.12500000000006,0]
[27,null,531.30000000000007,482.62500000000006,438.35,378.12500000000006,0]
[28,null,{"$f":"C266*$G$2","v":531.30000000000007},482.62500000000006,438.35,378.12500000000006,0]
[29,null,531.30000000000007,482.62500000000006,438.35,378.12500000000006,0]
[30,null,595.65000000000009,540.92500000000007,491.97500000000002,424.32500000000005,0]
[31,null,595.65000000000009,540.92500000000007,491.97500000000002,424.32500000000005,0]
[32,null,595.65000000000009,540.92500000000007,491.97500000000002,424.32500000000005,0]
[33,null,595.65000000000009,540.92500000000007,491.97500000000002,424.32500000000005,0]
[34,null,595.65000000000009,540.92500000000007,491.97500000000002,424.32500000000005,0]
[35,null,680.07500000000005,617.375,561.27500000000009,484.00000000000006,0]
[36,null,680.07500000000005,617.375,561.27500000000009,484.00000000000006,0]
[37,null,680.07500000000005,617.375,561.27500000000009,484.00000000000006,0]
[38,null,{"$f":"C276*$G$2","v":680.07500000000005},617.375,561.27500000000009,484.00000000000006,0]
[39,null,680.07500000000005,617.375,561.27500000000009,484.00000000000006,0]
[40,null,788.42500000000007,715.82500000000005,650.375,560.72500000000002,0]
[41,null,788.42500000000007,715.82500000000005,650.375,560.72500000000002,0]
[42,null,788.42500000000007,715.82500000000005,650.375,560.72500000000002,0]
[43,null,788.42500000000007,715.82500000000005,650.375,560.72500000000002,0]
[44,null,788.42500000000007,715.82500000000005,650.375,560.72500000000002,0]
[45,null,942.15000000000009,855.52500000000009,777.42500000000007,670.17500000000007,0]
[46,null,942.15000000000009,855.52500000000009,777.42500000000007,670.17500000000007,0]
[47,null,942.15000000000009,855.52500000000009,777.42500000000007,670.17500000000007,0]
[48,null,{"$f":"C286*$G$2","v":942.15000000000009},855.52500000000009,777.42500000000007,670.17500000000007,0]
[49,null,942.15000000000009,855.52500000000009,777.42500000000007,670.17500000000007,0]
[50,null,1124.4750000000001,1021.075,927.57500000000005,799.7,0]
[51,null,1124.4750000000001,1021.075,927.57500000000005,799.7,0]
[52,null,1124.4750000000001,1021.075,927.57500000000005,799.7,0]
[53,null,1124.4750000000001,1021.075,927.57500000000005,799.7,0]
[54,null,1124.4750000000001,1021.075,927.57500000000005,799.7,0,null,"CR3",null,null,"CR4",null,null,"CR5"]
[55,null,1337.875,1214.95,1104.125,951.77500000000009,0,null,"INDIVIDUAL","2 PERSONAS","FAMILIAR","INDIVIDUAL","2 PERSONAS","FAMILIAR","INDIVIDUAL","2 PERSONAS","FAMILIAR"]
[56,null,1337.875,1214.95,1104.125,951.77500000000009,0,null,{"$f":"AU443","v":0},{"$f":"AV443","v":0},{"$f":"AW443","v":0},{"$f":"AX443","v":0},{"$f":"AY443","v":0},{"$f":"AZ443","v":0},{"$f":"BA443","v":0},{"$f":"BB443","v":0},{"$f":"BC443","v":0}]
[57,null,1337.875,1214.95,1104.125,951.77500000000009,0,null,0,0,0,0,0,0,0,0,0]
[58,null,{"$f":"C296*$G$2","v":1337.875},1214.95,1104.125,951.77500000000009,0]
[59,null,1337.875,1214.95,1104.125,951.77500000000009,0]
[60,null,1484.1750000000002,1348.0500000000002,1224.575,1055.7250000000001,0]
[61,null,1546.0500000000002,1403.6000000000001,1275.1750000000002,1099.45,0]
[62,null,1620.0250000000001,1471.2500000000002,1337.0500000000002,1152.5250000000001,0]
[63,null,1700.8750000000002,1544.6750000000002,1403.325,1209.7250000000001,0]
[64,null,1797.95,1632.95,1483.3500000000001,1278.75,0]
[65,null,1932.4250000000002,1754.5000000000002,1593.9,1374.1750000000002,0]
[66,null,2087.25,1895.3000000000002,1722.0500000000002,1484.1750000000002,0]
[67,null,2253.0750000000003,2046.0000000000002,1859.0000000000002,1602.15,0]
[68,null,{"$f":"C306*$G$2","v":2442.2750000000001},2217.0500000000002,2014.65,1736.3500000000001,0]
[69,null,2664.75,2419.7250000000004,2198.625,1895.0250000000001,0]
[70,null,2940.8500000000004,2670.25,2426.3250000000003,2091.1000000000004,0]
[71,null,3264.5250000000001,2963.9500000000003,2693.0750000000003,2321.2750000000001,0]
[72,null,3611.0250000000001,3278.8250000000003,2979.0750000000003,2567.4,0]
[73,null,4006.2000000000003,3637.7000000000003,3304.9500000000003,2848.7250000000004,0]
[74,null,4464.625,4053.7750000000005,3683.0750000000003,3174.8750000000005,0]
[75,null,5002.25,4541.9000000000005,4126.9250000000002,3557.1250000000005,0]
[76,null,5002.25,4541.9000000000005,4126.9250000000002,3557.1250000000005,0]
[77,null,5002.25,4541.9000000000005,4126.9250000000002,3557.1250000000005,0]
[78,null,{"$f":"C316*$G$2","v":5002.25},4541.9000000000005,4126.9250000000002,3557.1250000000005,0]
[79,null,5002.25,4541.9000000000005,4126.9250000000002,3557.1250000000005,0]
[80,"o mas",5002.25,4541.9000000000005,4126.9250000000002,3557.1250000000005,0]
[1,"Hijo",167.47500000000002,151.52500000000001,137.77500000000001,119.075,0]
[2,"Hijos",257.67500000000001,233.75000000000003,212.57500000000002,183.15,0]
[3,"Hijos o más",374.00000000000006,339.90000000000003,308.82500000000005,266.20000000000005,0]
[1,"Rider Comp. Maternidad",0,0,0,0,0]
[1,"Transplante de organos",0,0,0,0,0]
[null,"Eeliminación de Deducible",{"$f":"C324*$G$2","v":0},{"$f":"D324*$G$2","v":0},0,0,0]
[]
[]
[]
["TARIFAS MENSUALES"]
[]
["EDAD",null,"ET1","ET2","ET3","ET4","ET5","ET6"]
[18,null,{"$f":"C256*$G$3","v":160.439999427},{"$f":"D256*$G$3","v":145.69333281300001},132.25333286100002,114.05333292600001,0]
[19,null,{"$f":"C257*$G$3","v":160.439999427},145.69333281300001,132.25333286100002,114.05333292600001,0]
[20,null,{"$f":"C258*$G$3","v":160.439999427},145.69333281300001,132.25333286100002,114.05333292600001,0]
[21,null,{"$f":"C259*$G$3","v":160.439999427},145.69333281300001,132.25333286100002,114.05333292600001,0]
[22,null,{"$f":"C260*$G$3","v":160.439999427},145.69333281300001,132.25333286100002,114.05333292600001,0]
[23,null,{"$f":"C261*$G$3","v":160.439999427},145.69333281300001,132.25333286100002,114.05333292600001,0]
[24,null,{"$f":"C262*$G$3","v":160.439999427},145.69333281300001,132.25333286100002,114.05333292600001,0]
[25,null,{"$f":"C263*$G$3","v":180.31999935600001},163.799999415,148.773332802,128.333332875,0]
[26,null,{"$f":"C264*$G$3","v":180.31999935600001},163.799999415,148.773332802,128.333332875,0]
[27,null,{"$f":"C265*$G$3","v":180.31999935600001},163.799999415,148.773332802,128.333332875,0]
[28,null,{"$f":"C266*$G$3","v":180.31999935600001},163.799999415,148.773332802,128.333332875,0]
[29,null,{"$f":"C267*$G$3","v":180.31999935600001},163.799999415,148.773332802,128.333332875,0]
[30,null,{"$f":"C268*$G$3","v":202.15999927800002},183.58666601100001,166.97333273700002,144.013332819,0]
[31,null,{"$f":"C269*$G$3","v":202.15999927800002},183.58666601100001,166.97333273700002,144.013332819,0]
[32,null,{"$f":"C270*$G$3","v":202.15999927800002},183.58666601100001,166.97333273700002,144.013332819,0]
[33,null,{"$f":"C271*$G$3","v":202.15999927800002},183.58666601100001,166.97333273700002,144.013332819,0]
[34,null,{"$f":"C272*$G$3","v":202.15999927800002},183.58666601100001,166.97333273700002,144.013332819,0]
[35,null,{"$f":"C273*$G$3","v":230.81333250900002},209.53333258500001,190.49333265300001,164.26666608000002,0]
[36,null,{"$f":"C274*$G$3","v":230.81333250900002},209.53333258500001,190.49333265300001,164.26666608000002,0]
[37,null,{"$f":"C275*$G$3","v":230.81333250900002},209.53333258500001,190.49333265300001,164.26666608000002,0]
[38,null,{"$f":"C276*$G$3","v":230.81333250900002},209.53333258500001,190.49333265300001,164.26666608000002,0]
[39,null,{"$f":"C277*$G$3","v":230.81333250900002},209.53333258500001,190.49333265300001,164.26666608000002,0]
[40,null,{"$f":"C278*$G$3","v":267.58666571100002},242.94666579900002,220.73333254500002,190.306665987,0]
[41,null,{"$f":"C279*$G$3","v":267.58666571100002},242.94666579900002,220.73333254500002,190.306665987,0]
[42,null,{"$f":"C280*$G$3","v":267.58666571100002},242.94666579900002,220.73333254500002,190.306665987,0]
[43,null,{"$f":"C281*$G$3","v":267.58666571100002},242.94666579900002,220.73333254500002,190.306665987,0]
[44,null,{"$f":"C282*$G$3","v":267.58666571100002},242.94666579900002,220.73333254500002,190.306665987,0]
[45,null,{"$f":"C283*$G$3","v":319.75999885800002},290.35999896300001,263.85333239100004,227.45333252100002,0]
[46,null,{"$f":"C284*$G$3","v":319.75999885800002},290.35999896300001,263.85333239100004,227.45333252100002,0]
[47,null,{"$f":"C285*$G$3","v":319.75999885800002},290.35999896300001,263.85333239100004,227.45333252100002,0]
[48,null,{"$f":"C286*$G$3","v":319.75999885800002},290.35999896300001,263.85333239100004,227.45333252100002,0]
[49,null,{"$f":"C287*$G$3","v":319.75999885800002},290.35999896300001,263.85333239100004,227.45333252100002,0]
[50,null,{"$f":"C288*$G$3","v":381.63999863700002},346.54666542900003,314.81333220900001,271.41333236400004,0]
[51,null,{"$f":"C289*$G$3","v":381.63999863700002},346.54666542900003,314.81333220900001,271.41333236400004,0]
[52,null,{"$f":"C290*$G$3","v":381.63999863700002},346.54666542900003,314.81333220900001,271.41333236400004,0]
[53,null,{"$f":"C291*$G$3","v":381.63999863700002},346.54666542900003,314.81333220900001,271.41333236400004,0]
[54,null,{"$f":"C292*$G$3","v":381.63999863700002},346.54666542900003,314.81333220900001,271.41333236400004,0,null,"CR3",null,null,"CR4",null,null,"CR5"]
[55,null,{"$f":"C293*$G$3","v":454.06666504500004},412.34666519400002,374.73333199500001,323.02666551300001,0,null,"INDIVIDUAL","2 PERSONAS","FAMILIAR","INDIVIDUAL","2 PERSONAS","FAMILIAR","INDIVIDUAL","2 PERSONAS","FAMILIAR"]
[56,null,{"$f":"C294*$G$3","v":454.06666504500004},412.34666519400002,374.73333199500001,323.02666551300001,0,null,{"$f":"AU518","v":0},{"$f":"AV518","v":0},{"$f":"AW518","v":0},{"$f":"AX518","v":0},{"$f":"AY518","v":0},{"$f":"AZ518","v":0},{"$f":"BA518","v":0},{"$f":"BB518","v":0},{"$f":"BC518","v":0}]
[57,null,{"$f":"C295*$G$3","v":454.06666504500004},412.34666519400002,374.73333199500001,323.02666551300001,0,null,0,0,0,0,0,0,0,0,0]
[58,null,{"$f":"C296*$G$3","v":454.06666504500004},412.34666519400002,374.73333199500001,323.02666551300001,0]
[59,null,{"$f":"C297*$G$3","v":454.06666504500004},412.34666519400002,374.73333199500001,323.02666551300001,0]
[60,null,{"$f":"C298*$G$3","v":503.71999820100001},457.51999836600004,415.61333184900002,358.30666538700001,0]
[61,null,{"$f":"C299*$G$3","v":524.71999812600006},476.37333163200003,432.786665121,373.14666533400003,0]
[62,null,{"$f":"C300*$G$3","v":549.82666470300001},499.33333155000003,453.786665046,391.15999860300002,0]
[63,null,{"$f":"C301*$G$3","v":577.26666460500007},524.25333146100002,476.279998299,410.57333186700004,0]
[64,null,{"$f":"C302*$G$3","v":610.213331154},554.21333135400005,503.43999820200003,433.99999845000002,0]
[65,null,{"$f":"C303*$G$3","v":655.85333099100001},595.46666454000001,540.959998068,466.38666500100004,0]
[66,null,{"$f":"C304*$G$3","v":708.39999747000002},643.25333103600008,584.45333124600006,503.71999820100001,0]
[67,null,{"$f":"C305*$G$3","v":764.67999726900007},694.39999752000006,630.93333108000002,543.75999805800006,0]
[68,null,{"$f":"C306*$G$3","v":828.89333037300003},752.45333064600004,683.75999755800001,589.30666456200004,0]
[69,null,{"$f":"C307*$G$3","v":904.39999677000003},821.23999706699999,746.19999733500003,643.15999770300004,0]
[70,null,{"$f":"C308*$G$3","v":998.10666310200008},906.26666342999999,823.47999705900008,709.70666413200001,0]
[71,null,{"$f":"C309*$G$3","v":1107.959996043},1005.9466630740001,914.01333006900006,787.82666385300001,0]
[72,null,{"$f":"C310*$G$3","v":1225.5599956230001},1112.8133293590001,1011.079996389,871.35999688800007,0]
[73,null,{"$f":"C311*$G$3","v":1359.679995144},1234.6133289240001,1121.6799959940001,966.83999654700006,0]
[74,null,{"$f":"C312*$G$3","v":1515.2666612550001},1375.8266617530001,1250.0133288690001,1077.533329485,0]
[75,null,{"$f":"C313*$G$3","v":1697.73332727},1541.493327828,1400.653328331,1207.2666623550001,0]
[76,null,{"$f":"C314*$G$3","v":1697.73332727},1541.493327828,1400.653328331,1207.2666623550001,0]
[77,null,{"$f":"C315*$G$3","v":1697.73332727},1541.493327828,1400.653328331,1207.2666623550001,0]
[78,null,{"$f":"C316*$G$3","v":1697.73332727},1541.493327828,1400.653328331,1207.2666623550001,0]
[79,null,{"$f":"C317*$G$3","v":1697.73332727},1541.493327828,1400.653328331,1207.2666623550001,0]
[80,"o mas",{"$f":"C318*$G$3","v":1697.73332727},1541.493327828,1400.653328331,1207.2666623550001,0]
[1,"Hijo",{"$f":"C319*$G$3","v":56.839999797000004},51.426666483000005,46.759999833000002,40.413333188999999,0]
[2,"Hijos",{"$f":"C320*$G$3","v":87.453333021000006},79.333333050000007,72.146666409000005,62.159999778,0]
[3,"Hijos o más",{"$f":"C321*$G$3","v":126.93333288000001},115.35999958800001,104.81333295900001,90.346666343999999,0]
[1,"Rider Comp. Maternidad",{"$f":"C322*$G$3","v":0},0,0,0,0]
[1,"Transplante de organos",{"$f":"C323*$G$3","v":0},0,0,0,0]
[null,null,{"$f":"C324*$G$3","v":0},{"$f":"D324*$G$3","v":0},0,0,0]
[]
[]
[]
[]
[]
["BUPA ELITE"]
["TARIFAS ANUALES"]
[]
["EDAD",null,null,"ET2","ET3","ET4","ET5","ET6"]
[18,null,null,{"$f":"R558","v":6172},{"$f":"S558","v":3952.8},3132,2586.4,1876.8000000000002,null,null,null,{"$f":"DR!D159","v":7715},{"$f":"DR!E159","v":4941},{"$f":"DR!F159","v":3915},{"$f":"DR!G159","v":3233},{"$f":"DR!H159","v":2346},null,{"$f":"L558*$AB$2","v":6172},{"$f":"M558*$AB$2","v":3952.8},3132,2586.4,1876.8000000000002]
[19,null,null,{"$f":"R559","v":6292.8},{"$f":"S559","v":4028},{"$f":"T559","v":3193.6000000000004},{"$f":"U559","v":2633.6000000000004},{"$f":"V559","v":1912},null,null,null,{"$f":"DR!D160","v":7866},{"$f":"DR!E160","v":5035},{"$f":"DR!F160","v":3992},{"$f":"DR!G160","v":3292},{"$f":"DR!H160","v":2390},null,{"$f":"L559*$AB$2","v":6292.8},{"$f":"M559*$AB$2","v":4028},{"$f":"N559*$AB$2","v":3193.6000000000004},{"$f":"O559*$AB$2","v":2633.6000000000004},{"$f":"P559*$AB$2","v":1912}]
[20,null,null,6420,4100.8,3256,2684.8,1947.2,null,null,null,{"$f":"DR!D161","v":8025},{"$f":"DR!E161","v":5126},{"$f":"DR!F161","v":4070},{"$f":"DR!G161","v":3356},{"$f":"DR!H161","v":2434},null,6420,4100.8,3256,2684.8,1947.2]
[21,null,null,6544,4179.2,3315.2000000000003,2734.4,1986.4,null,null,null,{"$f":"DR!D162","v":8180},{"$f":"DR!E162","v":5224},{"$f":"DR!F162","v":4144},{"$f":"DR!G162","v":3418},{"$f":"DR!H162","v":2483},null,6544,4179.2,3315.2000000000003,2734.4,1986.4]
[22,null,null,6677.6,4259.2,3377.6000000000004,2788,2023.2,null,null,null,{"$f":"DR!D163","v":8347},{"$f":"DR!E163","v":5324},{"$f":"DR!F163","v":4222},{"$f":"DR!G163","v":3485},{"$f":"DR!H163","v":2529},null,6677.6,4259.2,3377.6000000000004,2788,2023.2]
[23,null,null,6800.8,4332.8,3443.2000000000003,2836.8,2058.4,null,null,null,{"$f":"DR!D164","v":8501},{"$f":"DR!E164","v":5416},{"$f":"DR!F164","v":4304},{"$f":"DR!G164","v":3546},{"$f":"DR!H164","v":2573},null,6800.8,4332.8,3443.2000000000003,2836.8,2058.4]
[24,null,null,6932.8,4412.8,3504,2886.4,2096,null,null,null,{"$f":"DR!D165","v":8666},{"$f":"DR!E165","v":5516},{"$f":"DR!F165","v":4380},{"$f":"DR!G165","v":3608},{"$f":"DR!H165","v":2620},null,6932.8,4412.8,3504,2886.4,2096]
[25,null,null,7057.6,4488,3568,2940.8,2136,null,null,null,{"$f":"DR!D166","v":8822},{"$f":"DR!E166","v":5610},{"$f":"DR!F166","v":4460},{"$f":"DR!G166","v":3676},{"$f":"DR!H166","v":2670},null,7057.6,4488,3568,2940.8,2136]
[26,null,null,7187.2000000000007,4565.6000000000004,3634.4,2990.4,2174.4,null,null,null,{"$f":"DR!D167","v":8984},{"$f":"DR!E167","v":5707},{"$f":"DR!F167","v":4543},{"$f":"DR!G167","v":3738},{"$f":"DR!H167","v":2718},null,7187.2000000000007,4565.6000000000004,3634.4,2990.4,2174.4]
[27,null,null,7316.8,4644.8,3696.8,3041.6000000000004,2208,null,null,null,{"$f":"DR!D168","v":9146},{"$f":"DR!E168","v":5806},{"$f":"DR!F168","v":4621},{"$f":"DR!G168","v":3802},{"$f":"DR!H168","v":2760},null,7316.8,4644.8,3696.8,3041.6000000000004,2208]
[28,null,null,7473.6,4736.8,3774.4,3109.6000000000004,2263.2000000000003,null,null,null,{"$f":"DR!D169","v":9342},{"$f":"DR!E169","v":5921},{"$f":"DR!F169","v":4718},{"$f":"DR!G169","v":3887},{"$f":"DR!H169","v":2829},null,7473.6,4736.8,3774.4,3109.6000000000004,2263.2000000000003]
[29,null,null,7634.4000000000005,4828,3850.4,3178.4,2316.8000000000002,null,null,null,{"$f":"DR!D170","v":9543},{"$f":"DR!E170","v":6035},{"$f":"DR!F170","v":4813},{"$f":"DR!G170","v":3973},{"$f":"DR!H170","v":2896},null,7634.4000000000005,4828,3850.4,3178.4,2316.8000000000002]
[30,null,null,7794.4000000000005,4918.4000000000005,3917.6000000000004,3248.8,2372.8000000000002,null,null,null,{"$f":"DR!D171","v":9743},{"$f":"DR!E171","v":6148},{"$f":"DR!F171","v":4897},{"$f":"DR!G171","v":4061},{"$f":"DR!H171","v":2966},null,7794.4000000000005,4918.4000000000005,3917.6000000000004,3248.8,2372.8000000000002]
[31,null,null,7953.6,5009.6000000000004,3994.4,3316,2428.8000000000002,null,null,null,{"$f":"DR!D172","v":9942},{"$f":"DR!E172","v":6262},{"$f":"DR!F172","v":4993},{"$f":"DR!G172","v":4145},{"$f":"DR!H172","v":3036},null,7953.6,5009.6000000000004,3994.4,3316,2428.8000000000002]
[32,null,null,8112.8,5102.4000000000005,4070.4,3388,2480.8000000000002,null,null,null,{"$f":"DR!D173","v":10141},{"$f":"DR!E173","v":6378},{"$f":"DR!F173","v":5088},{"$f":"DR!G173","v":4235},{"$f":"DR!H173","v":3101},null,8112.8,5102.4000000000005,4070.4,3388,2480.8000000000002]
[33,null,null,8340,5224,4169.6000000000004,3471.2000000000003,2557.6000000000004,null,null,null,{"$f":"DR!D174","v":10425},{"$f":"DR!E174","v":6530},{"$f":"DR!F174","v":5212},{"$f":"DR!G174","v":4339},{"$f":"DR!H174","v":3197},null,8340,5224,4169.6000000000004,3471.2000000000003,2557.6000000000004]
[34,null,null,8571.2000000000007,5348,4271.2,3554.4,2632.8,null,null,null,{"$f":"DR!D175","v":10714},{"$f":"DR!E175","v":6685},{"$f":"DR!F175","v":5339},{"$f":"DR!G175","v":4443},{"$f":"DR!H175","v":3291},null,8571.2000000000007,5348,4271.2,3554.4,2632.8]
[35,null,null,8797.6,5468.8,4372,3636,2708,null,null,null,{"$f":"DR!D176","v":10997},{"$f":"DR!E176","v":6836},{"$f":"DR!F176","v":5465},{"$f":"DR!G176","v":4545},{"$f":"DR!H176","v":3385},null,8797.6,5468.8,4372,3636,2708]
[36,null,null,9025.6,5589.6,4473.6000000000004,3720,2780.8,null,null,null,{"$f":"DR!D177","v":11282},{"$f":"DR!E177","v":6987},{"$f":"DR!F177","v":5592},{"$f":"DR!G177","v":4650},{"$f":"DR!H177","v":3476},null,9025.6,5589.6,4473.6000000000004,3720,2780.8]
[37,null,null,9252,5712.8,4573.6000000000004,3801.6000000000004,2856,null,null,null,{"$f":"DR!D178","v":11565},{"$f":"DR!E178","v":7141},{"$f":"DR!F178","v":5717},{"$f":"DR!G178","v":4752},{"$f":"DR!H178","v":3570},null,9252,5712.8,4573.6000000000004,3801.6000000000004,2856]
[38,null,null,9559.2000000000007,5912,4740.8,3917.6000000000004,2948,null,null,null,{"$f":"DR!D179","v":11949},{"$f":"DR!E179","v":7390},{"$f":"DR!F179","v":5926},{"$f":"DR!G179","v":4897},{"$f":"DR!H179","v":3685},null,9559.2000000000007,5912,4740.8,3917.6000000000004,2948]
[39,null,null,9864,6110.4000000000005,4904,4040.8,3041.6000000000004,null,null,null,{"$f":"DR!D180","v":12330},{"$f":"DR!E180","v":7638},{"$f":"DR!F180","v":6130},{"$f":"DR!G180","v":5051},{"$f":"DR!H180","v":3802},null,9864,6110.4000000000005,4904,4040.8,3041.6000000000004]
[40,null,null,10171.200000000001,6309.6,5071.2000000000007,4156.8,3137.6000000000004,null,null,null,{"$f":"DR!D181","v":12714},{"$f":"DR!E181","v":7887},{"$f":"DR!F181","v":6339},{"$f":"DR!G181","v":5196},{"$f":"DR!H181","v":3922},null,10171.200000000001,6309.6,5071.2000000000007,4156.8,3137.6000000000004]
[41,null,null,10474.400000000001,6511.2000000000007,5236.8,4277.6000000000004,3227.2000000000003,null,null,null,{"$f":"DR!D182","v":13093},{"$f":"DR!E182","v":8139},{"$f":"DR!F182","v":6546},{"$f":"DR!G182","v":5347},{"$f":"DR!H182","v":4034},null,10474.400000000001,6511.2000000000007,5236.8,4277.6000000000004,3227.2000000000003]
[42,null,null,10782.400000000001,6708.8,5398.4000000000005,4396,3322.4,null,null,null,{"$f":"DR!D183","v":13478},{"$f":"DR!E183","v":8386},{"$f":"DR!F183","v":6748},{"$f":"DR!G183","v":5495},{"$f":"DR!H183","v":4153},null,10782.400000000001,6708.8,5398.4000000000005,4396,3322.4]
[43,null,null,11166.400000000001,6942.4000000000005,5584.8,4526.4000000000005,3426.4,null,null,null,{"$f":"DR!D184","v":13958},{"$f":"DR!E184","v":8678},{"$f":"DR!F184","v":6981},{"$f":"DR!G184","v":5658},{"$f":"DR!H184","v":4283},null,11166.400000000001,6942.4000000000005,5584.8,4526.4000000000005,3426.4]
[44,null,null,11545.6,7173.6,5773.6,4660.8,3532,null,null,null,{"$f":"DR!D185","v":14432},{"$f":"DR!E185","v":8967},{"$f":"DR!F185","v":7217},{"$f":"DR!G185","v":5826},{"$f":"DR!H185","v":4415},null,11545.6,7173.6,5773.6,4660.8,3532]
[45,null,null,11932,7405.6,5960,4786.4000000000005,3636.8,null,null,null,{"$f":"DR!D186","v":14915},{"$f":"DR!E186","v":9257},{"$f":"DR!F186","v":7450},{"$f":"DR!G186","v":5983},{"$f":"DR!H186","v":4546},null,11932,7405.6,5960,4786.4000000000005,3636.8]
[46,null,null,12312,7637.6,6148,4918.4000000000005,3740,null,null,null,{"$f":"DR!D187","v":15390},{"$f":"DR!E187","v":9547},{"$f":"DR!F187","v":7685},{"$f":"DR!G187","v":6148},{"$f":"DR!H187","v":4675},null,12312,7637.6,6148,4918.4000000000005,3740]
[47,null,null,12694.400000000001,7868,6331.2000000000007,5047.2000000000007,3851.2000000000003,null,null,null,{"$f":"DR!D188","v":15868},{"$f":"DR!E188","v":9835},{"$f":"DR!F188","v":7914},{"$f":"DR!G188","v":6309},{"$f":"DR!H188","v":4814},null,12694.400000000001,7868,6331.2000000000007,5047.2000000000007,3851.2000000000003]
[48,null,null,13169.6,8136,6561.6,5221.6000000000004,3988,null,null,null,{"$f":"DR!D189","v":16462},{"$f":"DR!E189","v":10170},{"$f":"DR!F189","v":8202},{"$f":"DR!G189","v":6527},{"$f":"DR!H189","v":4985},null,13169.6,8136,6561.6,5221.6000000000004,3988]
[49,null,null,13642.400000000001,8406.4,6788,5398.4000000000005,4124,null,null,null,{"$f":"DR!D190","v":17053},{"$f":"DR!E190","v":10508},{"$f":"DR!F190","v":8485},{"$f":"DR!G190","v":6748},{"$f":"DR!H190","v":5155},null,13642.400000000001,8406.4,6788,5398.4000000000005,4124]
[50,null,null,14117.6,8676.8000000000011,7013.6,5572.8,4260,null,null,null,{"$f":"DR!D191","v":17647},{"$f":"DR!E191","v":10846},{"$f":"DR!F191","v":8767},{"$f":"DR!G191","v":6966},{"$f":"DR!H191","v":5325},null,14117.6,8676.8000000000011,7013.6,5572.8,4260]
[51,null,null,14594.400000000001,8951.2000000000007,7239.2000000000007,5752,4396,null,null,null,{"$f":"DR!D192","v":18243},{"$f":"DR!E192","v":11189},{"$f":"DR!F192","v":9049},{"$f":"DR!G192","v":7190},{"$f":"DR!H192","v":5495},null,14594.400000000001,8951.2000000000007,7239.2000000000007,5752,4396]
[52,null,null,15064.800000000001,9216,7468,5926.4000000000005,4532,null,null,null,{"$f":"DR!D193","v":18831},{"$f":"DR!E193","v":11520},{"$f":"DR!F193","v":9335},{"$f":"DR!G193","v":7408},{"$f":"DR!H193","v":5665},null,15064.800000000001,9216,7468,5926.4000000000005,4532]
[53,null,null,15642.400000000001,9577.6,7736.8,6141.6,4706.4000000000005,null,null,null,{"$f":"DR!D194","v":19553},{"$f":"DR!E194","v":11972},{"$f":"DR!F194","v":9671},{"$f":"DR!G194","v":7677},{"$f":"DR!H194","v":5883},null,15642.400000000001,9577.6,7736.8,6141.6,4706.4000000000005]
[54,null,null,16218.400000000001,9944,8006.4000000000005,6351.2000000000007,4874.4000000000005,null,null,null,{"$f":"DR!D195","v":20273},{"$f":"DR!E195","v":12430},{"$f":"DR!F195","v":10008},{"$f":"DR!G195","v":7939},{"$f":"DR!H195","v":6093},null,16218.400000000001,9944,8006.4000000000005,6351.2000000000007,4874.4000000000005]
[55,null,null,16791.2,10308,8278.4,6568.8,5045.6000000000004,null,null,null,{"$f":"DR!D196","v":20989},{"$f":"DR!E196","v":12885},{"$f":"DR!F196","v":10348},{"$f":"DR!G196","v":8211},{"$f":"DR!H196","v":6307},null,16791.2,10308,8278.4,6568.8,5045.6000000000004]
[56,null,null,17368.8,10672,8549.6,6782.4000000000005,5218.4000000000005,null,null,null,{"$f":"DR!D197","v":21711},{"$f":"DR!E197","v":13340},{"$f":"DR!F197","v":10687},{"$f":"DR!G197","v":8478},{"$f":"DR!H197","v":6523},null,17368.8,10672,8549.6,6782.4000000000005,5218.4000000000005]
[57,null,null,17942.400000000001,11033.6,8818.4,6999.2000000000007,5390.4000000000005,null,null,null,{"$f":"DR!D198","v":22428},{"$f":"DR!E198","v":13792},{"$f":"DR!F198","v":11023},{"$f":"DR!G198","v":8749},{"$f":"DR!H198","v":6738},null,17942.400000000001,11033.6,8818.4,6999.2000000000007,5390.4000000000005]
[58,null,null,18640.8,11518.400000000001,9168.8000000000011,7279.2000000000007,5610.4000000000005,null,null,null,{"$f":"DR!D199","v":23301},{"$f":"DR!E199","v":14398},{"$f":"DR!F199","v":11461},{"$f":"DR!G199","v":9099},{"$f":"DR!H199","v":7013},null,18640.8,11518.400000000001,9168.8000000000011,7279.2000000000007,5610.4000000000005]
[59,null,null,19341.600000000002,12002.400000000001,9516.8000000000011,7567.2000000000007,5836.8,null,null,null,{"$f":"DR!D200","v":24177},{"$f":"DR!E200","v":15003},{"$f":"DR!F200","v":11896},{"$f":"DR!G200","v":9459},{"$f":"DR!H200","v":7296},null,19341.600000000002,12002.400000000001,9516.8000000000011,7567.2000000000007,5836.8]
[60,null,null,20040.800000000003,12486.400000000001,9864.8000000000011,7847.2000000000007,6060.8,null,null,null,{"$f":"DR!D201","v":25051},{"$f":"DR!E201","v":15608},{"$f":"DR!F201","v":12331},{"$f":"DR!G201","v":9809},{"$f":"DR!H201","v":7576},null,20040.800000000003,12486.400000000001,9864.8000000000011,7847.2000000000007,6060.8]
[61,null,null,20869.600000000002,13088,10328,8208.8000000000011,6346.4000000000005,null,null,null,{"$f":"DR!D202","v":26087},{"$f":"DR!E202","v":16360},{"$f":"DR!F202","v":12910},{"$f":"DR!G202","v":10261},{"$f":"DR!H202","v":7933},null,20869.600000000002,13088,10328,8208.8000000000011,6346.4000000000005]
[62,null,null,21844.800000000003,13816.800000000001,10912.800000000001,8657.6,6773.6,null,null,null,{"$f":"DR!D203","v":27306},{"$f":"DR!E203","v":17271},{"$f":"DR!F203","v":13641},{"$f":"DR!G203","v":10822},{"$f":"DR!H203","v":8467},null,21844.800000000003,13816.800000000001,10912.800000000001,8657.6,6773.6]
[63,null,null,22984,14701.6,11640.800000000001,9204,7278.4000000000005,null,null,null,{"$f":"DR!D204","v":28730},{"$f":"DR!E204","v":18377},{"$f":"DR!F204","v":14551},{"$f":"DR!G204","v":11505},{"$f":"DR!H204","v":9098},null,22984,14701.6,11640.800000000001,9204,7278.4000000000005]
[64,null,null,24292,15740.800000000001,12514.400000000001,9877.6,7871.2000000000007,null,null,null,{"$f":"DR!D205","v":30365},{"$f":"DR!E205","v":19676},{"$f":"DR!F205","v":15643},{"$f":"DR!G205","v":12347},{"$f":"DR!H205","v":9839},null,24292,15740.800000000001,12514.400000000001,9877.6,7871.2000000000007]
[65,null,null,25796.800000000003,16943.2,13542.400000000001,10700,8558.4,null,null,null,{"$f":"DR!D206","v":32246},{"$f":"DR!E206","v":21179},{"$f":"DR!F206","v":16928},{"$f":"DR!G206","v":13375},{"$f":"DR!H206","v":10698},null,25796.800000000003,16943.2,13542.400000000001,10700,8558.4]
[66,null,null,27525.600000000002,18318.400000000001,14741.6,11686.400000000001,9394.4,null,null,null,{"$f":"DR!D207","v":34407},{"$f":"DR!E207","v":22898},{"$f":"DR!F207","v":18427},{"$f":"DR!G207","v":14608},{"$f":"DR!H207","v":11743},null,27525.600000000002,18318.400000000001,14741.6,11686.400000000001,9394.4]
[67,null,null,29504,19896,16122.400000000001,12853.6,10388.800000000001,null,null,null,{"$f":"DR!D208","v":36880},{"$f":"DR!E208","v":24870},{"$f":"DR!F208","v":20153},{"$f":"DR!G208","v":16067},{"$f":"DR!H208","v":12986},null,29504,19896,16122.400000000001,12853.6,10388.800000000001]
[68,null,null,31828,21764.800000000003,17734.400000000001,14222.400000000001,11556.800000000001,null,null,null,{"$f":"DR!D209","v":39785},{"$f":"DR!E209","v":27206},{"$f":"DR!F209","v":22168},{"$f":"DR!G209","v":17778},{"$f":"DR!H209","v":14446},null,31828,21764.800000000003,17734.400000000001,14222.400000000001,11556.800000000001]
[69,null,null,34508.800000000003,23960.800000000003,19605.600000000002,15824,12920,null,null,null,{"$f":"DR!D210","v":43136},{"$f":"DR!E210","v":29951},{"$f":"DR!F210","v":24507},{"$f":"DR!G210","v":19780},{"$f":"DR!H210","v":16150},null,34508.800000000003,23960.800000000003,19605.600000000002,15824,12920]
[70,null,null,37578.400000000001,26484.800000000003,21771.200000000001,17686.400000000001,14511.2,null,null,null,{"$f":"DR!D211","v":46973},{"$f":"DR!E211","v":33106},{"$f":"DR!F211","v":27214},{"$f":"DR!G211","v":22108},{"$f":"DR!H211","v":18139},null,37578.400000000001,26484.800000000003,21771.200000000001,17686.400000000001,14511.2]
[71,null,null,41077.600000000006,29360,24248.800000000003,19832,16348.800000000001,null,null,null,{"$f":"DR!D212","v":51347},{"$f":"DR!E212","v":36700},{"$f":"DR!F212","v":30311},{"$f":"DR!G212","v":24790},{"$f":"DR!H212","v":20436},null,41077.600000000006,29360,24248.800000000003,19832,16348.800000000001]
[72,null,null,45051.200000000004,32620.800000000003,27073.600000000002,22281.600000000002,18457.600000000002,null,null,null,{"$f":"DR!D213","v":56314},{"$f":"DR!E213","v":40776},{"$f":"DR!F213","v":33842},{"$f":"DR!G213","v":27852},{"$f":"DR!H213","v":23072},null,45051.200000000004,32620.800000000003,27073.600000000002,22281.600000000002,18457.600000000002]
[73,null,null,49497.600000000006,36283.200000000004,30264,25052.800000000003,20868,null,null,null,{"$f":"DR!D214","v":61872},{"$f":"DR!E214","v":45354},{"$f":"DR!F214","v":37830},{"$f":"DR!G214","v":31316},{"$f":"DR!H214","v":26085},null,49497.600000000006,36283.200000000004,30264,25052.800000000003,20868]
[74,null,null,54531.200000000004,40424.800000000003,33871.200000000004,28166.400000000001,23608.800000000003,null,null,null,{"$f":"DR!D215","v":68164},{"$f":"DR!E215","v":50531},{"$f":"DR!F215","v":42339},{"$f":"DR!G215","v":35208},{"$f":"DR!H215","v":29511},null,54531.200000000004,40424.800000000003,33871.200000000004,28166.400000000001,23608.800000000003]
[75,null,null,60188.800000000003,45053.600000000006,37940.800000000003,31674.400000000001,26697.600000000002,null,null,null,{"$f":"DR!D216","v":75236},{"$f":"DR!E216","v":56317},{"$f":"DR!F216","v":47426},{"$f":"DR!G216","v":39593},{"$f":"DR!H216","v":33372},null,60188.800000000003,45053.600000000006,37940.800000000003,31674.400000000001,26697.600000000002]
[76,null,null,66660,50418.400000000001,42522.400000000001,35626.400000000001,30156,null,null,null,{"$f":"DR!D217","v":83325},{"$f":"DR!E217","v":63023},{"$f":"DR!F217","v":53153},{"$f":"DR!G217","v":44533},{"$f":"DR!H217","v":37695},null,66660,50418.400000000001,42522.400000000001,35626.400000000001,30156]
[77,null,null,74429.600000000006,56616,47800,40172,34090.400000000001,null,null,null,{"$f":"DR!D218","v":93037},{"$f":"DR!E218","v":70770},{"$f":"DR!F218","v":59750},{"$f":"DR!G218","v":50215},{"$f":"DR!H218","v":42613},null,74429.600000000006,56616,47800,40172,34090.400000000001]
[78,null,null,83809.600000000006,64019.200000000004,53822.400000000001,45404.800000000003,38607.200000000004,null,null,null,{"$f":"DR!D219","v":104762},{"$f":"DR!E219","v":80024},{"$f":"DR!F219","v":67278},{"$f":"DR!G219","v":56756},{"$f":"DR!H219","v":48259},null,83809.600000000006,64019.200000000004,53822.400000000001,45404.800000000003,38607.200000000004]
[79,null,null,95136,72822.400000000009,60836,51388.800000000003,43790.400000000001,null,null,null,{"$f":"DR!D220","v":118920},{"$f":"DR!E220","v":91028},{"$f":"DR!F220","v":76045},{"$f":"DR!G220","v":64236},{"$f":"DR!H220","v":54738},null,95136,72822.400000000009,60836,51388.800000000003,43790.400000000001]
[80,"o mas",null,108725.6,83223.200000000012,69196,58522.400000000001,49934.400000000001,null,null,null,{"$f":"DR!D221","v":135907},{"$f":"DR!E221","v":104029},{"$f":"DR!F221","v":86495},{"$f":"DR!G221","v":73153},{"$f":"DR!H221","v":62418},null,108725.6,83223.200000000012,69196,58522.400000000001,49934.400000000001]
[1,"Hijo",null,2624.8,1825.6000000000001,1332.8000000000002,1095.2,960,null,null,null,{"$f":"DR!D222","v":3281},{"$f":"DR!E222","v":2282},{"$f":"DR!F222","v":1666},{"$f":"DR!G222","v":1369},{"$f":"DR!H222","v":1200},null,2624.8,1825.6000000000001,1332.8000000000002,1095.2,960]
[2,"Hijos",null,4037.6000000000004,2966.4,2105.6,1736.8000000000002,1520.8000000000002,null,null,null,{"$f":"DR!D223","v":5047},{"$f":"DR!E223","v":3708},{"$f":"DR!F223","v":2632},{"$f":"DR!G223","v":2171},{"$f":"DR!H223","v":1901},null,4037.6000000000004,2966.4,2105.6,1736.8000000000002,1520.8000000000002]
[3,"Hijos o más",null,{"$f":"R623","v":5893.6},{"$f":"S623","v":4336},{"$f":"T623","v":3065.6000000000004},{"$f":"U623","v":2525.6000000000004},{"$f":"V623","v":2200},null,null,null,{"$f":"DR!D224","v":7367},{"$f":"DR!E224","v":5420},{"$f":"DR!F224","v":3832},{"$f":"DR!G224","v":3157},{"$f":"DR!H224","v":2750},null,{"$f":"L623*$AB$2","v":5893.6},{"$f":"M623*$AB$2","v":4336},{"$f":"N623*$AB$2","v":3065.6000000000004},{"$f":"O623*$AB$2","v":2525.6000000000004},{"$f":"P623*$AB$2","v":2200}]
[1,"Rider Comp. Maternidad",null,{"$f":"L624","v":0},{"$f":"M624","v":0},0,225,225,null,null,null,0,0,0,225,225]
[1,"Transplante de organos",null,{"$f":"L625","v":300},{"$f":"M625","v":300},{"$f":"N625","v":300},{"$f":"O625","v":300},{"$f":"P625","v":300},null,null,null,300,300,300,300,300]
[null,"Deductible Waiver",null,45,180,345,775,1330,null,null,null,45,180,345,775,1330]
[]
[]
["TARIFAS SEMESTRALES"]
[]
["EDAD",null,null,"ET2","ET3","ET4","ET5","ET6"]
[18,null,null,{"$f":"D558*$G$1","v":3271.1600000000003},2094.9840000000004,1659.96,1370.7920000000001,994.70400000000018]
[19,null,null,3335.1840000000002,2134.84,1692.6080000000002,1395.8080000000002,1013.36]
[20,null,null,3402.6000000000004,2173.4240000000004,1725.68,1422.9440000000002,1032.0160000000001]
[21,null,null,3468.32,2214.9760000000001,1757.0560000000003,1449.2320000000002,1052.7920000000001]
[22,null,null,3539.1280000000002,2257.3760000000002,1790.1280000000004,1477.64,1072.296]
[23,null,null,3604.4240000000004,2296.384,1824.8960000000002,1503.5040000000001,1090.952]
[24,null,null,3674.3840000000005,2338.7840000000001,1857.1200000000001,1529.7920000000001,1110.8800000000001]
[25,null,null,3740.5280000000002,2378.6400000000003,1891.0400000000002,1558.6240000000003,1132.0800000000002]
[26,null,null,3809.2160000000008,2419.7680000000005,1926.2320000000002,1584.912,1152.432]
[27,null,null,3877.9040000000005,2461.7440000000001,1959.3040000000001,1612.0480000000002,1170.24]
[28,null,null,{"$f":"D568*$G$1","v":3961.0080000000003},2510.5040000000004,2000.4320000000002,1648.0880000000002,1199.4960000000001]
[29,null,null,4046.2320000000004,2558.84,2040.7120000000002,1684.5520000000001,1227.9040000000002]
[30,null,null,4131.0320000000002,2606.7520000000004,2076.3280000000004,1721.8640000000003,1257.5840000000001]
[31,null,null,4215.4080000000004,2655.0880000000002,2117.0320000000002,1757.48,1287.2640000000001]
[32,null,null,4299.7840000000006,2704.2720000000004,2157.3120000000004,1795.64,1314.8240000000001]
[33,null,null,4420.2,2768.7200000000003,2209.8880000000004,1839.7360000000003,1355.5280000000002]
[34,null,null,4542.7360000000008,2834.44,2263.7359999999999,1883.8320000000001,1395.3840000000002]
[35,null,null,4662.7280000000001,2898.4640000000004,2317.1600000000003,1927.0800000000002,1435.24]
[36,null,null,4783.5680000000002,2962.4880000000003,2371.0080000000003,1971.6000000000001,1473.8240000000001]
[37,null,null,4903.5600000000004,3027.7840000000001,2424.0080000000003,2014.8480000000002,1513.68]
[38,null,null,{"$f":"D578*$G$1","v":5066.3760000000002},3133.36,2512.6240000000003,2076.3280000000004,1562.44]
[39,null,null,5227.92,3238.5120000000006,2599.1200000000003,2141.6240000000003,1612.0480000000002]
[40,null,null,5390.7360000000008,3344.0880000000002,2687.7360000000003,2203.1040000000003,1662.9280000000003]
[41,null,null,5551.4320000000007,3450.9360000000006,2775.5040000000004,2267.1280000000002,1710.4160000000002]
[42,null,null,5714.6720000000014,3555.6640000000002,2861.1520000000005,2329.88,1760.8720000000001]
[43,null,null,5918.1920000000009,3679.4720000000007,2959.9440000000004,2398.9920000000002,1815.9920000000002]
[44,null,null,6119.1680000000006,3802.0080000000003,3060.0080000000003,2470.2240000000002,1871.96]
[45,null,null,6323.96,3924.9680000000003,3158.8,2536.7920000000004,1927.5040000000001]
[46,null,null,6525.3600000000006,4047.9280000000003,3258.44,2606.7520000000004,1982.2]
[47,null,null,6728.0320000000011,4170.04,3355.5360000000005,2675.0160000000005,2041.1360000000002]
[48,null,null,{"$f":"D588*$G$1","v":6979.8880000000008},4312.08,3477.6480000000006,2767.4480000000003,2113.6400000000003]
[49,null,null,7230.4720000000016,4455.3919999999998,3597.6400000000003,2861.1520000000005,2185.7200000000003]
[50,null,null,7482.3280000000004,4598.7040000000006,3717.2080000000005,2953.5840000000003,2257.8000000000002]
[51,null,null,7735.0320000000011,4744.1360000000004,3836.7760000000007,3048.56,2329.88]
[52,null,null,7984.344000000001,4884.4800000000005,3958.0400000000004,3140.9920000000006,2401.96]
[53,null,null,8290.4720000000016,5076.1280000000006,4100.5039999999999,3255.0480000000002,2494.3920000000003]
[54,null,null,8595.7520000000004,5270.3200000000006,4243.3920000000007,3366.1360000000004,2583.4320000000002]
[55,null,null,8899.3360000000011,5463.2400000000007,4387.5519999999997,3481.4640000000004,2674.1680000000001]
[56,null,null,9205.4639999999999,5656.16,4531.2880000000005,3594.6720000000005,2765.7520000000004]
[57,null,null,9509.4720000000016,5847.8080000000009,4673.7520000000004,3709.5760000000005,2856.9120000000003]
[58,null,null,{"$f":"D598*$G$1","v":9879.6239999999998},6104.7520000000013,4859.4640000000009,3857.9760000000006,2973.5120000000006]
[59,null,null,10251.048000000003,6361.2720000000008,5043.9040000000005,4010.6160000000004,3093.5040000000004]
[60,null,null,10621.624000000002,6617.7920000000013,5228.344000000001,4159.0160000000005,3212.2240000000002]
[61,null,null,11060.888000000001,6936.64,5473.84,4350.6640000000007,3363.5920000000006]
[62,null,null,11577.744000000002,7322.9040000000014,5783.7840000000006,4588.5280000000002,3590.0080000000003]
[63,null,null,12181.52,7791.8480000000009,6169.6240000000007,4878.12,3857.5520000000006]
[64,null,null,12874.76,8342.6240000000016,6632.6320000000014,5235.1280000000006,4171.7360000000008]
[65,null,null,13672.304000000002,8979.8960000000006,7177.4720000000016,5671,4535.9520000000002]
[66,null,null,14588.568000000001,9708.7520000000004,7813.0480000000007,6193.7920000000013,4979.0320000000002]
[67,null,null,15637.12,10544.880000000001,8544.8720000000012,6812.4080000000004,5506.0640000000012]
[68,null,null,{"$f":"D608*$G$1","v":16868.84},11535.344000000003,9399.2320000000018,7537.8720000000012,6125.1040000000012]
[69,null,null,18289.664000000001,12699.224000000002,10390.968000000003,8386.7200000000012,6847.6]
[70,null,null,19916.552000000003,14036.944000000003,11538.736000000001,9373.7920000000013,7690.9360000000006]
[71,null,null,21771.128000000004,15560.800000000001,12851.864000000001,10510.960000000001,8664.8640000000014]
[72,null,null,23877.136000000002,17289.024000000001,14349.008000000002,11809.248000000001,9782.5280000000021]
[73,null,null,26233.728000000003,19230.096000000005,16039.92,13277.984000000002,11060.04]
[74,null,null,28901.536000000004,21425.144000000004,17951.736000000004,14928.192000000001,12512.664000000002]
[75,null,null,31900.064000000002,23878.408000000003,20108.624000000003,16787.432000000001,14149.728000000001]
[76,null,null,35329.800000000003,26721.752,22536.872000000003,18881.992000000002,15982.68]
[77,null,null,39447.688000000002,30006.480000000003,25334,21291.16,18067.912]
[78,null,null,{"$f":"D618*$G$1","v":44419.088000000003},33930.176000000007,28525.872000000003,24064.544000000002,20461.816000000003]
[79,null,null,50422.080000000002,38595.872000000003,32243.08,27236.064000000002,23208.912]
[80,"o mas",null,57624.568000000007,44108.296000000009,36673.880000000005,31016.872000000003,26465.232000000004]
[1,"Hijo",null,1391.1440000000002,967.5680000000001,706.38400000000013,580.45600000000002,508.8]
[2,"Hijos",null,2139.9280000000003,1572.1920000000002,1115.9680000000001,920.50400000000013,806.02400000000011]
[3,"Hijos o más",null,3123.6080000000002,2298.08,1624.7680000000003,1338.5680000000002,1166]
[1,"Rider Comp. Maternidad",null,0,0,0,119.25,119.25]
[1,"Transplante de organos",null,159,159,159,159,159]
[null,"Deductible Waiver",null,23.85,95.4,182.85000000000002,410.75,704.90000000000009]
[]
[]
["TARIFAS TRIMESTRALES"]
[]
["EDAD",null,null,"ET2","ET3","ET4","ET5","ET6"]
[18,null,null,{"$f":"D558*$G$2","v":1697.3000000000002},1087.0200000000002,861.30000000000007,711.2600000000001,516.12000000000012]
[19,null,null,1730.5200000000002,1107.7,878.24000000000012,724.24000000000012,525.80000000000007]
[20,null,null,1765.5000000000002,1127.7200000000003,895.40000000000009,738.32000000000016,535.48]
[21,null,null,1799.6000000000001,1149.28,911.68000000000018,751.96,546.2600000000001]
[22,null,null,1836.3400000000001,1171.28,928.84000000000015,766.7,556.38000000000011]
[23,null,null,1870.2200000000003,1191.5200000000002,946.88000000000011,780.12000000000012,566.06000000000006]
[24,null,null,1906.5200000000002,1213.5200000000002,963.6,793.7600000000001,576.40000000000009]
[25,null,null,1940.8400000000001,1234.2,981.2,808.72000000000014,587.40000000000009]
[26,null,null,1976.4800000000005,1255.5400000000002,999.46000000000015,822.36000000000013,597.96]
[27,null,null,2012.1200000000001,1277.3200000000002,1016.6200000000001,836.44000000000017,607.20000000000005]
[28,null,null,{"$f":"D568*$G$2","v":2055.2400000000002},1302.6200000000001,1037.96,855.14000000000021,622.38000000000011]
[29,null,null,2099.4600000000005,1327.7,1058.8600000000001,874.06000000000006,637.12000000000012]
[30,null,null,2143.4600000000005,1352.5600000000002,1077.3400000000001,893.42000000000007,652.5200000000001]
[31,null,null,2187.2400000000002,1377.64,1098.46,911.90000000000009,667.92000000000007]
[32,null,null,2231.0200000000004,1403.1600000000003,1119.3600000000001,931.7,682.22000000000014]
[33,null,null,2293.5,1436.6000000000001,1146.6400000000001,954.58000000000015,703.34000000000015]
[34,null,null,2357.0800000000004,1470.7,1174.5800000000002,977.46000000000015,724.0200000000001]
[35,null,null,2419.34,1503.92,1202.3000000000002,999.90000000000009,744.7]
[36,null,null,2482.0400000000004,1537.1400000000003,1230.2400000000002,1023.0000000000001,764.72000000000014]
[37,null,null,2544.3000000000002,1571.0200000000002,1257.7400000000002,1045.4400000000003,785.40000000000009]
[38,null,null,{"$f":"D578*$G$2","v":2628.78},1625.8000000000002,1303.7200000000003,1077.3400000000001,810.7]
[39,null,null,2712.6000000000004,1680.3600000000004,1348.6000000000001,1111.22,836.44000000000017]
[40,null,null,2797.0800000000004,1735.1400000000003,1394.5800000000004,1143.1200000000001,862.84000000000015]
[41,null,null,2880.4600000000005,1790.5800000000004,1440.1200000000001,1176.3400000000001,887.48000000000013]
[42,null,null,2965.1600000000008,1844.9200000000003,1484.5600000000002,1208.9000000000001,913.66000000000008]
[43,null,null,3070.7600000000007,1909.1600000000003,1535.8200000000002,1244.7600000000002,942.2600000000001]
[44,null,null,3175.0400000000004,1972.7400000000002,1587.7400000000002,1281.7200000000003,971.30000000000007]
[45,null,null,3281.3,2036.5400000000002,1639.0000000000002,1316.2600000000002,1000.1200000000001]
[46,null,null,3385.8,2100.34,1690.7,1352.5600000000002,1028.5]
[47,null,null,3490.9600000000005,2163.7000000000003,1741.0800000000004,1387.9800000000002,1059.0800000000002]
[48,null,null,{"$f":"D588*$G$2","v":3621.6400000000003},2237.4,1804.4400000000003,1435.9400000000003,1096.7]
[49,null,null,3751.6600000000008,2311.7600000000002,1866.7,1484.5600000000002,1134.1000000000001]
[50,null,null,3882.3400000000006,2386.1200000000003,1928.7400000000002,1532.5200000000002,1171.5]
[51,null,null,4013.4600000000009,2461.5800000000004,1990.7800000000004,1581.8000000000002,1208.9000000000001]
[52,null,null,4142.8200000000006,2534.4,2053.7000000000003,1629.7600000000002,1246.3000000000002]
[53,null,null,4301.6600000000008,2633.84,2127.6200000000003,1688.9400000000003,1294.2600000000002]
[54,null,null,4460.0600000000004,2734.6000000000004,2201.7600000000002,1746.5800000000004,1340.4600000000003]
[55,null,null,4617.5800000000008,2834.7000000000003,2276.56,1806.4200000000003,1387.5400000000002]
[56,null,null,4776.42,2934.8,2351.1400000000003,1865.1600000000003,1435.0600000000002]
[57,null,null,4934.1600000000008,3034.2400000000002,2425.06,1924.7800000000004,1482.3600000000004]
[58,null,null,{"$f":"D598*$G$2","v":5126.22},3167.5600000000009,2521.4200000000005,2001.7800000000004,1542.8600000000004]
[59,null,null,5318.9400000000014,3300.6600000000008,2617.1200000000003,2080.9800000000005,1605.1200000000001]
[60,null,null,5511.2200000000012,3433.7600000000007,2712.8200000000006,2157.9800000000005,1666.7200000000003]
[61,null,null,5739.1400000000012,3599.2000000000003,2840.2000000000003,2257.4200000000005,1745.2600000000002]
[62,null,null,6007.3200000000015,3799.6200000000008,3001.0200000000004,2380.84,1862.7400000000002]
[63,null,null,6320.6,4042.9400000000005,3201.2200000000007,2531.1000000000004,2001.5600000000004]
[64,null,null,6680.3,4328.72,3441.4600000000005,2716.34,2164.5800000000004]
[65,null,null,7094.1200000000017,4659.380000000001,3724.1600000000008,2942.5000000000005,2353.56]
[66,null,null,7569.5400000000009,5037.5600000000004,4053.9400000000005,3213.7600000000007,2583.46]
[67,null,null,8113.6,5471.4000000000005,4433.6600000000008,3534.7400000000002,2856.9200000000005]
[68,null,null,{"$f":"D608*$G$2","v":8752.7000000000007},5985.3200000000015,4876.9600000000009,3911.1600000000008,3178.1200000000003]
[69,null,null,9489.9200000000019,6589.2200000000012,5391.5400000000009,4351.6000000000004,3553.0000000000005]
[70,null,null,10334.060000000001,7283.3200000000015,5987.0800000000008,4863.7600000000011,3990.5800000000004]
[71,null,null,11296.340000000002,8074.0000000000009,6668.420000000001,5453.8,4495.920000000001]
[72,null,null,12389.080000000002,8970.7200000000012,7445.2400000000016,6127.4400000000014,5075.8400000000011]
[73,null,null,13611.840000000002,9977.8800000000028,8322.6,6889.5200000000013,5738.7000000000007]
[74,null,null,14996.080000000002,11116.820000000002,9314.5800000000017,7745.7600000000011,6492.420000000001]
[75,null,null,16551.920000000002,12389.740000000003,10433.720000000001,8710.4600000000009,7341.8400000000011]
[76,null,null,18331.5,13865.060000000001,11693.660000000002,9797.260000000002,8292.9000000000015]
[77,null,null,20468.140000000003,15569.400000000001,13145.000000000002,11047.300000000001,9374.86]
[78,null,null,{"$f":"D618*$G$2","v":23047.640000000003},17605.280000000002,14801.160000000002,12486.320000000002,10616.980000000001]
[79,null,null,26162.400000000001,20026.160000000003,16729.900000000001,14131.920000000002,12042.36]
[80,"o mas",null,29899.540000000005,22886.380000000005,19028.900000000001,16093.660000000002,13731.960000000001]
[1,"Hijo",null,721.82000000000016,502.04000000000008,366.5200000000001,301.18000000000006,264]
[2,"Hijos",null,1110.3400000000001,815.7600000000001,579.04000000000008,477.62000000000006,418.22000000000008]
[3,"Hijos o más",null,1620.7400000000002,1192.4000000000001,843.04000000000019,694.54000000000019,605]
[1,"Rider Comp. Maternidad",null,0,0,0,61.875000000000007,61.875000000000007]
[1,"Transplante de organos",null,82.5,82.5,82.5,82.5,82.5]
[null,"Deductible Waiver",null,12.375000000000002,49.500000000000007,94.875000000000014,213.12500000000003,365.75000000000006]
[]
[]
["TARIFAS MENSUALES"]
[]
["EDAD",null,null,"ET2","ET3","ET4","ET5","ET6"]
[18,null,null,{"$f":"D558*$G$3","v":576.05333127599999},{"$f":"E558*$G$3","v":368.92799868240002},292.31999895600001,241.39733247120003,175.16799937440001]
[19,null,null,{"$f":"D559*$G$3","v":587.32799790240006},375.94666532400004,298.06933226880005,245.80266578880006,178.45333269600002]
[20,null,null,{"$f":"D560*$G$3","v":599.19999786000005},382.74133196640003,303.89333224800004,250.58133243840004,181.73866601760002]
[21,null,null,{"$f":"D561*$G$3","v":610.77333115200008},390.05866527360001,309.41866556160005,255.21066575520001,185.39733267120002]
[22,null,null,{"$f":"D562*$G$3","v":623.24266444080001},397.52533191359998,315.24266554080003,260.21333240400003,188.83199932560001]
[23,null,null,{"$f":"D563*$G$3","v":634.74133106639999},404.39466522240002,321.36533218560004,264.76799905440004,192.11733264720002]
[24,null,null,{"$f":"D564*$G$3","v":647.06133102240005},411.86133186240005,327.03999883200004,269.39733237120004,195.626665968]
[25,null,null,{"$f":"D565*$G$3","v":658.70933098080002},418.87999850400001,333.013332144,274.47466568640004,199.35999928800001]
[26,null,null,{"$f":"D566*$G$3","v":670.80533093760005},426.12266514480007,339.2106654552,279.10399900320004,202.94399927520001]
[27,null,null,{"$f":"D567*$G$3","v":682.90133089440008},433.51466511840005,345.03466543440004,283.88266565280003,206.07999926400001]
[28,null,null,{"$f":"D568*$G$3","v":697.53599750880005},442.10133175440006,352.27733207520004,290.22933229680007,211.23199924560004]
[29,null,null,{"$f":"D569*$G$3","v":712.54399745520004},450.61333172400003,359.37066538320005,296.65066560720004,216.23466589440002]
[30,null,null,{"$f":"D570*$G$3","v":727.4773307352001},459.05066502720007,365.64266536080004,303.22133225040005,221.46133254240002]
[31,null,null,{"$f":"D571*$G$3","v":742.33599734880011},467.56266499680004,372.81066533520004,309.49333222800004,226.68799919040003]
[32,null,null,{"$f":"D572*$G$3","v":757.1946639624},476.22399829920005,379.90399864320005,316.21333220400004,231.54133250640004]
[33,null,null,{"$f":"D573*$G$3","v":778.39999722000005},487.57333159200005,389.16266527680006,323.97866550960003,238.70933248080004]
[34,null,null,{"$f":"D574*$G$3","v":799.97866380960011},499.14666488400002,398.64533190959997,331.74399881520003,245.72799912240004]
[35,null,null,{"$f":"D575*$G$3","v":821.1093304008001},510.42133151040002,408.05333187600002,339.35999878800004,252.746665764]
[36,null,null,{"$f":"D576*$G$3","v":842.38933032480008},521.69599813680009,417.53599850880005,347.19999876000003,259.54133240640004]
[37,null,null,{"$f":"D577*$G$3","v":863.51999691600008},533.19466476240007,426.86933180880004,354.81599873280004,266.55999904800001]
[38,null,null,{"$f":"D578*$G$3","v":892.1919968136001},551.786664696,442.47466508640002,365.64266536080004,275.14666568400003]
[39,null,null,{"$f":"D579*$G$3","v":920.63999671200008},570.30399796320012,457.70666503200005,377.14133198640002,283.88266565280003]
[40,null,null,{"$f":"D580*$G$3","v":949.3119966096001},588.89599789680005,473.31199830960009,387.96799861440002,292.84266562080006]
[41,null,null,{"$f":"D581*$G$3","v":977.61066317520022},607.71199782960014,488.76799825440003,399.24266524080008,301.20533225760005]
[42,null,null,{"$f":"D582*$G$3","v":1006.3573297392002},626.15466443040009,503.85066486720007,410.293331868,310.09066555920003]
[43,null,null,{"$f":"D583*$G$3","v":1042.1973296112001},647.95733101920007,521.24799813840002,422.46399849120007,319.79733219120004]
[44,null,null,{"$f":"D584*$G$3","v":1077.5893294848001},669.53599760880002,538.86933140880001,435.00799844640005,329.65333215600003]
[45,null,null,{"$f":"D585*$G$3","v":1113.6533293560001},691.18933086480001,556.26666468000008,446.73066507120006,339.43466545440003]
[46,null,null,{"$f":"D586*$G$3","v":1149.1199958960001},712.84266412080012,573.81333128400001,459.05066502720007,349.06666541999999]
[47,null,null,{"$f":"D587*$G$3","v":1184.8106624352001},734.34666404400002,590.91199788960012,471.07199831760011,359.44533204960004]
[48,null,null,{"$f":"D588*$G$3","v":1229.1626622768001},759.35999728800005,612.41599781280001,487.34933159280007,372.21333200399999]
[49,null,null,{"$f":"D589*$G$3","v":1273.2906621192003},784.59733053119999,633.54666440400001,503.85066486720007,384.90666529200001]
[50,null,null,{"$f":"D590*$G$3","v":1317.6426619608001},809.83466377440016,654.60266432880007,520.12799814240009,397.59999858000003]
[51,null,null,{"$f":"D591*$G$3","v":1362.1439951352002},835.44533034960011,675.65866425360014,536.85333141600006,410.293331868]
[52,null,null,{"$f":"D592*$G$3","v":1406.0479949784001},860.15999692800006,697.01333084400005,553.13066469120008,422.98666515600002]
[53,null,null,{"$f":"D593*$G$3","v":1459.9573281192002},893.90933014080008,722.10133075440001,573.21599795280008,439.26399843120009]
[54,null,null,{"$f":"D594*$G$3","v":1513.7173279272001},928.10666335200006,747.26399733120013,592.77866454960008,454.94399837520007]
[55,null,null,{"$f":"D595*$G$3","v":1567.1786610696001},962.079996564,772.65066390720006,613.0879978104,470.92266498480006]
[56,null,null,{"$f":"D596*$G$3","v":1621.0879942104},996.05332977600006,797.96266381680005,633.02399773920013,487.05066492720005]
[57,null,null,{"$f":"D597*$G$3","v":1674.6239940192002},1029.8026629888002,823.0506637272,653.25866433360011,503.10399820320009]
[58,null,null,{"$f":"D598*$G$3","v":1739.8079937863999},1075.0506628272001,855.75466361040014,679.39199757360007,523.6373314632001]
[59,null,null,{"$f":"D599*$G$3","v":1805.2159935528002},1120.2239959992003,888.23466349440014,706.27199747760005,544.7679980544001]
[60,null,null,{"$f":"D600*$G$3","v":1870.4746599864004},1165.3973291712002,920.71466337840013,732.40533071760012,565.67466464640006]
[61,null,null,{"$f":"D601*$G$3","v":1947.8293263768003},1221.5466623040002,963.94666322400008,766.15466393040015,592.33066455120013]
[62,null,null,{"$f":"D602*$G$3","v":2038.8479927184003},1289.5679953944002,1018.5279963624001,808.04266378080013,632.20266440880005]
[63,null,null,{"$f":"D603*$G$3","v":2145.1733256719999},1372.1493284328001,1086.4746627864001,859.03999693200001,679.31733090720013]
[64,null,null,{"$f":"D604*$G$3","v":2267.2533252359999},1469.1413280864001,1168.0106624952002,921.90933004080011,734.6453307096001]
[65,null,null,{"$f":"D605*$G$3","v":2407.7013247344003},1581.3653276856001,1263.9573288192003,998.66666310000005,798.78399714720001]
[66,null,null,{"$f":"D606*$G$3","v":2569.0559908248001},1709.7173272272003,1375.8826617528,1090.7306627712003,876.81066353519998]
[67,null,null,{"$f":"D607*$G$3","v":2753.7066568320001},1856.9599933680001,1504.7573279592002,1199.6693290488001,969.62132987040013]
[68,null,null,{"$f":"D608*$G$3","v":2970.6133227240002},2031.3813260784004,1655.2106607552003,1327.4239952592002,1078.6346628144001]
[69,null,null,{"$f":"D609*$G$3","v":3220.8213218304004},2236.3413253464005,1829.8559934648003,1476.9066613920002,1205.86666236]
[70,null,null,{"$f":"D610*$G$3","v":3507.3173208072003},2471.9146578384002,2031.9786594096001,1650.7306607712003,1354.3786618296001]
[71,null,null,{"$f":"D611*$G$3","v":3833.9093196408007},2740.26665688,2263.2213252504002,1850.9866600560001,1525.8879945504002]
[72,null,null,{"$f":"D612*$G$3","v":4204.7786516496008},3044.6079891264003,2526.8693243088005,2079.6159925728002,1722.7093271808003]
[73,null,null,{"$f":"D613*$G$3","v":4619.775983500801},3386.4319879056006,2824.6399899120001,2338.2613249824003,1947.6799930440002]
[74,null,null,{"$f":"D614*$G$3","v":5089.5786484896007},3772.9813198584006,3161.3119887096004,2628.8639906112003,2203.4879921304005]
[75,null,null,{"$f":"D615*$G$3","v":5617.6213132704006},4205.0026516488006,3541.1413206864004,2956.2773227752004,2491.7759911008002]
[76,null,null,{"$f":"D616*$G$3","v":6221.5999777800007},4705.7173165272006,3968.7573191592005,3325.1306547912004,2814.5599899480003]
[77,null,null,{"$f":"D617*$G$3","v":6946.7626418568007},5284.1599811280003,4461.3333173999999,3749.3866532760003,3181.7706553032003]
[78,null,null,{"$f":"D618*$G$3","v":7822.2293053968006},5975.1253119936009,5023.4239820592002,4237.7813181984002,3603.3386537976007]
[79,null,null,{"$f":"D619*$G$3","v":8879.3599682880013},6796.7573090592014,5678.0266463880007,4796.2879828704008,4087.1039854032001]
[80,"o mas",null,{"$f":"D620*$G$3","v":10147.722630424802},7767.4986389256019,6458.2933102679999,5462.0906471592007,4660.5439833552]
[1,"Hijo",null,{"$f":"D621*$G$3","v":244.98133245840003},170.38933272480003,124.39466622240002,102.21866630160001,89.59999968000001]
[2,"Hijos",null,{"$f":"D622*$G$3","v":376.84266532080005},276.86399901120001,196.52266596480001,162.10133275440003,141.94133282640001]
[3,"Hijos o más",null,{"$f":"D623*$G$3","v":550.06933136880002},404.69333188800005,286.12266564480007,235.72266582480003,205.33333260000001]
[1,"Rider Comp. Maternidad",null,{"$f":"D624*$G$3","v":0},0,0,20.999999925000001,20.999999925000001]
[1,"Transplante de organos",null,{"$f":"D625*$G$3","v":27.999999900000002},27.999999900000002,27.999999900000002,27.999999900000002,27.999999900000002]
[null,"Deductible Waiver",null,{"$f":"D626*$G$3","v":4.1999999849999998},16.799999939999999,32.199999885000004,72.333333074999999,124.13333289000001]
[]
[]
[]
[]
["BUPA UNIQUE CARE: DEDUCIBLE CERO"]
["TARIFAS ANUALES"]
[]
["EDAD",null,null,"ET2","ET3","ET4","ET5","ET6"]
[18,null,null,{"$f":"R857","v":2031.6},{"$f":"S857","v":1639.0000000000002},{"$f":"T857","v":1333},{"$f":"U857","v":1176.5},{"$f":"V857","v":0},null,null,null,{"$f":"DR!D233","v":3386},{"$f":"DR!E233","v":2980},{"$f":"DR!F233","v":2666},{"$f":"DR!G233","v":2353},null,null,{"$f":"L857*$Z$2","v":2031.6},{"$f":"M857*$Z$3","v":1639.0000000000002},{"$f":"N857*$Z$4","v":1333},{"$f":"O857*$Z$5","v":1176.5},{"$f":"P857*$Y$2","v":0}]
[19,null,null,{"$f":"R858","v":2067.6},{"$f":"S858","v":1667.6000000000001},{"$f":"T858","v":1355.5},{"$f":"U858","v":1198},{"$f":"V858","v":0},null,null,null,{"$f":"DR!D234","v":3446},{"$f":"DR!E234","v":3032},{"$f":"DR!F234","v":2711},{"$f":"DR!G234","v":2396},null,null,{"$f":"L858*$Z$2","v":2067.6},{"$f":"M858*$Z$3","v":1667.6000000000001},{"$f":"N858*$Z$4","v":1355.5},{"$f":"O858*$Z$5","v":1198},0]
[20,null,null,2103,1696.7500000000002,1380,1218.5,0,null,null,null,{"$f":"DR!D235","v":3505},{"$f":"DR!E235","v":3085},{"$f":"DR!F235","v":2760},{"$f":"DR!G235","v":2437},null,null,2103,1696.7500000000002,1380,1218.5,0]
[21,null,null,2141.4,1728.1000000000001,1405.5,1240.5,0,null,null,null,{"$f":"DR!D236","v":3569},{"$f":"DR!E236","v":3142},{"$f":"DR!F236","v":2811},{"$f":"DR!G236","v":2481},null,null,2141.4,1728.1000000000001,1405.5,1240.5,0]
[22,null,null,2181,1758.3500000000001,1431,1263,0,null,null,null,{"$f":"DR!D237","v":3635},{"$f":"DR!E237","v":3197},{"$f":"DR!F237","v":2862},{"$f":"DR!G237","v":2526},null,null,2181,1758.3500000000001,1431,1263,0]
[23,null,null,2220,1789.7,1454.5,1285,0,null,null,null,{"$f":"DR!D238","v":3700},{"$f":"DR!E238","v":3254},{"$f":"DR!F238","v":2909},{"$f":"DR!G238","v":2570},null,null,2220,1789.7,1454.5,1285,0]
[24,null,null,2257.7999999999997,1819.4,1481,1306.5,0,null,null,null,{"$f":"DR!D239","v":3763},{"$f":"DR!E239","v":3308},{"$f":"DR!F239","v":2962},{"$f":"DR!G239","v":2613},null,null,2257.7999999999997,1819.4,1481,1306.5,0]
[25,null,null,2296.1999999999998,1850.7500000000002,1505.5,1328.5,0,null,null,null,{"$f":"DR!D240","v":3827},{"$f":"DR!E240","v":3365},{"$f":"DR!F240","v":3011},{"$f":"DR!G240","v":2657},null,null,2296.1999999999998,1850.7500000000002,1505.5,1328.5,0]
[26,null,null,2334.6,1882.65,1532,1352,0,null,null,null,{"$f":"DR!D241","v":3891},{"$f":"DR!E241","v":3423},{"$f":"DR!F241","v":3064},{"$f":"DR!G241","v":2704},null,null,2334.6,1882.65,1532,1352,0]
[27,null,null,2374.1999999999998,1915.65,1558,1375.5,0,null,null,null,{"$f":"DR!D242","v":3957},{"$f":"DR!E242","v":3483},{"$f":"DR!F242","v":3116},{"$f":"DR!G242","v":2751},null,null,2374.1999999999998,1915.65,1558,1375.5,0]
[28,null,null,2418,1949.7500000000002,1586,1399,0,null,null,null,{"$f":"DR!D243","v":4030},{"$f":"DR!E243","v":3545},{"$f":"DR!F243","v":3172},{"$f":"DR!G243","v":2798},null,null,2418,1949.7500000000002,1586,1399,0]
[29,null,null,2463.6,1986.6000000000001,1616.5,1427,0,null,null,null,{"$f":"DR!D244","v":4106},{"$f":"DR!E244","v":3612},{"$f":"DR!F244","v":3233},{"$f":"DR!G244","v":2854},null,null,2463.6,1986.6000000000001,1616.5,1427,0]
[30,null,null,2508,2022.9,1646,1452,0,null,null,null,{"$f":"DR!D245","v":4180},{"$f":"DR!E245","v":3678},{"$f":"DR!F245","v":3292},{"$f":"DR!G245","v":2904},null,null,2508,2022.9,1646,1452,0]
[31,null,null,2554.7999999999997,2060.3000000000002,1676,1479,0,null,null,null,{"$f":"DR!D246","v":4258},{"$f":"DR!E246","v":3746},{"$f":"DR!F246","v":3352},{"$f":"DR!G246","v":2958},null,null,2554.7999999999997,2060.3000000000002,1676,1479,0]
[32,null,null,2598.6,2096.0500000000002,1704.5,1504.5,0,null,null,null,{"$f":"DR!D247","v":4331},{"$f":"DR!E247","v":3811},{"$f":"DR!F247","v":3409},{"$f":"DR!G247","v":3009},null,null,2598.6,2096.0500000000002,1704.5,1504.5,0]
[33,null,null,2672.4,2154.9,1752.5,1547,0,null,null,null,{"$f":"DR!D248","v":4454},{"$f":"DR!E248","v":3918},{"$f":"DR!F248","v":3505},{"$f":"DR!G248","v":3094},null,null,2672.4,2154.9,1752.5,1547,0]
[34,null,null,2745.6,2214.3000000000002,1800.5,1588,0,null,null,null,{"$f":"DR!D249","v":4576},{"$f":"DR!E249","v":4026},{"$f":"DR!F249","v":3601},{"$f":"DR!G249","v":3176},null,null,2745.6,2214.3000000000002,1800.5,1588,0]
[35,null,null,2818.7999999999997,2272.0500000000002,1848,1629.5,0,null,null,null,{"$f":"DR!D250","v":4698},{"$f":"DR!E250","v":4131},{"$f":"DR!F250","v":3696},{"$f":"DR!G250","v":3259},null,null,2818.7999999999997,2272.0500000000002,1848,1629.5,0]
[36,null,null,2890.2,2330.3500000000004,1896,1674,0,null,null,null,{"$f":"DR!D251","v":4817},{"$f":"DR!E251","v":4237},{"$f":"DR!F251","v":3792},{"$f":"DR!G251","v":3348},null,null,2890.2,2330.3500000000004,1896,1674,0]
[37,null,null,2964,2390.3000000000002,1945.5,1717,0,null,null,null,{"$f":"DR!D252","v":4940},{"$f":"DR!E252","v":4346},{"$f":"DR!F252","v":3891},{"$f":"DR!G252","v":3434},null,null,2964,2390.3000000000002,1945.5,1717,0]
[38,null,null,3039,2450.8000000000002,1994,1759.5,0,null,null,null,{"$f":"DR!D253","v":5065},{"$f":"DR!E253","v":4456},{"$f":"DR!F253","v":3988},{"$f":"DR!G253","v":3519},null,null,3039,2450.8000000000002,1994,1759.5,0]
[39,null,null,3115.7999999999997,2512.4,2044,1804.5,0,null,null,null,{"$f":"DR!D254","v":5193},{"$f":"DR!E254","v":4568},{"$f":"DR!F254","v":4088},{"$f":"DR!G254","v":3609},null,null,3115.7999999999997,2512.4,2044,1804.5,0]
[40,null,null,3189.6,2573.4500000000003,2092.5,1846.5,0,null,null,null,{"$f":"DR!D255","v":5316},{"$f":"DR!E255","v":4679},{"$f":"DR!F255","v":4185},{"$f":"DR!G255","v":3693},null,null,3189.6,2573.4500000000003,2092.5,1846.5,0]
[41,null,null,3266.4,2634.5,2142.5,1891,0,null,null,null,{"$f":"DR!D256","v":5444},{"$f":"DR!E256","v":4790},{"$f":"DR!F256","v":4285},{"$f":"DR!G256","v":3782},null,null,3266.4,2634.5,2142.5,1891,0]
[42,null,null,3341.4,2695,2193,1934.5,0,null,null,null,{"$f":"DR!D257","v":5569},{"$f":"DR!E257","v":4900},{"$f":"DR!F257","v":4386},{"$f":"DR!G257","v":3869},null,null,3341.4,2695,2193,1934.5,0]
[43,null,null,3477,2804.4500000000003,2281.5,2014,0,null,null,null,{"$f":"DR!D258","v":5795},{"$f":"DR!E258","v":5099},{"$f":"DR!F258","v":4563},{"$f":"DR!G258","v":4028},null,null,3477,2804.4500000000003,2281.5,2014,0]
[44,null,null,3612.6,2913.3500000000004,2371,2092,0,null,null,null,{"$f":"DR!D259","v":6021},{"$f":"DR!E259","v":5297},{"$f":"DR!F259","v":4742},{"$f":"DR!G259","v":4184},null,null,3612.6,2913.3500000000004,2371,2092,0]
[45,null,null,3748.7999999999997,3023.9,2460,2170.5,0,null,null,null,{"$f":"DR!D260","v":6248},{"$f":"DR!E260","v":5498},{"$f":"DR!F260","v":4920},{"$f":"DR!G260","v":4341},null,null,3748.7999999999997,3023.9,2460,2170.5,0]
[46,null,null,3886.7999999999997,3134.4500000000003,2550.5,2249.5,0,null,null,null,{"$f":"DR!D261","v":6478},{"$f":"DR!E261","v":5699},{"$f":"DR!F261","v":5101},{"$f":"DR!G261","v":4499},null,null,3886.7999999999997,3134.4500000000003,2550.5,2249.5,0]
[47,null,null,4021.2,3242.8,2637.5,2328.5,0,null,null,null,{"$f":"DR!D262","v":6702},{"$f":"DR!E262","v":5896},{"$f":"DR!F262","v":5275},{"$f":"DR!G262","v":4657},null,null,4021.2,3242.8,2637.5,2328.5,0]
[48,null,null,4165.2,3358.8500000000004,2731.5,2411.5,0,null,null,null,{"$f":"DR!D263","v":6942},{"$f":"DR!E263","v":6107},{"$f":"DR!F263","v":5463},{"$f":"DR!G263","v":4823},null,null,4165.2,3358.8500000000004,2731.5,2411.5,0]
[49,null,null,4310.3999999999996,3476.55,2827.5,2495.5,0,null,null,null,{"$f":"DR!D264","v":7184},{"$f":"DR!E264","v":6321},{"$f":"DR!F264","v":5655},{"$f":"DR!G264","v":4991},null,null,4310.3999999999996,3476.55,2827.5,2495.5,0]
[50,null,null,4453.8,3592.05,2921,2578,0,null,null,null,{"$f":"DR!D265","v":7423},{"$f":"DR!E265","v":6531},{"$f":"DR!F265","v":5842},{"$f":"DR!G265","v":5156},null,null,4453.8,3592.05,2921,2578,{"$f":"P889*$Y$2","v":0}]
[51,null,null,4597.2,3708.1000000000004,3016,2661.5,0,null,null,null,{"$f":"DR!D266","v":7662},{"$f":"DR!E266","v":6742},{"$f":"DR!F266","v":6032},{"$f":"DR!G266","v":5323},null,null,4597.2,3708.1000000000004,3016,2661.5,0]
[52,null,null,4741.8,3823.05,3110.5,2744,0,null,null,null,{"$f":"DR!D267","v":7903},{"$f":"DR!E267","v":6951},{"$f":"DR!F267","v":6221},{"$f":"DR!G267","v":5488},null,null,4741.8,3823.05,3110.5,2744,0]
[53,null,null,4914,3962.2000000000003,3223,2843.5,0,null,null,null,{"$f":"DR!D268","v":8190},{"$f":"DR!E268","v":7204},{"$f":"DR!F268","v":6446},{"$f":"DR!G268","v":5687},null,null,4914,3962.2000000000003,3223,2843.5,0]
[54,null,null,5082.5999999999995,4099.1500000000005,3333.5,2942.5,0,null,null,null,{"$f":"DR!D269","v":8471},{"$f":"DR!E269","v":7453},{"$f":"DR!F269","v":6667},{"$f":"DR!G269","v":5885},null,null,5082.5999999999995,4099.1500000000005,3333.5,2942.5,0]
[55,null,null,5252.4,4235.55,3445,3039,0,null,null,null,{"$f":"DR!D270","v":8754},{"$f":"DR!E270","v":7701},{"$f":"DR!F270","v":6890},{"$f":"DR!G270","v":6078},null,null,5252.4,4235.55,3445,3039,0]
[56,null,null,5422.2,4371.9500000000007,3557,3139,0,null,null,null,{"$f":"DR!D271","v":9037},{"$f":"DR!E271","v":7949},{"$f":"DR!F271","v":7114},{"$f":"DR!G271","v":6278},null,null,5422.2,4371.9500000000007,3557,3139,0]
[57,null,null,5594.4,4509.4500000000007,3670,3238.5,0,null,null,null,{"$f":"DR!D272","v":9324},{"$f":"DR!E272","v":8199},{"$f":"DR!F272","v":7340},{"$f":"DR!G272","v":6477},null,null,5594.4,4509.4500000000007,3670,3238.5,0]
[58,null,null,5802.5999999999995,4679.9500000000007,3807,3359.5,0,null,null,null,{"$f":"DR!D273","v":9671},{"$f":"DR!E273","v":8509},{"$f":"DR!F273","v":7614},{"$f":"DR!G273","v":6719},null,null,5802.5999999999995,4679.9500000000007,3807,3359.5,0]
[59,null,null,6010.8,4847.1500000000005,3942,3477.5,0,null,null,null,{"$f":"DR!D274","v":10018},{"$f":"DR!E274","v":8813},{"$f":"DR!F274","v":7884},{"$f":"DR!G274","v":6955},null,null,6010.8,4847.1500000000005,3942,3477.5,0]
[60,null,null,6220.2,5014.3500000000004,4079.5,3599.5,0,null,null,null,{"$f":"DR!D275","v":10367},{"$f":"DR!E275","v":9117},{"$f":"DR!F275","v":8159},{"$f":"DR!G275","v":7199},null,null,6220.2,5014.3500000000004,4079.5,3599.5,0]
[61,null,null,6448.8,5199.1500000000005,4230,3732,0,null,null,null,{"$f":"DR!D276","v":10748},{"$f":"DR!E276","v":9453},{"$f":"DR!F276","v":8460},{"$f":"DR!G276","v":7464},null,null,6448.8,5199.1500000000005,4230,3732,0]
[62,null,null,6736.8,5431.8,4418.5,3898,0,null,null,null,{"$f":"DR!D277","v":11228},{"$f":"DR!E277","v":9876},{"$f":"DR!F277","v":8837},{"$f":"DR!G277","v":7796},null,null,6736.8,5431.8,4418.5,3898,0]
[63,null,null,7076.4,5706.2500000000009,4641,4096,0,null,null,null,{"$f":"DR!D278","v":11794},{"$f":"DR!E278","v":10375},{"$f":"DR!F278","v":9282},{"$f":"DR!G278","v":8192},null,null,7076.4,5706.2500000000009,4641,4096,0]
[64,null,null,7476,6029.6500000000005,4905,4327.5,0,null,null,null,{"$f":"DR!D279","v":12460},{"$f":"DR!E279","v":10963},{"$f":"DR!F279","v":9810},{"$f":"DR!G279","v":8655},null,null,7476,6029.6500000000005,4905,4327.5,0]
[65,null,null,7992,6445.4500000000007,5241.5,4625.5,0,null,null,null,{"$f":"DR!D280","v":13320},{"$f":"DR!E280","v":11719},{"$f":"DR!F280","v":10483},{"$f":"DR!G280","v":9251},null,null,7992,6445.4500000000007,5241.5,4625.5,0]
[66,null,null,8588.4,6925.6,5632.5,4970.5,0,null,null,null,{"$f":"DR!D281","v":14314},{"$f":"DR!E281","v":12592},{"$f":"DR!F281","v":11265},{"$f":"DR!G281","v":9941},null,null,8588.4,6925.6,5632.5,4970.5,0]
[67,null,null,9272.4,7476.7000000000007,6081,5365.5,0,null,null,null,{"$f":"DR!D282","v":15454},{"$f":"DR!E282","v":13594},{"$f":"DR!F282","v":12162},{"$f":"DR!G282","v":10731},null,null,9272.4,7476.7000000000007,6081,5365.5,0]
[68,null,null,10052.4,8105.9000000000005,6593.5,5818.5,0,null,null,null,{"$f":"DR!D283","v":16754},{"$f":"DR!E283","v":14738},{"$f":"DR!F283","v":13187},{"$f":"DR!G283","v":11637},null,null,10052.4,8105.9000000000005,6593.5,5818.5,0]
[69,null,null,10974,8849.5,7198.5,6351,0,null,null,null,{"$f":"DR!D284","v":18290},{"$f":"DR!E284","v":16090},{"$f":"DR!F284","v":14397},{"$f":"DR!G284","v":12702},null,null,10974,8849.5,7198.5,6351,0]
[70,null,null,12094.199999999999,9752.0500000000011,7933,7000.5,0,null,null,null,{"$f":"DR!D285","v":20157},{"$f":"DR!E285","v":17731},{"$f":"DR!F285","v":15866},{"$f":"DR!G285","v":14001},null,null,12094.199999999999,9752.0500000000011,7933,7000.5,0]
[71,null,null,13312.199999999999,10734.900000000001,8731,7705,0,null,null,null,{"$f":"DR!D286","v":22187},{"$f":"DR!E286","v":19518},{"$f":"DR!F286","v":17462},{"$f":"DR!G286","v":15410},null,null,13312.199999999999,10734.900000000001,8731,7705,0]
[72,null,null,14724.6,11873.95,9658.5,8521.5,0,null,null,null,{"$f":"DR!D287","v":24541},{"$f":"DR!E287","v":21589},{"$f":"DR!F287","v":19317},{"$f":"DR!G287","v":17043},null,null,14724.6,11873.95,9658.5,8521.5,0]
[73,null,null,16339.8,13175.250000000002,10717.5,9457,0,null,null,null,{"$f":"DR!D288","v":27233},{"$f":"DR!E288","v":23955},{"$f":"DR!F288","v":21435},{"$f":"DR!G288","v":18914},null,null,16339.8,13175.250000000002,10717.5,9457,0]
[74,null,null,18217.2,14688.85,11948.5,10542,0,null,null,null,{"$f":"DR!D289","v":30362},{"$f":"DR!E289","v":26707},{"$f":"DR!F289","v":23897},{"$f":"DR!G289","v":21084},null,null,18217.2,14688.85,11948.5,10542,0]
[75,null,null,20407.2,16456.550000000003,13385,11810.5,0,null,null,null,{"$f":"DR!D290","v":34012},{"$f":"DR!E290","v":29921},{"$f":"DR!F290","v":26770},{"$f":"DR!G290","v":23621},null,null,20407.2,16456.550000000003,13385,11810.5,0]
[76,null,null,22885.8,18453.600000000002,15011,13245,0,null,null,null,{"$f":"DR!D291","v":38143},{"$f":"DR!E291","v":33552},{"$f":"DR!F291","v":30022},{"$f":"DR!G291","v":26490},null,null,22885.8,18453.600000000002,15011,13245,0]
[77,null,null,25702.2,20725.100000000002,16857.5,14874,0,null,null,null,{"$f":"DR!D292","v":42837},{"$f":"DR!E292","v":37682},{"$f":"DR!F292","v":33715},{"$f":"DR!G292","v":29748},null,null,25702.2,20725.100000000002,16857.5,14874,0]
[78,null,null,28878,23285.350000000002,18940,16713,0,null,null,null,{"$f":"DR!D293","v":48130},{"$f":"DR!E293","v":42337},{"$f":"DR!F293","v":37880},{"$f":"DR!G293","v":33426},null,null,28878,23285.350000000002,18940,16713,0]
[79,null,null,32446.199999999997,26162.400000000001,21280.5,18778,0,null,null,null,{"$f":"DR!D294","v":54077},{"$f":"DR!E294","v":47568},{"$f":"DR!F294","v":42561},{"$f":"DR!G294","v":37556},null,null,32446.199999999997,26162.400000000001,21280.5,18778,0]
[80,"o mas",null,36714,29605.4,24080.5,21248,0,null,null,null,{"$f":"DR!D295","v":61190},{"$f":"DR!E295","v":53828},{"$f":"DR!F295","v":48161},{"$f":"DR!G295","v":42496},null,null,36714,29605.4,24080.5,21248,0]
[1,"Hijo",null,958.19999999999993,773.85,629.5,554.5,0,null,null,null,{"$f":"DR!D296","v":1597},{"$f":"DR!E296","v":1407},{"$f":"DR!F296","v":1259},{"$f":"DR!G296","v":1109},null,null,958.19999999999993,773.85,629.5,554.5,0]
[2,"Hijos",null,1572.6,1268.3000000000002,1032,910.5,0,null,null,null,{"$f":"DR!D297","v":2621},{"$f":"DR!E297","v":2306},{"$f":"DR!F297","v":2064},{"$f":"DR!G297","v":1821},null,null,1572.6,1268.3000000000002,1032,910.5,0]
[3,"Hijos o más",null,{"$f":"R922","v":2301.6},1855.7,1510,1331.5,0,null,null,null,{"$f":"DR!D298","v":3836},{"$f":"DR!E298","v":3374},{"$f":"DR!F298","v":3020},{"$f":"DR!G298","v":2663},null,null,{"$f":"L922*$Z$2","v":2301.6},{"$f":"M922*$Z$3","v":1855.7},{"$f":"N922*$Z$4","v":1510},{"$f":"O922*$Z$5","v":1331.5},0]
[1,"Rider Comp. Maternidad",null,{"$f":"L923","v":0},{"$f":"M923","v":0},0,225,0,null,null,null,0,0,0,225]
[1,"Transplante de organos",null,{"$f":"L924","v":300},{"$f":"M924","v":300},{"$f":"N924","v":300},{"$f":"O924","v":300},{"$f":"P924","v":0},null,null,null,300,300,300,300]
[null,"Deductible Waiver",null,0,0,0,0,0,null,null,null,0,0,0,0]
[]
[]
[]
["TARIFAS SEMESTRALES"]
[]
["EDAD",null,null,"ET2","ET3","ET4","ET5","ET6"]
[18,null,null,{"$f":"D857*$G$1","v":1076.748},868.67000000000019,706.49,623.54500000000007,0]
[19,null,null,1095.828,883.82800000000009,718.41500000000008,634.94000000000005,0]
[20,null,null,1114.5900000000001,899.27750000000015,731.40000000000009,645.80500000000006,0]
[21,null,null,1134.942,915.89300000000014,744.91500000000008,657.46500000000003,0]
[22,null,null,1155.93,931.92550000000017,758.43000000000006,669.39,0]
[23,null,null,1176.6000000000001,948.54100000000005,770.88499999999999,681.05000000000007,0]
[24,null,null,1196.634,964.28200000000015,784.93000000000006,692.44500000000005,0]
[25,null,null,1216.9859999999999,980.89750000000015,797.91500000000008,704.10500000000002,0]
[26,null,null,1237.338,997.80450000000008,811.96,716.56000000000006,0]
[27,null,null,1258.326,1015.2945000000001,825.74,729.01499999999999,0]
[28,null,null,{"$f":"D867*$G$1","v":1281.54},1033.3675000000001,840.58,741.47,0]
[29,null,null,1305.7080000000001,1052.8980000000001,856.745,756.31000000000006,0]
[30,null,null,1329.24,1072.1370000000002,872.38,769.56000000000006,0]
[31,null,null,1354.0439999999999,1091.9590000000001,888.28000000000009,783.87,0]
[32,null,null,1377.258,1110.9065000000001,903.38499999999999,797.38499999999999,0]
[33,null,null,1416.3720000000001,1142.0970000000002,928.82500000000005,819.91000000000008,0]
[34,null,null,1455.1680000000001,1173.5790000000002,954.2650000000001,841.64,0]
[35,null,null,1493.9639999999999,1204.1865000000003,979.44,863.63499999999999,0]
[36,null,null,1531.806,1235.0855000000004,1004.88,887.22,0]
[37,null,null,1570.92,1266.8590000000002,1031.115,910.01,0]
[38,null,null,{"$f":"D877*$G$1","v":1610.67},1298.9240000000002,1056.8200000000002,932.53500000000008,0]
[39,null,null,1651.374,1331.5720000000001,1083.3200000000002,956.3850000000001,0]
[40,null,null,1690.4880000000001,1363.9285000000002,1109.0250000000001,978.6450000000001,0]
[41,null,null,1731.1920000000002,1396.2850000000001,1135.5250000000001,1002.23,0]
[42,null,null,1770.9420000000002,1428.3500000000001,1162.29,1025.2850000000001,0]
[43,null,null,1842.8100000000002,1486.3585000000003,1209.1950000000002,1067.42,0]
[44,null,null,1914.6780000000001,1544.0755000000004,1256.6300000000001,1108.76,0]
[45,null,null,1986.864,1602.6670000000001,1303.8,1150.365,0]
[46,null,null,2060.0039999999999,1661.2585000000001,1351.7650000000001,1192.2350000000001,0]
[47,null,null,2131.2359999999999,1718.6840000000002,1397.875,1234.105,0]
[48,null,null,{"$f":"D887*$G$1","v":2207.556},1780.1905000000004,1447.6950000000002,1278.095,0]
[49,null,null,2284.5119999999997,1842.5715000000002,1498.575,1322.615,0]
[50,null,null,2360.5140000000001,1903.7865000000002,1548.13,1366.3400000000001,0]
[51,null,null,2436.5160000000001,1965.2930000000003,1598.48,1410.595,0]
[52,null,null,2513.154,2026.2165000000002,1648.5650000000001,1454.3200000000002,0]
[53,null,null,2604.42,2099.9660000000003,1708.19,1507.0550000000001,0]
[54,null,null,2693.7779999999998,2172.5495000000005,1766.7550000000001,1559.5250000000001,0]
[55,null,null,2783.7719999999999,2244.8415,1825.8500000000001,1610.67,0]
[56,null,null,2873.7660000000001,2317.1335000000004,1885.21,1663.67,0]
[57,null,null,2965.0320000000002,2390.0085000000004,1945.1000000000001,1716.405,0]
[58,null,null,{"$f":"D897*$G$1","v":3075.3779999999997},2480.3735000000006,2017.71,1780.5350000000001,0]
[59,null,null,3185.7240000000002,2568.9895000000006,2089.2600000000002,1843.075,0]
[60,null,null,3296.7060000000001,2657.6055000000001,2162.1350000000002,1907.7350000000001,0]
[61,null,null,3417.8640000000005,2755.5495000000005,2241.9,1977.96,0]
[62,null,null,3570.5040000000004,2878.8540000000003,2341.8050000000003,2065.94,0]
[63,null,null,3750.4920000000002,3024.3125000000005,2459.73,2170.88,0]
[64,null,null,3962.28,3195.7145000000005,2599.65,2293.5750000000003,0]
[65,null,null,4235.76,3416.0885000000007,2777.9950000000003,2451.5150000000003,0]
[66,null,null,4551.8519999999999,3670.5680000000002,2985.2250000000004,2634.3650000000002,0]
[67,null,null,4914.3720000000003,3962.6510000000007,3222.9300000000003,2843.7150000000001,0]
[68,null,null,{"$f":"D907*$G$1","v":5327.7719999999999},4296.1270000000004,3494.5550000000003,3083.8050000000003,0]
[69,null,null,5816.22,4690.2350000000006,3815.2050000000004,3366.03,0]
[70,null,null,6409.9259999999995,5168.5865000000013,4204.49,3710.2650000000003,0]
[71,null,null,7055.4659999999994,5689.4970000000012,4627.43,4083.65,0]
[72,null,null,7804.0380000000005,6293.1935000000003,5119.0050000000001,4516.3950000000004,0]
[73,null,null,8660.0939999999991,6982.8825000000015,5680.2750000000005,5012.21,0]
[74,null,null,9655.116,7785.0905000000002,6332.7049999999999,5587.26,0]
[75,null,null,10815.816000000001,8721.9715000000015,7094.05,6259.5650000000005,0]
[76,null,null,12129.474,9780.4080000000013,7955.8300000000008,7019.85,0]
[77,null,null,13622.166000000001,10984.303000000002,8934.4750000000004,7883.22,0]
[78,null,null,{"$f":"D917*$G$1","v":15305.34},12341.235500000003,10038.200000000001,8857.8900000000012,0]
[79,null,null,17196.486000000001,13866.072000000002,11278.665000000001,9952.34,0]
[80,"o mas",null,19458.420000000002,15690.862000000001,12762.665000000001,11261.44,0]
[1,"Hijo",null,507.846,410.14050000000003,333.63499999999999,293.88499999999999,0]
[2,"Hijos",null,833.47799999999995,672.19900000000018,546.96,482.565,0]
[3,"Hijos o más",null,1219.848,983.52100000000007,800.30000000000007,705.69500000000005,0]
[1,"Rider Comp. Maternidad",null,0,0,0,119.25,0]
[1,"Transplante de organos",null,159,159,159,159,0]
[null,"Deductible Waiver",null,0,0,0,0,0]
[]
[]
[]
[]
["TARIFAS TRIMESTRALES"]
[]
["EDAD",null,null,"ET2","ET3","ET4","ET5","ET6"]
[18,null,null,{"$f":"D857*$G$2","v":558.69000000000005},450.72500000000008,366.57500000000005,323.53750000000002,0]
[19,null,null,568.59,458.59000000000009,372.76250000000005,329.45000000000005,0]
[20,null,null,578.32500000000005,466.6062500000001,379.50000000000006,335.08750000000003,0]
[21,null,null,588.8850000000001,475.22750000000008,386.51250000000005,341.13750000000005,0]
[22,null,null,599.77500000000009,483.5462500000001,393.52500000000003,347.32500000000005,0]
[23,null,null,610.5,492.16750000000008,399.98750000000001,353.37500000000006,0]
[24,null,null,620.89499999999998,500.33500000000009,407.27500000000003,359.28750000000002,0]
[25,null,null,631.45500000000004,508.95625000000013,414.01250000000005,365.33750000000003,0]
[26,null,null,642.01499999999999,517.7287500000001,421.3,371.8,0]
[27,null,null,652.90499999999997,526.80375000000004,428.45000000000005,378.26250000000005,0]
[28,null,null,{"$f":"D867*$G$2","v":664.95},536.18125000000009,436.15000000000003,384.72500000000002,0]
[29,null,null,677.49,546.31500000000005,444.53750000000002,392.42500000000001,0]
[30,null,null,689.7,556.29750000000001,452.65000000000003,399.3,0]
[31,null,null,702.56999999999994,566.5825000000001,460.90000000000003,406.72500000000002,0]
[32,null,null,714.61500000000001,576.41375000000005,468.73750000000001,413.73750000000001,0]
[33,null,null,734.91000000000008,592.59750000000008,481.93750000000006,425.42500000000001,0]
[34,null,null,755.04000000000008,608.93250000000012,495.13750000000005,436.70000000000005,0]
[35,null,null,775.17,624.81375000000014,508.20000000000005,448.11250000000001,0]
[36,null,null,794.80500000000006,640.84625000000017,521.40000000000009,460.35,0]
[37,null,null,815.1,657.3325000000001,535.01250000000005,472.17500000000001,0]
[38,null,null,{"$f":"D877*$G$2","v":835.72500000000002},673.97000000000014,548.35,483.86250000000001,0]
[39,null,null,856.84500000000003,690.91000000000008,562.1,496.23750000000007,0]
[40,null,null,877.1400000000001,707.69875000000013,575.4375,507.78750000000002,0]
[41,null,null,898.2600000000001,724.48750000000007,589.1875,520.02500000000009,0]
[42,null,null,918.8850000000001,741.12500000000011,603.07500000000005,531.98750000000007,0]
[43,null,null,956.17500000000007,771.22375000000011,627.41250000000002,553.85,0]
[44,null,null,993.46500000000003,801.17125000000021,652.02500000000009,575.30000000000007,0]
[45,null,null,1030.92,831.5725000000001,676.5,596.88750000000005,0]
[46,null,null,1068.8700000000001,861.97375000000011,701.38750000000005,618.61250000000007,0]
[47,null,null,1105.83,891.7700000000001,725.31250000000011,640.33750000000009,0]
[48,null,null,{"$f":"D887*$G$2","v":1145.43},923.68375000000015,751.16250000000002,663.16250000000002,0]
[49,null,null,1185.3599999999999,956.0512500000001,777.56250000000011,686.26250000000005,0]
[50,null,null,1224.7950000000001,987.81375000000014,803.27500000000009,708.95,0]
[51,null,null,1264.23,1019.7275000000002,829.40000000000009,731.91250000000002,0]
[52,null,null,1303.9950000000001,1051.3387500000001,855.38750000000005,754.6,0]
[53,null,null,1351.3500000000001,1089.6050000000002,886.32500000000005,781.96250000000009,0]
[54,null,null,1397.7149999999999,1127.2662500000004,916.71250000000009,809.18750000000011,0]
[55,null,null,1444.41,1164.7762500000001,947.37500000000011,835.72500000000002,0]
[56,null,null,1491.105,1202.2862500000003,978.17500000000007,863.22500000000002,0]
[57,null,null,1538.46,1240.0987500000003,1009.2500000000001,890.58750000000009,0]
[58,null,null,{"$f":"D897*$G$2","v":1595.7149999999999},1286.9862500000004,1046.9250000000002,923.86250000000007,0]
[59,null,null,1652.9700000000003,1332.9662500000002,1084.0500000000002,956.31250000000011,0]
[60,null,null,1710.5550000000001,1378.9462500000002,1121.8625000000002,989.86250000000007,0]
[61,null,null,1773.4200000000003,1429.7662500000004,1163.25,1026.3000000000002,0]
[62,null,null,1852.6200000000001,1493.7450000000001,1215.0875000000001,1071.95,0]
[63,null,null,1946.01,1569.2187500000005,1276.2750000000001,1126.4000000000001,0]
[64,null,null,2055.9,1658.1537500000002,1348.875,1190.0625,0]
[65,null,null,2197.8000000000002,1772.4987500000004,1441.4125000000001,1272.0125,0]
[66,null,null,2361.81,1904.5400000000002,1548.9375000000002,1366.8875,0]
[67,null,null,2549.9100000000003,2056.0925000000002,1672.2750000000001,1475.5125,0]
[68,null,null,{"$f":"D907*$G$2","v":2764.4100000000003},2229.1225000000004,1813.2125000000001,1600.0875000000001,0]
[69,null,null,3017.8500000000004,2433.6125000000002,1979.5875000000001,1746.5250000000001,0]
[70,null,null,3325.9049999999997,2681.8137500000007,2181.5750000000003,1925.1375,0]
[71,null,null,3660.855,2952.0975000000008,2401.0250000000001,2118.875,0]
[72,null,null,4049.2650000000003,3265.3362500000003,2656.0875000000001,2343.4125000000004,0]
[73,null,null,4493.4449999999997,3623.1937500000008,2947.3125000000005,2600.6750000000002,0]
[74,null,null,5009.7300000000005,4039.4337500000006,3285.8375000000001,2899.05,0]
[75,null,null,5611.9800000000005,4525.5512500000013,3680.8750000000005,3247.8875000000003,0]
[76,null,null,6293.5950000000003,5074.7400000000007,4128.0250000000005,3642.3750000000005,0]
[77,null,null,7068.1050000000005,5699.4025000000011,4635.8125,4090.3500000000004,0]
[78,null,null,{"$f":"D917*$G$2","v":7941.4500000000007},6403.4712500000014,5208.5,4596.0750000000007,0]
[79,null,null,8922.7049999999999,7194.6600000000008,5852.1375000000007,5163.9500000000007,0]
[80,"o mas",null,10096.35,8141.4850000000015,6622.1375000000007,5843.2000000000007,0]
[1,"Hijo",null,263.505,212.80875000000003,173.11250000000001,152.48750000000001,0]
[2,"Hijos",null,432.46500000000003,348.78250000000008,283.8,250.38750000000002,0]
[3,"Hijos o más",null,632.94000000000005,510.31750000000005,415.25000000000006,366.16250000000002,0]
[1,"Rider Comp. Maternidad",null,0,0,0,61.875000000000007,0]
[1,"Transplante de organos",null,82.5,82.5,82.5,82.5,0]
[null,"Deductible Waiver",null,0,0,0,0,0]
[]
[]
["TARIFAS MENSUALES"]
[]
["EDAD",null,null,"ET2","ET3","ET4","ET5","ET6"]
[18,null,null,{"$f":"D857*$G$3","v":189.61599932280001},{"$f":"E857*$G$3","v":152.97333278700003},124.413332889,109.8066662745,0]
[19,null,null,{"$f":"D858*$G$3","v":192.97599931080001},155.64266611080001,126.51333288150001,111.813332934,0]
[20,null,null,{"$f":"D859*$G$3","v":196.279999299},158.36333276775002,128.79999954000002,113.72666626050001,0]
[21,null,null,{"$f":"D860*$G$3","v":199.86399928620003},161.28933275730003,131.17999953150002,115.77999958650001,0]
[22,null,null,{"$f":"D861*$G$3","v":203.55999927300002},164.11266608055001,133.55999952300002,117.879999579,0]
[23,null,null,{"$f":"D862*$G$3","v":207.19999926},167.03866607010002,135.75333284850001,119.933332905,0]
[24,null,null,{"$f":"D863*$G$3","v":210.72799924739999},169.81066606020002,138.22666617300001,121.9399995645,0]
[25,null,null,{"$f":"D864*$G$3","v":214.31199923459999},172.73666604975003,140.51333283150001,123.9933328905,0]
[26,null,null,{"$f":"D865*$G$3","v":217.8959992218},175.71399937245002,142.98666615600001,126.18666621600001,0]
[27,null,null,{"$f":"D866*$G$3","v":221.59199920859999},178.79399936145001,145.413332814,128.37999954150001,0]
[28,null,null,{"$f":"D867*$G$3","v":225.679999194},181.97666601675002,148.026666138,130.573332867,0]
[29,null,null,{"$f":"D868*$G$3","v":229.93599917879999},185.41599933780003,150.87333279450002,133.186666191,0]
[30,null,null,{"$f":"D869*$G$3","v":234.07999916400001},188.8039993257,153.626666118,135.51999951600001,0]
[31,null,null,{"$f":"D870*$G$3","v":238.44799914839999},192.29466597990003,156.42666610800001,138.039999507,0]
[32,null,null,{"$f":"D871*$G$3","v":242.5359991338},195.63133263465002,159.08666609850002,140.4199994985,0]
[33,null,null,{"$f":"D872*$G$3","v":249.42399910920003},201.12399928170001,163.56666608250001,144.38666615100001,0]
[34,null,null,{"$f":"D873*$G$3","v":256.25599908480001},206.66799926190004,168.04666606649999,148.213332804,0]
[35,null,null,{"$f":"D874*$G$3","v":263.08799906039997},212.05799924265003,172.479999384,152.08666612350001,0]
[36,null,null,{"$f":"D875*$G$3","v":269.75199903660001},217.49933255655006,176.95999936800001,156.239999442,0]
[37,null,null,{"$f":"D876*$G$3","v":276.63999901200003},223.09466586990004,181.57999935150002,160.253332761,0]
[38,null,null,{"$f":"D877*$G$3","v":283.63999898700001},228.74133251640004,186.106666002,164.21999941350001,0]
[39,null,null,{"$f":"D878*$G$3","v":290.80799896139996},234.49066582920003,190.77333265200002,168.41999939850001,0]
[40,null,null,{"$f":"D879*$G$3","v":297.69599893679998},240.18866580885003,195.2999993025,172.3399993845,0]
[41,null,null,{"$f":"D880*$G$3","v":304.86399891120004},245.88666578850001,199.96666595250002,176.49333270300002,0]
[42,null,null,{"$f":"D881*$G$3","v":311.86399888620002},251.53333243500001,204.67999926900001,180.55333268850001,0]
[43,null,null,{"$f":"D882*$G$3","v":324.51999884100002},261.74866573185005,212.9399992395,187.97333266200002,0]
[44,null,null,{"$f":"D883*$G$3","v":337.17599879580001},271.91266569555006,221.29333254300002,195.25333263600001,0]
[45,null,null,{"$f":"D884*$G$3","v":349.88799875040002},282.23066565870005,229.59999918,202.57999927650002,0]
[46,null,null,{"$f":"D885*$G$3","v":362.76799870439999},292.54866562185003,238.04666581650002,209.95333258350001,0]
[47,null,null,{"$f":"D886*$G$3","v":375.31199865960002},302.66133225240003,246.16666578750002,217.32666589050001,0]
[48,null,null,{"$f":"D887*$G$3","v":388.75199861160002},313.49266554705002,254.93999908950002,225.07333252950002,0]
[49,null,null,{"$f":"D888*$G$3","v":402.30399856319997},324.47799884115005,263.8999990575,232.91333250150001,0]
[50,null,null,{"$f":"D889*$G$3","v":415.68799851540001},335.25799880265004,272.62666569300001,240.613332474,0]
[51,null,null,{"$f":"D890*$G$3","v":429.0719984676},346.08933209730003,281.49333232800001,248.4066657795,0]
[52,null,null,{"$f":"D891*$G$3","v":442.56799841940006},356.81799872565006,290.31333229649999,256.10666575200003,0]
[53,null,null,{"$f":"D892*$G$3","v":458.63999836200003},369.80533201260005,300.81333225899999,265.3933323855,0]
[54,null,null,{"$f":"D893*$G$3","v":474.37599830579995},382.58733196695005,311.12666555550004,274.63333235250002,0]
[55,null,null,{"$f":"D894*$G$3","v":490.22399824920001},395.31799858815003,321.53333218500001,283.63999898700001,0]
[56,null,null,{"$f":"D895*$G$3","v":506.07199819260001},408.04866520935008,331.98666548099999,292.97333228700001,0]
[57,null,null,{"$f":"D896*$G$3","v":522.14399813520004},420.88199849685009,342.53333211,302.25999892050004,0]
[58,null,null,{"$f":"D897*$G$3","v":541.57599806579992},436.79533177335009,355.319998731,313.55333221350003,0]
[59,null,null,{"$f":"D898*$G$3","v":561.00799799640004},452.40066505095007,367.91999868600004,324.56666550750003,0]
[60,null,null,{"$f":"D899*$G$3","v":580.55199792660005},468.00599832855005,380.7533319735,335.9533321335,0]
[61,null,null,{"$f":"D900*$G$3","v":601.8879978504001},485.25399826695008,394.79999859000003,348.31999875600002,0]
[62,null,null,{"$f":"D901*$G$3","v":628.76799775440008},506.96799818940002,412.39333186050004,363.81333203400004,0]
[63,null,null,{"$f":"D902*$G$3","v":660.46399764119997},532.58333143125014,433.15999845300001,382.29333196800002,0]
[64,null,null,{"$f":"D903*$G$3","v":697.75999750800008},562.76733132345009,457.79999836500002,403.8999985575,0]
[65,null,null,{"$f":"D904*$G$3","v":745.91999733600005},601.57533118485014,489.20666491950004,431.71333179150002,0]
[66,null,null,{"$f":"D905*$G$3","v":801.58399713719996},646.38933102480007,525.69999812250001,463.91333167650004,0]
[67,null,null,{"$f":"D906*$G$3","v":865.42399690920001},697.82533084110014,567.55999797300001,500.77999821150001,0]
[68,null,null,{"$f":"D907*$G$3","v":938.22399664919999},756.55066396470011,615.39333113550003,543.05999806049999,0]
[69,null,null,{"$f":"D908*$G$3","v":1024.239996342},825.95333038350009,671.85999760050004,592.75999788299998,0]
[70,null,null,{"$f":"D909*$G$3","v":1128.7919959685998},910.1913300826501,740.41333068900008,653.3799976665,0]
[71,null,null,{"$f":"D910*$G$3","v":1242.4719955625999},1001.9239964217002,814.89333042300007,719.13333076499998,0]
[72,null,null,{"$f":"D911*$G$3","v":1374.2959950918},1108.2353293753501,901.45999678050009,795.33999715950006,0]
[73,null,null,{"$f":"D912*$G$3","v":1525.0479945534},1229.6899956082502,1000.2999964275,882.653330181,0]
[74,null,null,{"$f":"D913*$G$3","v":1700.2719939276001},1370.9593284370501,1115.1933293505001,983.91999648600006,0]
[75,null,null,{"$f":"D914*$G$3","v":1904.6719931976002},1535.9446611811504,1249.2666622050001,1102.3133293965,0]
[76,null,null,{"$f":"D915*$G$3","v":2136.0079923714002},1722.3359938488004,1401.0266616630001,1236.1999955850001,0]
[77,null,null,{"$f":"D916*$G$3","v":2398.8719914326002},1934.3426597583002,1573.3666610475,1388.2399950420001,0]
[78,null,null,{"$f":"D917*$G$3","v":2695.2799903740001},2173.2993255715505,1767.7333270200002,1559.8799944290001,0]
[79,null,null,{"$f":"D918*$G$3","v":3028.3119891846},2441.8239912792001,1986.1799929065,1752.6133270740002,0]
[80,"o mas",null,{"$f":"D919*$G$3","v":3426.6399877620001},2763.1706567982001,2247.5133253065001,1983.1466595840002,0]
[1,"Hijo",null,{"$f":"D920*$G$3","v":89.431999680600001},72.225999742050007,58.753333123500006,51.753333148500005,0]
[2,"Hijos",null,{"$f":"D921*$G$3","v":146.77599947580001},118.37466624390002,96.319999656000007,84.979999696500002,0]
[3,"Hijos o más",null,{"$f":"D922*$G$3","v":214.81599923280001},173.19866604810002,140.93333283000001,124.27333288950001,0]
[1,"Rider Comp. Maternidad",null,{"$f":"D923*$G$3","v":0},0,0,20.999999925000001,0]
[1,"Transplante de organos",null,{"$f":"D924*$G$3","v":27.999999900000002},27.999999900000002,27.999999900000002,27.999999900000002,0]
[null,"Deductible Waiver",null,{"$f":"D925*$G$3","v":0},0,0,0,0]
[]
["BUPA UNIQUE CARE"]
["TARIFAS ANUALES"]
[]
["EDAD",null,null,"ET2","ET3","ET4","ET5","ET6"]
[18,null,null,{"$f":"R1156","v":1881},{"$f":"S1156","v":1340.9},{"$f":"T1156","v":949.5},{"$f":"U1156","v":841},{"$f":"V1156","v":682.5},null,null,null,{"$f":"DR!D307","v":3135},{"$f":"DR!E307","v":2438},{"$f":"DR!F307","v":1899},{"$f":"DR!G307","v":1682},{"$f":"DR!H307","v":1365},null,{"$f":"L1156*$AA$2","v":1881},{"$f":"M1156*$AA$3","v":1340.9},{"$f":"N1156*$AA$4","v":949.5},{"$f":"O1156*$AA$5","v":841},{"$f":"P1156*$AA$252","v":682.5}]
[19,null,null,{"$f":"R1157","v":1915.1999999999998},{"$f":"S1157","v":1362.9},{"$f":"T1157","v":970},{"$f":"U1157","v":859},{"$f":"V1157","v":693.5},null,null,null,{"$f":"DR!D308","v":3192},{"$f":"DR!E308","v":2478},{"$f":"DR!F308","v":1940},{"$f":"DR!G308","v":1718},{"$f":"DR!H308","v":1387},null,{"$f":"L1157*$AA$2","v":1915.1999999999998},{"$f":"M1157*$AA$3","v":1362.9},{"$f":"N1157*$AA$4","v":970},{"$f":"O1157*$AA$5","v":859},{"$f":"P1157*$AA$252","v":693.5}]
[20,null,null,1947.6,1385.45,987.5,875,705,null,null,null,{"$f":"DR!D309","v":3246},{"$f":"DR!E309","v":2519},{"$f":"DR!F309","v":1975},{"$f":"DR!G309","v":1750},{"$f":"DR!H309","v":1410},null,1947.6,1385.45,987.5,875,705]
[21,null,null,1983.6,1408.5500000000002,1007.5,889.5,720,null,null,null,{"$f":"DR!D310","v":3306},{"$f":"DR!E310","v":2561},{"$f":"DR!F310","v":2015},{"$f":"DR!G310","v":1779},{"$f":"DR!H310","v":1440},null,1983.6,1408.5500000000002,1007.5,889.5,720]
[22,null,null,2019,1431.1000000000001,1028.5,905.5,733.5,null,null,null,{"$f":"DR!D311","v":3365},{"$f":"DR!E311","v":2602},{"$f":"DR!F311","v":2057},{"$f":"DR!G311","v":1811},{"$f":"DR!H311","v":1467},null,2019,1431.1000000000001,1028.5,905.5,733.5]
[23,null,null,2054.4,1453.65,1051.5,921.5,746.5,null,null,null,{"$f":"DR!D312","v":3424},{"$f":"DR!E312","v":2643},{"$f":"DR!F312","v":2103},{"$f":"DR!G312","v":1843},{"$f":"DR!H312","v":1493},null,2054.4,1453.65,1051.5,921.5,746.5]
[24,null,null,2090.4,1476.2,1069,939.5,758.5,null,null,null,{"$f":"DR!D313","v":3484},{"$f":"DR!E313","v":2684},{"$f":"DR!F313","v":2138},{"$f":"DR!G313","v":1879},{"$f":"DR!H313","v":1517},null,2090.4,1476.2,1069,939.5,758.5]
[25,null,null,2126.4,1500.95,1090.5,955,774,null,null,null,{"$f":"DR!D314","v":3544},{"$f":"DR!E314","v":2729},{"$f":"DR!F314","v":2181},{"$f":"DR!G314","v":1910},{"$f":"DR!H314","v":1548},null,2126.4,1500.95,1090.5,955,774]
[26,null,null,2161.1999999999998,1523.5000000000002,1111,971,786,null,null,null,{"$f":"DR!D315","v":3602},{"$f":"DR!E315","v":2770},{"$f":"DR!F315","v":2222},{"$f":"DR!G315","v":1942},{"$f":"DR!H315","v":1572},null,2161.1999999999998,1523.5000000000002,1111,971,786]
[27,null,null,2199,1547.7,1131,987,798.5,null,null,null,{"$f":"DR!D316","v":3665},{"$f":"DR!E316","v":2814},{"$f":"DR!F316","v":2262},{"$f":"DR!G316","v":1974},{"$f":"DR!H316","v":1597},null,2199,1547.7,1131,987,798.5]
[28,null,null,2239.1999999999998,1573.5500000000002,1158.5,1007,817,null,null,null,{"$f":"DR!D317","v":3732},{"$f":"DR!E317","v":2861},{"$f":"DR!F317","v":2317},{"$f":"DR!G317","v":2014},{"$f":"DR!H317","v":1634},null,2239.1999999999998,1573.5500000000002,1158.5,1007,817]
[29,null,null,2281.7999999999997,1599.4,1182,1028,830,null,null,null,{"$f":"DR!D318","v":3803},{"$f":"DR!E318","v":2908},{"$f":"DR!F318","v":2364},{"$f":"DR!G318","v":2056},{"$f":"DR!H318","v":1660},null,2281.7999999999997,1599.4,1182,1028,830]
[30,null,null,2322.6,1626.9,1209,1047.5,847,null,null,null,{"$f":"DR!D319","v":3871},{"$f":"DR!E319","v":2958},{"$f":"DR!F319","v":2418},{"$f":"DR!G319","v":2095},{"$f":"DR!H319","v":1694},null,2322.6,1626.9,1209,1047.5,847]
[31,null,null,2365.7999999999997,1653.3000000000002,1233.5,1067.5,864,null,null,null,{"$f":"DR!D320","v":3943},{"$f":"DR!E320","v":3006},{"$f":"DR!F320","v":2467},{"$f":"DR!G320","v":2135},{"$f":"DR!H320","v":1728},null,2365.7999999999997,1653.3000000000002,1233.5,1067.5,864]
[32,null,null,2405.4,1679.7,1260,1086.5,878.5,null,null,null,{"$f":"DR!D321","v":4009},{"$f":"DR!E321","v":3054},{"$f":"DR!F321","v":2520},{"$f":"DR!G321","v":2173},{"$f":"DR!H321","v":1757},null,2405.4,1679.7,1260,1086.5,878.5]
[33,null,null,2474.4,1725.9,1296.5,1118,905,null,null,null,{"$f":"DR!D322","v":4124},{"$f":"DR!E322","v":3138},{"$f":"DR!F322","v":2593},{"$f":"DR!G322","v":2236},{"$f":"DR!H322","v":1810},null,2474.4,1725.9,1296.5,1118,905]
[34,null,null,2541.6,1770.45,1337,1149.5,929,null,null,null,{"$f":"DR!D323","v":4236},{"$f":"DR!E323","v":3219},{"$f":"DR!F323","v":2674},{"$f":"DR!G323","v":2299},{"$f":"DR!H323","v":1858},null,2541.6,1770.45,1337,1149.5,929]
[35,null,null,2608.7999999999997,1816.1000000000001,1375.5,1180.5,955,null,null,null,{"$f":"DR!D324","v":4348},{"$f":"DR!E324","v":3302},{"$f":"DR!F324","v":2751},{"$f":"DR!G324","v":2361},{"$f":"DR!H324","v":1910},null,2608.7999999999997,1816.1000000000001,1375.5,1180.5,955]
[36,null,null,2677.2,1861.7500000000002,1414,1212,981,null,null,null,{"$f":"DR!D325","v":4462},{"$f":"DR!E325","v":3385},{"$f":"DR!F325","v":2828},{"$f":"DR!G325","v":2424},{"$f":"DR!H325","v":1962},null,2677.2,1861.7500000000002,1414,1212,981]
[37,null,null,2745.6,1906.3000000000002,1450.5,1242.5,1005.5,null,null,null,{"$f":"DR!D326","v":4576},{"$f":"DR!E326","v":3466},{"$f":"DR!F326","v":2901},{"$f":"DR!G326","v":2485},{"$f":"DR!H326","v":2011},null,2745.6,1906.3000000000002,1450.5,1242.5,1005.5]
[38,null,null,2814,1952.5000000000002,1492.5,1275,1031.5,null,null,null,{"$f":"DR!D327","v":4690},{"$f":"DR!E327","v":3550},{"$f":"DR!F327","v":2985},{"$f":"DR!G327","v":2550},{"$f":"DR!H327","v":2063},null,2814,1952.5000000000002,1492.5,1275,1031.5]
[39,null,null,2885.4,1998.7000000000003,1532,1307.5,1057.5,null,null,null,{"$f":"DR!D328","v":4809},{"$f":"DR!E328","v":3634},{"$f":"DR!F328","v":3064},{"$f":"DR!G328","v":2615},{"$f":"DR!H328","v":2115},null,2885.4,1998.7000000000003,1532,1307.5,1057.5]
[40,null,null,2953.7999999999997,2046.5500000000002,1573.5,1341.5,1083,null,null,null,{"$f":"DR!D329","v":4923},{"$f":"DR!E329","v":3721},{"$f":"DR!F329","v":3147},{"$f":"DR!G329","v":2683},{"$f":"DR!H329","v":2166},null,2953.7999999999997,2046.5500000000002,1573.5,1341.5,1083]
[41,null,null,3024,2091.65,1614,1374.5,1108,null,null,null,{"$f":"DR!D330","v":5040},{"$f":"DR!E330","v":3803},{"$f":"DR!F330","v":3228},{"$f":"DR!G330","v":2749},{"$f":"DR!H330","v":2216},null,3024,2091.65,1614,1374.5,1108]
[42,null,null,3093.6,2137.8500000000004,1655.5,1405,1136.5,null,null,null,{"$f":"DR!D331","v":5156},{"$f":"DR!E331","v":3887},{"$f":"DR!F331","v":3311},{"$f":"DR!G331","v":2810},{"$f":"DR!H331","v":2273},null,3093.6,2137.8500000000004,1655.5,1405,1136.5]
[43,null,null,3220.2,2219.8000000000002,1724,1462.5,1181.5,null,null,null,{"$f":"DR!D332","v":5367},{"$f":"DR!E332","v":4036},{"$f":"DR!F332","v":3448},{"$f":"DR!G332","v":2925},{"$f":"DR!H332","v":2363},null,3220.2,2219.8000000000002,1724,1462.5,1181.5]
[44,null,null,3345.6,2304.5,1796,1521,1228.5,null,null,null,{"$f":"DR!D333","v":5576},{"$f":"DR!E333","v":4190},{"$f":"DR!F333","v":3592},{"$f":"DR!G333","v":3042},{"$f":"DR!H333","v":2457},null,3345.6,2304.5,1796,1521,1228.5]
[45,null,null,3471.6,2387.5500000000002,1869,1581.5,1273.5,null,null,null,{"$f":"DR!D334","v":5786},{"$f":"DR!E334","v":4341},{"$f":"DR!F334","v":3738},{"$f":"DR!G334","v":3163},{"$f":"DR!H334","v":2547},null,3471.6,2387.5500000000002,1869,1581.5,1273.5]
[46,null,null,3598.7999999999997,2472.8000000000002,1940.5,1638.5,1321.5,null,null,null,{"$f":"DR!D335","v":5998},{"$f":"DR!E335","v":4496},{"$f":"DR!F335","v":3881},{"$f":"DR!G335","v":3277},{"$f":"DR!H335","v":2643},null,3598.7999999999997,2472.8000000000002,1940.5,1638.5,1321.5]
[47,null,null,3723,2555.8500000000004,2013,1698,1366,null,null,null,{"$f":"DR!D336","v":6205},{"$f":"DR!E336","v":4647},{"$f":"DR!F336","v":4026},{"$f":"DR!G336","v":3396},{"$f":"DR!H336","v":2732},null,3723,2555.8500000000004,2013,1698,1366]
[48,null,null,3857.3999999999996,2645.5,2086.5,1759.5,1417,null,null,null,{"$f":"DR!D337","v":6429},{"$f":"DR!E337","v":4810},{"$f":"DR!F337","v":4173},{"$f":"DR!G337","v":3519},{"$f":"DR!H337","v":2834},null,3857.3999999999996,2645.5,2086.5,1759.5,1417]
[49,null,null,3991.7999999999997,2735.15,2160,1821,1467,null,null,null,{"$f":"DR!D338","v":6653},{"$f":"DR!E338","v":4973},{"$f":"DR!F338","v":4320},{"$f":"DR!G338","v":3642},{"$f":"DR!H338","v":2934},null,3991.7999999999997,2735.15,2160,1821,1467]
[50,null,null,4124.3999999999996,2823.15,2237,1883.5,1517.5,null,null,null,{"$f":"DR!D339","v":6874},{"$f":"DR!E339","v":5133},{"$f":"DR!F339","v":4474},{"$f":"DR!G339","v":3767},{"$f":"DR!H339","v":3035},null,4124.3999999999996,2823.15,2237,1883.5,1517.5]
[51,null,null,4258.2,2911.7000000000003,2309.5,1943.5,1565.5,null,null,null,{"$f":"DR!D340","v":7097},{"$f":"DR!E340","v":5294},{"$f":"DR!F340","v":4619},{"$f":"DR!G340","v":3887},{"$f":"DR!H340","v":3131},null,4258.2,2911.7000000000003,2309.5,1943.5,1565.5]
[52,null,null,4391.3999999999996,3001.3500000000004,2385,2004.5,1616,null,null,null,{"$f":"DR!D341","v":7319},{"$f":"DR!E341","v":5457},{"$f":"DR!F341","v":4770},{"$f":"DR!G341","v":4009},{"$f":"DR!H341","v":3232},null,4391.3999999999996,3001.3500000000004,2385,2004.5,1616]
[53,null,null,4551,3104.7500000000005,2477,2077,1674,null,null,null,{"$f":"DR!D342","v":7585},{"$f":"DR!E342","v":5645},{"$f":"DR!F342","v":4954},{"$f":"DR!G342","v":4154},{"$f":"DR!H342","v":3348},null,4551,3104.7500000000005,2477,2077,1674]
[54,null,null,4706.3999999999996,3209.8,2570,2153.5,1733,null,null,null,{"$f":"DR!D343","v":7844},{"$f":"DR!E343","v":5836},{"$f":"DR!F343","v":5140},{"$f":"DR!G343","v":4307},{"$f":"DR!H343","v":3466},null,4706.3999999999996,3209.8,2570,2153.5,1733]
[55,null,null,4863.5999999999995,3315.9500000000003,2658.5,2227,1791,null,null,null,{"$f":"DR!D344","v":8106},{"$f":"DR!E344","v":6029},{"$f":"DR!F344","v":5317},{"$f":"DR!G344","v":4454},{"$f":"DR!H344","v":3582},null,4863.5999999999995,3315.9500000000003,2658.5,2227,1791]
[56,null,null,5020.2,3421.0000000000005,2751,2299.5,1851.5,null,null,null,{"$f":"DR!D345","v":8367},{"$f":"DR!E345","v":6220},{"$f":"DR!F345","v":5502},{"$f":"DR!G345","v":4599},{"$f":"DR!H345","v":3703},null,5020.2,3421.0000000000005,2751,2299.5,1851.5]
[57,null,null,5179.8,3523.8500000000004,2842.5,2374,1908.5,null,null,null,{"$f":"DR!D346","v":8633},{"$f":"DR!E346","v":6407},{"$f":"DR!F346","v":5685},{"$f":"DR!G346","v":4748},{"$f":"DR!H346","v":3817},null,5179.8,3523.8500000000004,2842.5,2374,1908.5]
[58,null,null,5373.5999999999995,3647.05,2953.5,2465.5,1982.5,null,null,null,{"$f":"DR!D347","v":8956},{"$f":"DR!E347","v":6631},{"$f":"DR!F347","v":5907},{"$f":"DR!G347","v":4931},{"$f":"DR!H347","v":3965},null,5373.5999999999995,3647.05,2953.5,2465.5,1982.5]
[59,null,null,5566.2,3767.5000000000005,3062,2556.5,2055,null,null,null,{"$f":"DR!D348","v":9277},{"$f":"DR!E348","v":6850},{"$f":"DR!F348","v":6124},{"$f":"DR!G348","v":5113},{"$f":"DR!H348","v":4110},null,5566.2,3767.5000000000005,3062,2556.5,2055]
[60,null,null,5758.8,3887.4,3173.5,2647.5,2129,null,null,null,{"$f":"DR!D349","v":9598},{"$f":"DR!E349","v":7068},{"$f":"DR!F349","v":6347},{"$f":"DR!G349","v":5295},{"$f":"DR!H349","v":4258},null,5758.8,3887.4,3173.5,2647.5,2129]
[61,null,null,5971.2,4030.4000000000005,3306,2747,2208,null,null,null,{"$f":"DR!D350","v":9952},{"$f":"DR!E350","v":7328},{"$f":"DR!F350","v":6612},{"$f":"DR!G350","v":5494},{"$f":"DR!H350","v":4416},null,5971.2,4030.4000000000005,3306,2747,2208]
[62,null,null,6237,4208.05,3463.5,2867,2304.5,null,null,null,{"$f":"DR!D351","v":10395},{"$f":"DR!E351","v":7651},{"$f":"DR!F351","v":6927},{"$f":"DR!G351","v":5734},{"$f":"DR!H351","v":4609},null,6237,4208.05,3463.5,2867,2304.5]
[63,null,null,6552,4420.3500000000004,3637,3013,2418.5,null,null,null,{"$f":"DR!D352","v":10920},{"$f":"DR!E352","v":8037},{"$f":"DR!F352","v":7274},{"$f":"DR!G352","v":6026},{"$f":"DR!H352","v":4837},null,6552,4420.3500000000004,3637,3013,2418.5]
[64,null,null,6923.4,4668.4000000000005,3844.5,3183,2557.5,null,null,null,{"$f":"DR!D353","v":11539},{"$f":"DR!E353","v":8488},{"$f":"DR!F353","v":7689},{"$f":"DR!G353","v":6366},{"$f":"DR!H353","v":5115},null,6923.4,4668.4000000000005,3844.5,3183,2557.5]
[65,null,null,7398.5999999999995,4977.5,4131.5,3410,2738,null,null,null,{"$f":"DR!D354","v":12331},{"$f":"DR!E354","v":9050},{"$f":"DR!F354","v":8263},{"$f":"DR!G354","v":6820},{"$f":"DR!H354","v":5476},null,7398.5999999999995,4977.5,4131.5,3410,2738]
[66,null,null,7952.4,5336.6500000000005,4463,3671.5,2944.5,null,null,null,{"$f":"DR!D355","v":13254},{"$f":"DR!E355","v":9703},{"$f":"DR!F355","v":8926},{"$f":"DR!G355","v":7343},{"$f":"DR!H355","v":5889},null,7952.4,5336.6500000000005,4463,3671.5,2944.5]
[67,null,null,8584.1999999999989,5759.6,4817.5,3965,3176.5,null,null,null,{"$f":"DR!D356","v":14307},{"$f":"DR!E356","v":10472},{"$f":"DR!F356","v":9635},{"$f":"DR!G356","v":7930},{"$f":"DR!H356","v":6353},null,8584.1999999999989,5759.6,4817.5,3965,3176.5]
[68,null,null,9309,6240.3,5221,4293,3446,null,null,null,{"$f":"DR!D357","v":15515},{"$f":"DR!E357","v":11346},{"$f":"DR!F357","v":10442},{"$f":"DR!G357","v":8586},{"$f":"DR!H357","v":6892},null,9309,6240.3,5221,4293,3446]
[69,null,null,10161.6,6812.85,5698.5,4691.5,3759.5,null,null,null,{"$f":"DR!D358","v":16936},{"$f":"DR!E358","v":12387},{"$f":"DR!F358","v":11397},{"$f":"DR!G358","v":9383},{"$f":"DR!H358","v":7519},null,10161.6,6812.85,5698.5,4691.5,3759.5]
[70,null,null,11198.4,7466.2500000000009,6288,5185.5,4155.5,null,null,null,{"$f":"DR!D359","v":18664},{"$f":"DR!E359","v":13575},{"$f":"DR!F359","v":12576},{"$f":"DR!G359","v":10371},{"$f":"DR!H359","v":8311},null,11198.4,7466.2500000000009,6288,5185.5,4155.5]
[71,null,null,12326.4,8221.4000000000015,6980,5709,4572.5,null,null,null,{"$f":"DR!D360","v":20544},{"$f":"DR!E360","v":14948},{"$f":"DR!F360","v":13960},{"$f":"DR!G360","v":11418},{"$f":"DR!H360","v":9145},null,12326.4,8221.4000000000015,6980,5709,4572.5]
[72,null,null,13634.4,9090.4000000000015,7721,6314,5060.5,null,null,null,{"$f":"DR!D361","v":22724},{"$f":"DR!E361","v":16528},{"$f":"DR!F361","v":15442},{"$f":"DR!G361","v":12628},{"$f":"DR!H361","v":10121},null,13634.4,9090.4000000000015,7721,6314,5060.5]
[73,null,null,15129.599999999999,10089.75,8566,7005.5,5613,null,null,null,{"$f":"DR!D362","v":25216},{"$f":"DR!E362","v":18345},{"$f":"DR!F362","v":17132},{"$f":"DR!G362","v":14011},{"$f":"DR!H362","v":11226},null,15129.599999999999,10089.75,8566,7005.5,5613]
[74,null,null,16867.2,11246.400000000001,9546,7809.5,6255,null,null,null,{"$f":"DR!D363","v":28112},{"$f":"DR!E363","v":20448},{"$f":"DR!F363","v":19092},{"$f":"DR!G363","v":15619},{"$f":"DR!H363","v":12510},null,16867.2,11246.400000000001,9546,7809.5,6255]
[75,null,null,18897,12569.7,10695.5,8758.5,7016.5,null,null,null,{"$f":"DR!D364","v":31495},{"$f":"DR!E364","v":22854},{"$f":"DR!F364","v":21391},{"$f":"DR!G364","v":17517},{"$f":"DR!H364","v":14033},null,18897,12569.7,10695.5,8758.5,7016.5]
[76,null,null,21189.599999999999,14094.85,12035,9824.5,7865.5,null,null,null,{"$f":"DR!D365","v":35316},{"$f":"DR!E365","v":25627},{"$f":"DR!F365","v":24070},{"$f":"DR!G365","v":19649},{"$f":"DR!H365","v":15731},null,21189.599999999999,14094.85,12035,9824.5,7865.5]
[77,null,null,23799,15830.100000000002,13526,11031,8836,null,null,null,{"$f":"DR!D366","v":39665},{"$f":"DR!E366","v":28782},{"$f":"DR!F366","v":27052},{"$f":"DR!G366","v":22062},{"$f":"DR!H366","v":17672},null,23799,15830.100000000002,13526,11031,8836]
[78,null,null,26739.599999999999,17785.350000000002,15197.5,12396,9928,null,null,null,{"$f":"DR!D367","v":44566},{"$f":"DR!E367","v":32337},{"$f":"DR!F367","v":30395},{"$f":"DR!G367","v":24792},{"$f":"DR!H367","v":19856},null,26739.599999999999,17785.350000000002,15197.5,12396,9928]
[79,null,null,30043.8,19983.150000000001,17075,13927,11155.5,null,null,null,{"$f":"DR!D368","v":50073},{"$f":"DR!E368","v":36333},{"$f":"DR!F368","v":34150},{"$f":"DR!G368","v":27854},{"$f":"DR!H368","v":22311},null,30043.8,19983.150000000001,17075,13927,11155.5]
[80,"o mas",null,33995.4,22611.600000000002,19321,15758,12622.5,null,null,null,{"$f":"DR!D369","v":56659},{"$f":"DR!E369","v":41112},{"$f":"DR!F369","v":38642},{"$f":"DR!G369","v":31516},{"$f":"DR!H369","v":25245},null,33995.4,22611.600000000002,19321,15758,12622.5]
[1,"Hijo",null,888.6,667.7,357,350,281,null,null,null,{"$f":"DR!D370","v":1481},{"$f":"DR!E370","v":1214},{"$f":"DR!F370","v":714},{"$f":"DR!G370","v":700},{"$f":"DR!H370","v":562},null,888.6,667.7,357,350,281]
[2,"Hijos",null,1456.2,1123.1000000000001,551,532,443.5,null,null,null,{"$f":"DR!D371","v":2427},{"$f":"DR!E371","v":2042},{"$f":"DR!F371","v":1102},{"$f":"DR!G371","v":1064},{"$f":"DR!H371","v":887},null,1456.2,1123.1000000000001,551,532,443.5]
[3,"Hijos o más",null,{"$f":"R1221","v":2130},{"$f":"S1221","v":1648.3500000000001},{"$f":"T1221","v":799},{"$f":"U1221","v":764},{"$f":"V1221","v":642.5},null,null,null,{"$f":"DR!D372","v":3550},{"$f":"DR!E372","v":2997},{"$f":"DR!F372","v":1598},{"$f":"DR!G372","v":1528},{"$f":"DR!H372","v":1285},null,{"$f":"L1221*$AA$2","v":2130},{"$f":"M1221*$AA$3","v":1648.3500000000001},{"$f":"N1221*$AA$4","v":799},{"$f":"O1221*$AA$5","v":764},{"$f":"P1221*$AA$252","v":642.5}]
[1,"Rider Comp. Maternidad",null,{"$f":"L1222","v":0},{"$f":"M1222","v":0},{"$f":"N1222","v":0},{"$f":"O1222","v":225},{"$f":"P1222","v":225},null,null,null,0,0,0,225,225]
[1,"Transplante de organos",null,{"$f":"L1223","v":300},300,300,300,300,null,null,null,300,300,300,300,300]
[null,"Deductible Waiver",null,45,180,345,775,1330,null,null,null,45,180,345,775,1330]
[]
[]
[]
["TARIFAS SEMESTRALES"]
[]
["EDAD",null,null,"ET2","ET3","ET4","ET5","ET6"]
[18,null,null,{"$f":"D1156*$G$1","v":996.93000000000006},710.67700000000013,503.23500000000001,445.73,361.72500000000002]
[19,null,null,{"$f":"D1157*$G$1","v":1015.0559999999999},722.3370000000001,514.1,455.27000000000004,367.55500000000001]
[20,null,null,{"$f":"D1158*$G$1","v":1032.2280000000001},734.28850000000011,523.375,463.75,373.65000000000003]
[21,null,null,{"$f":"D1159*$G$1","v":1051.308},746.53150000000016,533.97500000000002,471.435,381.6]
[22,null,null,{"$f":"D1160*$G$1","v":1070.0700000000002},758.48300000000006,545.10500000000002,479.91500000000002,388.755]
[23,null,null,{"$f":"D1161*$G$1","v":1088.8320000000001},770.43450000000007,557.29500000000007,488.39500000000004,395.64500000000004]
[24,null,null,{"$f":"D1162*$G$1","v":1107.912},782.38600000000008,566.57000000000005,497.935,402.005]
[25,null,null,{"$f":"D1163*$G$1","v":1126.9920000000002},795.50350000000003,577.96500000000003,506.15000000000003,410.22]
[26,null,null,{"$f":"D1164*$G$1","v":1145.4359999999999},807.45500000000015,588.83000000000004,514.63,416.58000000000004]
[27,null,null,{"$f":"D1165*$G$1","v":1165.47},820.28100000000006,599.43000000000006,523.11,423.20500000000004]
[28,null,null,{"$f":"D1166*$G$1","v":1186.7760000000001},833.9815000000001,614.005,533.71,433.01000000000005]
[29,null,null,{"$f":"D1167*$G$1","v":1209.3539999999998},847.68200000000013,626.46,544.84,439.90000000000003]
[30,null,null,{"$f":"D1168*$G$1","v":1230.9780000000001},862.25700000000006,640.77,555.17500000000007,448.91]
[31,null,null,{"$f":"D1169*$G$1","v":1253.874},876.24900000000014,653.755,565.77499999999998,457.92]
[32,null,null,{"$f":"D1170*$G$1","v":1274.8620000000001},890.2410000000001,667.80000000000007,575.84500000000003,465.60500000000002]
[33,null,null,{"$f":"D1171*$G$1","v":1311.432},914.72700000000009,687.14499999999998,592.54000000000008,479.65000000000003]
[34,null,null,{"$f":"D1172*$G$1","v":1347.048},938.33850000000007,708.61,609.23500000000001,492.37]
[35,null,null,{"$f":"D1173*$G$1","v":1382.664},962.53300000000013,729.01499999999999,625.66500000000008,506.15000000000003]
[36,null,null,{"$f":"D1174*$G$1","v":1418.9159999999999},986.72750000000019,749.42000000000007,642.36,519.93000000000006]
[37,null,null,{"$f":"D1175*$G$1","v":1455.1680000000001},1010.3390000000002,768.76499999999999,658.52499999999998,532.91500000000008]
[38,null,null,{"$f":"D1176*$G$1","v":1491.42},1034.8250000000003,791.02500000000009,675.75,546.69500000000005]
[39,null,null,{"$f":"D1177*$G$1","v":1529.2620000000002},1059.3110000000001,811.96,692.97500000000002,560.47500000000002]
[40,null,null,{"$f":"D1178*$G$1","v":1565.5139999999999},1084.6715000000002,833.95500000000004,710.995,573.99]
[41,null,null,{"$f":"D1179*$G$1","v":1602.72},1108.5745000000002,855.42000000000007,728.48500000000001,587.24]
[42,null,null,{"$f":"D1180*$G$1","v":1639.6079999999999},1133.0605000000003,877.41500000000008,744.65000000000009,602.34500000000003]
[43,null,null,{"$f":"D1181*$G$1","v":1706.7059999999999},1176.4940000000001,913.72,775.125,626.19500000000005]
[44,null,null,{"$f":"D1182*$G$1","v":1773.1680000000001},1221.385,951.88,806.13,651.10500000000002]
[45,null,null,{"$f":"D1183*$G$1","v":1839.9480000000001},1265.4015000000002,990.57,838.19500000000005,674.95500000000004]
[46,null,null,{"$f":"D1184*$G$1","v":1907.364},1310.5840000000001,1028.4650000000001,868.40500000000009,700.39499999999998]
[47,null,null,{"$f":"D1185*$G$1","v":1973.19},1354.6005000000002,1066.8900000000001,899.94,723.98]
[48,null,null,{"$f":"D1186*$G$1","v":2044.4219999999998},1402.115,1105.845,932.53500000000008,751.01]
[49,null,null,{"$f":"D1187*$G$1","v":2115.654},1449.6295000000002,1144.8,965.13,777.51]
[50,null,null,{"$f":"D1188*$G$1","v":2185.9319999999998},1496.2695000000001,1185.6100000000001,998.255,804.27500000000009]
[51,null,null,{"$f":"D1189*$G$1","v":2256.846},1543.2010000000002,1224.0350000000001,1030.0550000000001,829.71500000000003]
[52,null,null,{"$f":"D1190*$G$1","v":2327.442},1590.7155000000002,1264.05,1062.385,856.48]
[53,null,null,{"$f":"D1191*$G$1","v":2412.0300000000002},1645.5175000000004,1312.8100000000002,1100.81,887.22]
[54,null,null,{"$f":"D1192*$G$1","v":2494.3919999999998},1701.1940000000002,1362.1000000000001,1141.355,918.49]
[55,null,null,{"$f":"D1193*$G$1","v":2577.7079999999996},1757.4535000000003,1409.0050000000001,1180.3100000000002,949.23]
[56,null,null,{"$f":"D1194*$G$1","v":2660.7060000000001},1813.1300000000003,1458.03,1218.7350000000001,981.29500000000007]
[57,null,null,{"$f":"D1195*$G$1","v":2745.2940000000003},1867.6405000000002,1506.5250000000001,1258.22,1011.505]
[58,null,null,{"$f":"D1196*$G$1","v":2848.0079999999998},1932.9365000000003,1565.355,1306.7150000000001,1050.7250000000001]
[59,null,null,{"$f":"D1197*$G$1","v":2950.0860000000002},1996.7750000000003,1622.8600000000001,1354.9450000000002,1089.1500000000001]
[60,null,null,{"$f":"D1198*$G$1","v":3052.1640000000002},2060.3220000000001,1681.9550000000002,1403.1750000000002,1128.3700000000001]
[61,null,null,{"$f":"D1199*$G$1","v":3164.7359999999999},2136.1120000000005,1752.18,1455.91,1170.24]
[62,null,null,{"$f":"D1200*$G$1","v":3305.61},2230.2665000000002,1835.6550000000002,1519.51,1221.385]
[63,null,null,{"$f":"D1201*$G$1","v":3472.5600000000004},2342.7855000000004,1927.6100000000001,1596.89,1281.8050000000001]
[64,null,null,{"$f":"D1202*$G$1","v":3669.402},2474.2520000000004,2037.585,1686.99,1355.4750000000001]
[65,null,null,{"$f":"D1203*$G$1","v":3921.2579999999998},2638.0750000000003,2189.6950000000002,1807.3000000000002,1451.14]
[66,null,null,{"$f":"D1204*$G$1","v":4214.7719999999999},2828.4245000000005,2365.3900000000003,1945.8950000000002,1560.585]
[67,null,null,{"$f":"D1205*$G$1","v":4549.6259999999993},3052.5880000000002,2553.2750000000001,2101.4500000000003,1683.5450000000001]
[68,null,null,{"$f":"D1206*$G$1","v":4933.7700000000004},3307.3590000000004,2767.13,2275.29,1826.38]
[69,null,null,{"$f":"D1207*$G$1","v":5385.6480000000001},3610.8105000000005,3020.2049999999999,2486.4950000000003,1992.5350000000001]
[70,null,null,{"$f":"D1208*$G$1","v":5935.152},3957.1125000000006,3332.6400000000003,2748.3150000000001,2202.415]
[71,null,null,{"$f":"D1209*$G$1","v":6532.9920000000002},4357.3420000000006,3699.4,3025.77,2423.4250000000002]
[72,null,null,{"$f":"D1210*$G$1","v":7226.232},4817.9120000000012,4092.13,3346.42,2682.0650000000001]
[73,null,null,{"$f":"D1211*$G$1","v":8018.6879999999992},5347.5675000000001,4539.9800000000005,3712.915,2974.8900000000003]
[74,null,null,{"$f":"D1212*$G$1","v":8939.616},5960.5920000000015,5059.38,4139.0349999999999,3315.15]
[75,null,null,{"$f":"D1213*$G$1","v":10015.41},6661.9410000000007,5668.6150000000007,4642.0050000000001,3718.7450000000003]
[76,null,null,{"$f":"D1214*$G$1","v":11230.487999999999},7470.2705000000005,6378.55,5206.9850000000006,4168.7150000000001]
[77,null,null,{"$f":"D1215*$G$1","v":12613.470000000001},8389.9530000000013,7168.7800000000007,5846.43,4683.08]
[78,null,null,{"$f":"D1216*$G$1","v":14171.987999999999},9426.2355000000025,8054.6750000000002,6569.88,5261.84]
[79,null,null,{"$f":"D1217*$G$1","v":15923.214},10591.069500000001,9049.75,7381.31,5912.415]
[80,"o mas",null,{"$f":"D1218*$G$1","v":18017.562000000002},11984.148000000001,10240.130000000001,8351.74,6689.9250000000002]
[1,"Hijo",null,{"$f":"D1219*$G$1","v":470.95800000000003},353.88100000000003,189.21,185.5,148.93]
[2,"Hijos",null,{"$f":"D1220*$G$1","v":771.78600000000006},595.24300000000005,292.03000000000003,281.96000000000004,235.05500000000001]
[3,"Hijos o más",null,{"$f":"D1221*$G$1","v":1128.9000000000001},873.6255000000001,423.47,404.92,340.52500000000003]
[1,"Rider Comp. Maternidad",null,{"$f":"D1222*$G$1","v":0},0,0,119.25,119.25]
[1,"Transplante de organos",null,{"$f":"D1223*$G$1","v":159},159,159,159,159]
[null,"Deductible Waiver",null,{"$f":"D1224*$G$1","v":23.85},95.4,182.85000000000002,410.75,704.90000000000009]
[]
[]
[]
[]
["TARIFAS TRIMESTRALES"]
[]
["EDAD",null,null,"ET2","ET3","ET4","ET5","ET6"]
[18,null,null,{"$f":"D1156*$G$2","v":517.27500000000009},368.74750000000006,261.11250000000001,231.27500000000001,187.68750000000003]
[19,null,null,{"$f":"D1157*$G$2","v":526.67999999999995},374.79750000000007,266.75,236.22500000000002,190.71250000000001]
[20,null,null,{"$f":"D1158*$G$2","v":535.59},380.99875000000003,271.5625,240.62500000000003,193.87500000000003]
[21,null,null,{"$f":"D1159*$G$2","v":545.49},387.35125000000011,277.0625,244.61250000000001,198.00000000000003]
[22,null,null,{"$f":"D1160*$G$2","v":555.22500000000002},393.55250000000007,282.83750000000003,249.01250000000002,201.71250000000001]
[23,null,null,{"$f":"D1161*$G$2","v":564.96},399.75375000000008,289.16250000000002,253.41250000000002,205.28750000000002]
[24,null,null,{"$f":"D1162*$G$2","v":574.86000000000013},405.95500000000004,293.97500000000002,258.36250000000001,208.58750000000001]
[25,null,null,{"$f":"D1163*$G$2","v":584.7600000000001},412.76125000000002,299.88750000000005,262.625,212.85000000000002]
[26,null,null,{"$f":"D1164*$G$2","v":594.33000000000004},418.96250000000009,305.52500000000003,267.02500000000003,216.15]
[27,null,null,{"$f":"D1165*$G$2","v":604.72500000000002},425.61750000000006,311.02500000000003,271.42500000000001,219.58750000000001]
[28,null,null,{"$f":"D1166*$G$2","v":615.78},432.72625000000011,318.58750000000003,276.92500000000001,224.67500000000001]
[29,null,null,{"$f":"D1167*$G$2","v":627.495},439.83500000000004,325.05,282.70000000000005,228.25000000000003]
[30,null,null,{"$f":"D1168*$G$2","v":638.71500000000003},447.39750000000004,332.47500000000002,288.0625,232.92500000000001]
[31,null,null,{"$f":"D1169*$G$2","v":650.59500000000003},454.65750000000008,339.21250000000003,293.5625,237.60000000000002]
[32,null,null,{"$f":"D1170*$G$2","v":661.48500000000013},461.91750000000008,346.5,298.78750000000002,241.58750000000001]
[33,null,null,{"$f":"D1171*$G$2","v":680.46},474.62250000000006,356.53750000000002,307.45000000000005,248.87500000000003]
[34,null,null,{"$f":"D1172*$G$2","v":698.94},486.87375000000003,367.67500000000001,316.11250000000001,255.47500000000002]
[35,null,null,{"$f":"D1173*$G$2","v":717.42},499.42750000000007,378.26250000000005,324.63750000000005,262.625]
[36,null,null,{"$f":"D1174*$G$2","v":736.23},511.9812500000001,388.85,333.3,269.77500000000003]
[37,null,null,{"$f":"D1175*$G$2","v":755.04000000000008},524.23250000000007,398.88750000000005,341.6875,276.51250000000005]
[38,null,null,{"$f":"D1176*$G$2","v":773.85},536.93750000000011,410.43750000000006,350.625,283.66250000000002]
[39,null,null,{"$f":"D1177*$G$2","v":793.48500000000013},549.64250000000015,421.3,359.56250000000006,290.8125]
[40,null,null,{"$f":"D1178*$G$2","v":812.29499999999996},562.8012500000001,432.71250000000003,368.91250000000002,297.82500000000005]
[41,null,null,{"$f":"D1179*$G$2","v":831.6},575.20375000000013,443.85,377.98750000000001,304.70000000000005]
[42,null,null,{"$f":"D1180*$G$2","v":850.74},587.90875000000017,455.26250000000005,386.37500000000006,312.53750000000002]
[43,null,null,{"$f":"D1181*$G$2","v":885.55500000000006},610.44500000000005,474.1,402.18750000000006,324.91250000000002]
[44,null,null,{"$f":"D1182*$G$2","v":920.04000000000008},633.73750000000007,493.90000000000003,418.27500000000003,337.83750000000003]
[45,null,null,{"$f":"D1183*$G$2","v":954.69},656.57625000000007,513.97500000000002,434.91250000000002,350.21250000000003]
[46,null,null,{"$f":"D1184*$G$2","v":989.67},680.0200000000001,533.63750000000005,450.58750000000003,363.41250000000002]
[47,null,null,{"$f":"D1185*$G$2","v":1023.825},702.8587500000001,553.57500000000005,466.95000000000005,375.65000000000003]
[48,null,null,{"$f":"D1186*$G$2","v":1060.7850000000001},727.51250000000005,573.78750000000002,483.86250000000001,389.67500000000001]
[49,null,null,{"$f":"D1187*$G$2","v":1097.7450000000001},752.1662500000001,594,500.77500000000003,403.42500000000001]
[50,null,null,{"$f":"D1188*$G$2","v":1134.21},776.36625000000004,615.17500000000007,517.96250000000009,417.31250000000006]
[51,null,null,{"$f":"D1189*$G$2","v":1171.0050000000001},800.71750000000009,635.11250000000007,534.46250000000009,430.51250000000005]
[52,null,null,{"$f":"D1190*$G$2","v":1207.635},825.37125000000015,655.875,551.23750000000007,444.40000000000003]
[53,null,null,{"$f":"D1191*$G$2","v":1251.5250000000001},853.8062500000002,681.17500000000007,571.17500000000007,460.35]
[54,null,null,{"$f":"D1192*$G$2","v":1294.26},882.69500000000016,706.75000000000011,592.21250000000009,476.57500000000005]
[55,null,null,{"$f":"D1193*$G$2","v":1337.49},911.88625000000013,731.08750000000009,612.42500000000007,492.52500000000003]
[56,null,null,{"$f":"D1194*$G$2","v":1380.5550000000001},940.7750000000002,756.52500000000009,632.36250000000007,509.16250000000002]
[57,null,null,{"$f":"D1195*$G$2","v":1424.4450000000002},969.05875000000015,781.68750000000011,652.85,524.83750000000009]
[58,null,null,{"$f":"D1196*$G$2","v":1477.74},1002.9387500000001,812.21250000000009,678.01250000000005,545.1875]
[59,null,null,{"$f":"D1197*$G$2","v":1530.7050000000002},1036.0625000000002,842.05000000000007,703.03750000000002,565.125]
[60,null,null,{"$f":"D1198*$G$2","v":1583.67},1069.0350000000001,872.71250000000009,728.06250000000011,585.47500000000002]
[61,null,null,{"$f":"D1199*$G$2","v":1642.0800000000002},1108.3600000000001,909.15000000000009,755.42500000000007,607.20000000000005]
[62,null,null,{"$f":"D1200*$G$2","v":1715.1750000000002},1157.2137500000001,952.46250000000009,788.42500000000007,633.73750000000007]
[63,null,null,{"$f":"D1201*$G$2","v":1801.8000000000002},1215.5962500000003,1000.1750000000001,828.57500000000005,665.08750000000009]
[64,null,null,{"$f":"D1202*$G$2","v":1903.9349999999999},1283.8100000000002,1057.2375000000002,875.32500000000005,703.3125]
[65,null,null,{"$f":"D1203*$G$2","v":2034.615},1368.8125,1136.1625000000001,937.75000000000011,752.95]
[66,null,null,{"$f":"D1204*$G$2","v":2186.91},1467.5787500000004,1227.325,1009.6625000000001,809.73750000000007]
[67,null,null,{"$f":"D1205*$G$2","v":2360.6549999999997},1583.8900000000003,1324.8125,1090.375,873.53750000000002]
[68,null,null,{"$f":"D1206*$G$2","v":2559.9750000000004},1716.0825000000002,1435.7750000000001,1180.575,947.65000000000009]
[69,null,null,{"$f":"D1207*$G$2","v":2794.4400000000005},1873.5337500000003,1567.0875000000001,1290.1625000000001,1033.8625000000002]
[70,null,null,{"$f":"D1208*$G$2","v":3079.56},2053.2187500000005,1729.2,1426.0125,1142.7625]
[71,null,null,{"$f":"D1209*$G$2","v":3389.76},2260.8850000000007,1919.5000000000002,1569.9750000000001,1257.4375]
[72,null,null,{"$f":"D1210*$G$2","v":3749.46},2499.8600000000006,2123.2750000000001,1736.3500000000001,1391.6375]
[73,null,null,{"$f":"D1211*$G$2","v":4160.6400000000003},2774.6812500000001,2355.65,1926.5125,1543.575]
[74,null,null,{"$f":"D1212*$G$2","v":4638.4800000000005},3092.7600000000007,2625.15,2147.6125000000002,1720.1250000000002]
[75,null,null,{"$f":"D1213*$G$2","v":5196.6750000000002},3456.6675000000005,2941.2625000000003,2408.5875000000001,1929.5375000000001]
[76,null,null,{"$f":"D1214*$G$2","v":5827.14},3876.0837500000002,3309.6250000000005,2701.7375000000002,2163.0125000000003]
[77,null,null,{"$f":"D1215*$G$2","v":6544.7250000000004},4353.2775000000011,3719.65,3033.5250000000001,2429.9]
[78,null,null,{"$f":"D1216*$G$2","v":7353.39},4890.9712500000014,4179.3125,3408.9,2730.2000000000003]
[79,null,null,{"$f":"D1217*$G$2","v":8262.0450000000001},5495.3662500000009,4695.625,3829.9250000000002,3067.7625000000003]
[80,"o mas",null,{"$f":"D1218*$G$2","v":9348.7350000000006},6218.1900000000014,5313.2750000000005,4333.4500000000007,3471.1875000000005]
[1,"Hijo",null,{"$f":"D1219*$G$2","v":244.36500000000004},183.61750000000004,98.175000000000011,96.250000000000014,77.275000000000006]
[2,"Hijos",null,{"$f":"D1220*$G$2","v":400.45500000000004},308.85250000000008,151.52500000000001,146.30000000000001,121.96250000000001]
[3,"Hijos o más",null,{"$f":"D1221*$G$2","v":585.75},453.2962500000001,219.72500000000002,210.10000000000002,176.68750000000003]
[1,"Rider Comp. Maternidad",null,{"$f":"D1222*$G$2","v":0},0,0,61.875000000000007,61.875000000000007]
[1,"Transplante de organos",null,{"$f":"D1223*$G$2","v":82.5},82.5,82.5,82.5,82.5]
[null,"Deductible Waiver",null,{"$f":"D1224*$G$2","v":12.375000000000002},49.500000000000007,94.875000000000014,213.12500000000003,365.75000000000006]
[]
[]
["TARIFAS MENSUALES"]
[]
["EDAD",null,null,"ET2","ET3","ET4","ET5","ET6"]
[18,null,null,{"$f":"D1156*$G$3","v":175.55999937300001},{"$f":"E1156*$G$3","v":125.15066621970001},88.619999683499998,78.493333053000001,63.6999997725]
[19,null,null,{"$f":"D1157*$G$3","v":178.75199936159999},127.20399954570001,90.533333010000007,80.173333047,64.726666435500007]
[20,null,null,{"$f":"D1158*$G$3","v":181.77599935079999},129.30866620485,92.166666337500004,81.666666375000005,65.79999976500001]
[21,null,null,{"$f":"D1159*$G$3","v":185.13599933879999},131.46466619715002,94.033332997500011,83.019999703500005,67.199999759999997]
[22,null,null,{"$f":"D1160*$G$3","v":188.43999932700001},133.56933285630001,95.993332990500008,84.513333031500011,68.459999755500007]
[23,null,null,{"$f":"D1161*$G$3","v":191.74399931520003},135.67399951545002,98.139999649499998,86.006666359500002,69.673333084500001]
[24,null,null,{"$f":"D1162*$G$3","v":195.10399930320003},137.7786661746,99.77333297700001,87.686666353500001,70.793333080500005]
[25,null,null,{"$f":"D1163*$G$3","v":198.46399929120003},140.08866616635001,101.77999963650001,89.133333015000005,72.239999742000009]
[26,null,null,{"$f":"D1164*$G$3","v":201.71199927959998},142.19333282550002,103.693332963,90.626666343000011,73.359999737999999]
[27,null,null,{"$f":"D1165*$G$3","v":205.239999267},144.45199948410001,105.55999962300001,92.119999671000002,74.526666400500005]
[28,null,null,{"$f":"D1166*$G$3","v":208.9919992536},146.86466614215001,108.1266662805,93.986666331000009,76.253333061000006]
[29,null,null,{"$f":"D1167*$G$3","v":212.96799923939997},149.27733280020001,110.31999960600001,95.946666324000006,77.46666639]
[30,null,null,{"$f":"D1168*$G$3","v":216.77599922580001},151.84399945770002,112.839999597,97.766666317500011,79.05333305100001]
[31,null,null,{"$f":"D1169*$G$3","v":220.80799921139999},154.30799944890003,115.12666625550001,99.633332977500004,80.639999712000005]
[32,null,null,{"$f":"D1170*$G$3","v":224.50399919820001},156.77199944010002,117.59999958,101.40666630450001,81.993333040500005]
[33,null,null,{"$f":"D1171*$G$3","v":230.94399917520002},161.08399942470001,121.0066662345,104.346666294,84.466666365000009]
[34,null,null,{"$f":"D1172*$G$3","v":237.21599915280001},165.24199940985002,124.786666221,107.28666628350001,86.706666357000003]
[35,null,null,{"$f":"D1173*$G$3","v":243.4879991304},169.50266606130003,128.37999954150001,110.1799996065,89.133333015000005]
[36,null,null,{"$f":"D1174*$G$3","v":249.8719991076},173.76333271275004,131.97333286200001,113.119999596,91.559999673000007]
[37,null,null,{"$f":"D1175*$G$3","v":256.25599908480001},177.92133269790003,135.37999951649999,115.9666662525,93.846666331500003]
[38,null,null,{"$f":"D1176*$G$3","v":262.63999906200002},182.23333268250002,139.29999950250001,118.999999575,96.273332989500005]
[39,null,null,{"$f":"D1177*$G$3","v":269.3039990382},186.54533266710004,142.98666615600001,122.0333328975,98.699999647500007]
[40,null,null,{"$f":"D1178*$G$3","v":275.68799901540001},191.01133265115001,146.85999947550002,125.20666621950001,101.07999963900001]
[41,null,null,{"$f":"D1179*$G$3","v":282.23999899200004},195.22066596945001,150.63999946200002,128.28666620850001,103.41333296400001]
[42,null,null,{"$f":"D1180*$G$3","v":288.7359989688},199.53266595405003,154.5133327815,131.133332865,106.0733329545]
[43,null,null,{"$f":"D1181*$G$3","v":300.55199892659999},207.18133259340001,160.90666609199999,136.49999951250001,110.27333293950001]
[44,null,null,{"$f":"D1182*$G$3","v":312.25599888480002},215.0866658985,167.62666606800002,141.959999493,114.65999959050001]
[45,null,null,{"$f":"D1183*$G$3","v":324.0159988428},222.83799920415004,174.43999937700002,147.60666613950002,118.85999957550001]
[46,null,null,{"$f":"D1184*$G$3","v":335.8879988004},230.79466584240004,181.1133326865,152.92666612050002,123.3399995595]
[47,null,null,{"$f":"D1185*$G$3","v":347.47999875900001},238.54599914805004,187.87999932900001,158.47999943400001,127.493332878]
[48,null,null,{"$f":"D1186*$G$3","v":360.02399871419999},246.91333245150003,194.7399993045,164.21999941350001,132.25333286100002]
[49,null,null,{"$f":"D1187*$G$3","v":372.56799866939997},255.28066575495001,201.59999928000002,169.959999393,136.91999951100001]
[50,null,null,{"$f":"D1188*$G$3","v":384.94399862519998},263.49399905895001,208.78666592100001,175.79333270550001,141.6333328275]
[51,null,null,{"$f":"D1189*$G$3","v":397.43199858060001},271.75866569610002,215.55333256350002,181.39333268550001,146.11333281150002]
[52,null,null,{"$f":"D1190*$G$3","v":409.86399853619997},280.12599899955006,222.59999920500002,187.0866659985,150.826666128]
[53,null,null,{"$f":"D1191*$G$3","v":424.759998483},289.77666563175006,231.18666584100001,193.85333264100001,156.239999442]
[54,null,null,{"$f":"D1192*$G$3","v":439.26399843119998},299.58133226340004,239.86666581,200.99333261550001,161.746666089]
[55,null,null,{"$f":"D1193*$G$3","v":453.93599837879998},309.48866556135005,248.12666578050002,207.853332591,167.159999403]
[56,null,null,{"$f":"D1194*$G$3","v":468.55199832660003},319.29333219300008,256.75999908300003,214.61999923350001,172.8066660495]
[57,null,null,{"$f":"D1195*$G$3","v":483.44799827340006},328.89266549205007,265.29999905250003,221.573332542,178.12666603050002]
[58,null,null,{"$f":"D1196*$G$3","v":501.53599820879998},340.39133211765005,275.65999901550003,230.1133325115,185.03333267249999]
[59,null,null,{"$f":"D1197*$G$3","v":519.51199814460006},351.63333207750009,285.78666564600002,238.60666581450002,191.79999931500001]
[60,null,null,{"$f":"D1198*$G$3","v":537.48799808040008},362.82399870420005,296.19333227550004,247.0999991175,198.70666595700001]
[61,null,null,{"$f":"D1199*$G$3","v":557.31199800959996},376.17066532320007,308.559998898,256.38666575100001,206.07999926400001]
[62,null,null,{"$f":"D1200*$G$3","v":582.11999792100005},392.75133193065005,323.25999884550004,267.58666571100002,215.0866658985]
[63,null,null,{"$f":"D1201*$G$3","v":611.519997816},412.56599852655006,339.45333212100002,281.21333232900002,225.72666586050002]
[64,null,null,{"$f":"D1202*$G$3","v":646.18399769220002},435.71733177720006,358.81999871850002,297.07999893900001,238.69999914750002]
[65,null,null,{"$f":"D1203*$G$3","v":690.53599753380001},464.56666500750003,385.60666528950003,318.26666553000001,255.546665754]
[66,null,null,{"$f":"D1204*$G$3","v":742.22399734919998},498.08733155445009,416.546665179,342.6733321095,274.81999901850003]
[67,null,null,{"$f":"D1205*$G$3","v":801.19199713859996},537.56266474680001,449.63333172750004,370.06666534499999,296.47333227450002]
[68,null,null,{"$f":"D1206*$G$3","v":868.83999689699999},582.42799791990001,487.293331593,400.67999856900002,321.62666551800004]
[69,null,null,{"$f":"D1207*$G$3","v":948.41599661280009},635.86599772905004,531.85999810049998,437.8733317695,350.8866654135]
[70,null,null,{"$f":"D1208*$G$3","v":1045.1839962672},696.84999751125008,586.87999790399999,483.97999827150005,387.84666528150001]
[71,null,null,{"$f":"D1209*$G$3","v":1150.4639958912001},767.33066392620015,651.46666434000008,532.83999809700003,426.76666514250002]
[72,null,null,{"$f":"D1210*$G$3","v":1272.5439954552},848.43733030320016,720.62666409300004,589.30666456200004,472.31333164650005]
[73,null,null,{"$f":"D1211*$G$3","v":1412.0959949568},941.70999663675002,799.49333047800008,653.84666433150005,523.879998129]
[74,null,null,{"$f":"D1212*$G$3","v":1574.2719943776001},1049.6639962512002,890.95999681800004,728.88666406350001,583.79999791500006]
[75,null,null,{"$f":"D1213*$G$3","v":1763.719993701},1173.1719958101,998.24666310150008,817.45999708049999,654.87333099450007]
[76,null,null,{"$f":"D1214*$G$3","v":1977.6959929367999},1315.51932863505,1123.2666626550001,916.9533300585,734.1133307115]
[77,null,null,{"$f":"D1215*$G$3","v":2221.239992067},1477.4759947233003,1262.426662158,1029.559996323,824.69333038800005]
[78,null,null,{"$f":"D1216*$G$3","v":2495.6959910867999},1659.9659940715503,1418.4333282675,1156.9599958680001,926.61333002399999]
[79,null,null,{"$f":"D1217*$G$3","v":2804.0879899853999},1865.0939933389502,1593.666660975,1299.8533286910001,1041.1799962815001]
[80,"o mas",null,{"$f":"D1218*$G$3","v":3172.9039886682003},2110.4159924628002,1803.2933268930001,1470.7466614140001,1178.0999957925001]
[1,"Hijo",null,{"$f":"D1219*$G$3","v":82.935999703800007},62.31866644410001,33.319999881000001,32.666666550000002,26.226666573000003]
[2,"Hijos",null,{"$f":"D1220*$G$3","v":135.91199951460001},104.82266629230001,51.426666483000005,49.653333156000002,41.393333185500005]
[3,"Hijos o más",null,{"$f":"D1221*$G$3","v":198.79999929000002},153.84599945055001,74.573333067000007,71.306666411999998,59.9666664525]
[1,"Rider Comp. Maternidad",null,{"$f":"D1222*$G$3","v":0},0,0,20.999999925000001,20.999999925000001]
[1,"Transplante de organos",null,{"$f":"D1223*$G$3","v":27.999999900000002},27.999999900000002,27.999999900000002,27.999999900000002,27.999999900000002]
[null,"Deductible Waiver",null,{"$f":"D1224*$G$3","v":4.1999999849999998},16.799999939999999,32.199999885000004,72.333333074999999,124.13333289000001]

{"sheet":"DR","index":6,"n_rows":374,"n_cols":16,"rows_kept":374,"cut":false,"hidden":true,"merged":[[302,0,302,7],[303,0,303,7],[304,2,304,6],[305,0,305,1],[121,11,121,13],[228,10,228,11],[229,0,229,7],[121,14,121,16],[121,46,121,48],[121,49,121,51],[121,52,121,54],[121,24,121,26],[121,27,121,29],[121,30,121,32],[121,33,121,35],[121,40,121,42],[121,43,121,45],[120,38,120,39],[120,40,120,44],[119,19,119,35],[119,38,119,54],[121,21,121,23],[120,19,120,20],[120,21,120,25],[229,16,229,17],[230,2,230,6],[231,0,231,1],[228,0,228,7],[155,0,155,7],[157,0,157,1],[156,2,156,6],[1,8,1,9],[121,8,121,10],[84,0,84,1],[83,2,83,6],[154,0,154,7],[4,0,4,7],[5,0,5,7],[7,0,7,1],[6,2,6,6],[43,0,43,7],[44,0,44,7],[46,0,46,1],[45,2,45,6],[81,0,81,7],[82,0,82,7]]}
[null,null,null,null,null,null,null,null,null,null,"D1","D2","D3","D4","D5","D6"]
[null,"REGIÓN",{"$f":"'INGRESO DE DATOS'!W14","v":"REPÚBLICA DOMINICANA"},null,"FACTOR SEMESTRAL :",null,0.53,null,"NEW BUSINESS DISCUOUNTS",null,{"$f":"'INGRESO DE DATOS'!O54","v":1},{"$f":"'INGRESO DE DATOS'!P54","v":1},{"$f":"'INGRESO DE DATOS'!Q54","v":0.6},{"$f":"'INGRESO DE DATOS'!R54","v":0.6},{"$f":"'INGRESO DE DATOS'!S54","v":0.8},{"$f":"'INGRESO DE DATOS'!T54","v":1}]
[]
[]
["BUPA COMPLETE  CARE"]
["TARIFAS ANUALES"]
[]
["EDAD",null,"CW1","CW2","CW3","CW4","CW5","CW6"]
[18,"18-24"]
[25,"25-29"]
[30,"30-34"]
[35,"35-39"]
[40,"40-44"]
[45,"45-49"]
[50,"50-54"]
[55,"55-59"]
[60,"60"]
[61,"61"]
[62,"62"]
[63,"63"]
[64,"64"]
[65,"65"]
[66,"66"]
[67,"67"]
[68,"68"]
[69,"69"]
[70,"70"]
[71,"71"]
[72,"72"]
[73,"73"]
[74,"74"]
[75,"75+"]
[1,"1 Child"]
[2,"2 Children"]
[3,"3+ Children"]
[1,"Rider Comp. Maternidad"]
[1,"Transplante de organos"]
[]
[]
[]
[]
[]
[]
["BUPA SECURE CARE"]
["TARIFAS ANUALES"]
[]
["EDAD",null,null,"SE2","SE3","SE4","SE5","SE6"]
[18,"18-24"]
[25,"25-29"]
[30,"30-34"]
[35,"35-39"]
[40,"40-44"]
[45,"45-49"]
[50,"50-54"]
[55,"55-59"]
[60,"60"]
[61,"61"]
[62,"62"]
[63,"63"]
[64,"64"]
[65,"65"]
[66,"66"]
[67,"67"]
[68,"68"]
[69,"69"]
[70,"70"]
[71,"71"]
[72,"72"]
[73,"73"]
[74,"74"]
[75,"75+"]
[1,"1 Child"]
[2,"2 Children"]
[3,"3+ Children"]
[1,"Rider Comp. Maternidad"]
[1,"Transplante de organos"]
[]
[]
[]
[]
[]
["BUPA ESSENTIAL CARE"]
["TARIFAS ANUALES"]
[]
["EDAD",null,"ET1","ET2","ET3","ET4","ET5","ET6"]
[18,null,1719,1561,1417,1222]
[19,null,1719,1561,1417,1222]
[20,null,1719,1561,1417,1222]
[21,null,1719,1561,1417,1222]
[22,null,1719,1561,1417,1222]
[23,null,1719,1561,1417,1222]
[24,null,1719,1561,1417,1222]
[25,null,1932,1755,1594,1375]
[26,null,1932,1755,1594,1375]
[27,null,1932,1755,1594,1375]
[28,null,1932,1755,1594,1375]
[29,null,1932,1755,1594,1375]
[30,null,2166,1967,1789,1543]
[31,null,2166,1967,1789,1543]
[32,null,2166,1967,1789,1543]
[33,null,2166,1967,1789,1543]
[34,null,2166,1967,1789,1543]
[35,null,2473,2245,2041,1760]
[36,null,2473,2245,2041,1760]
[37,null,2473,2245,2041,1760]
[38,null,2473,2245,2041,1760]
[39,null,2473,2245,2041,1760]
[40,null,2867,2603,2365,2039]
[41,null,2867,2603,2365,2039]
[42,null,2867,2603,2365,2039]
[43,null,2867,2603,2365,2039]
[44,null,2867,2603,2365,2039]
[45,null,3426,3111,2827,2437]
[46,null,3426,3111,2827,2437]
[47,null,3426,3111,2827,2437]
[48,null,3426,3111,2827,2437]
[49,null,3426,3111,2827,2437]
[50,null,4089,3713,3373,2908]
[51,null,4089,3713,3373,2908]
[52,null,4089,3713,3373,2908]
[53,null,4089,3713,3373,2908]
[54,null,4089,3713,3373,2908]
[55,null,4865,4418,4015,3461]
[56,null,4865,4418,4015,3461]
[57,null,4865,4418,4015,3461]
[58,null,4865,4418,4015,3461]
[59,null,4865,4418,4015,3461]
[60,null,5397,4902,4453,3839]
[61,null,5622,5104,4637,3998]
[62,null,5891,5350,4862,4191]
[63,null,6185,5617,5103,4399]
[64,null,6538,5938,5394,4650]
[65,null,7027,6380,5796,4997]
[66,null,7590,6892,6262,5397]
[67,null,8193,7440,6760,5826]
[68,null,8881,8062,7326,6314]
[69,null,9690,8799,7995,6891]
[70,null,10694,9710,8823,7604]
[71,null,11871,10778,9793,8441]
[72,null,13131,11923,10833,9336]
[73,null,14568,13228,12018,10359]
[74,null,16235,14741,13393,11545]
[75,null,18190,16516,15007,12935]
[76,null,18190,16516,15007,12935]
[77,null,18190,16516,15007,12935]
[78,null,18190,16516,15007,12935]
[79,null,18190,16516,15007,12935]
[80,"o mas",18190,16516,15007,12935]
[1,"Hijo",609,551,501,433]
[2,"Hijos",937,850,773,666]
[3,"Hijos o más",1360,1236,1123,968]
[1,"Rider Comp. Maternidad",225,225,225,0]
[1,"Transplante de organos",300,300,300,300]
[]
["BUPA ELITE"]
["TARIFAS ANUALES"]
[]
["EDAD",null,null,"ET2","ET3","ET4","ET5","ET6"]
[18,null,null,7715,4941,3915,3233,2346]
[19,null,null,7866,5035,3992,3292,2390]
[20,null,null,8025,5126,4070,3356,2434]
[21,null,null,8180,5224,4144,3418,2483]
[22,null,null,8347,5324,4222,3485,2529]
[23,null,null,8501,5416,4304,3546,2573]
[24,null,null,8666,5516,4380,3608,2620]
[25,null,null,8822,5610,4460,3676,2670]
[26,null,null,8984,5707,4543,3738,2718]
[27,null,null,9146,5806,4621,3802,2760]
[28,null,null,9342,5921,4718,3887,2829]
[29,null,null,9543,6035,4813,3973,2896]
[30,null,null,9743,6148,4897,4061,2966]
[31,null,null,9942,6262,4993,4145,3036]
[32,null,null,10141,6378,5088,4235,3101]
[33,null,null,10425,6530,5212,4339,3197]
[34,null,null,10714,6685,5339,4443,3291]
[35,null,null,10997,6836,5465,4545,3385]
[36,null,null,11282,6987,5592,4650,3476]
[37,null,null,11565,7141,5717,4752,3570]
[38,null,null,11949,7390,5926,4897,3685]
[39,null,null,12330,7638,6130,5051,3802]
[40,null,null,12714,7887,6339,5196,3922]
[41,null,null,13093,8139,6546,5347,4034]
[42,null,null,13478,8386,6748,5495,4153]
[43,null,null,13958,8678,6981,5658,4283]
[44,null,null,14432,8967,7217,5826,4415]
[45,null,null,14915,9257,7450,5983,4546]
[46,null,null,15390,9547,7685,6148,4675]
[47,null,null,15868,9835,7914,6309,4814]
[48,null,null,16462,10170,8202,6527,4985]
[49,null,null,17053,10508,8485,6748,5155]
[50,null,null,17647,10846,8767,6966,5325]
[51,null,null,18243,11189,9049,7190,5495]
[52,null,null,18831,11520,9335,7408,5665]
[53,null,null,19553,11972,9671,7677,5883]
[54,null,null,20273,12430,10008,7939,6093]
[55,null,null,20989,12885,10348,8211,6307]
[56,null,null,21711,13340,10687,8478,6523]
[57,null,null,22428,13792,11023,8749,6738]
[58,null,null,23301,14398,11461,9099,7013]
[59,null,null,24177,15003,11896,9459,7296]
[60,null,null,25051,15608,12331,9809,7576]
[61,null,null,26087,16360,12910,10261,7933]
[62,null,null,27306,17271,13641,10822,8467]
[63,null,null,28730,18377,14551,11505,9098]
[64,null,null,30365,19676,15643,12347,9839]
[65,null,null,32246,21179,16928,13375,10698]
[66,null,null,34407,22898,18427,14608,11743]
[67,null,null,36880,24870,20153,16067,12986]
[68,null,null,39785,27206,22168,17778,14446]
[69,null,null,43136,29951,24507,19780,16150]
[70,null,null,46973,33106,27214,22108,18139]
[71,null,null,51347,36700,30311,24790,20436]
[72,null,null,56314,40776,33842,27852,23072]
[73,null,null,61872,45354,37830,31316,26085]
[74,null,null,68164,50531,42339,35208,29511]
[75,null,null,75236,56317,47426,39593,33372]
[76,null,null,83325,63023,53153,44533,37695]
[77,null,null,93037,70770,59750,50215,42613]
[78,null,null,104762,80024,67278,56756,48259]
[79,null,null,118920,91028,76045,64236,54738]
[80,"o mas",null,135907,104029,86495,73153,62418]
[1,"Hijo",null,3281,2282,1666,1369,1200]
[2,"Hijos",null,5047,3708,2632,2171,1901]
[3,"Hijos o más",null,7367,5420,3832,3157,2750]
[1,"Rider Comp. Maternidad"]
[1,"Transplante de organos"]
[null,"Deductible Waiver"]
[]
["BUPA UNIQUE CARE: DEDUCCIBLE CERO"]
["TARIFAS ANUALES"]
[]
["EDAD",null,null,"ET2","ET3","ET4","ET5","ET6"]
[18,null,null,3386,2980,2666,2353]
[19,null,null,3446,3032,2711,2396]
[20,null,null,3505,3085,2760,2437]
[21,null,null,3569,3142,2811,2481]
[22,null,null,3635,3197,2862,2526]
[23,null,null,3700,3254,2909,2570]
[24,null,null,3763,3308,2962,2613]
[25,null,null,3827,3365,3011,2657]
[26,null,null,3891,3423,3064,2704]
[27,null,null,3957,3483,3116,2751]
[28,null,null,4030,3545,3172,2798]
[29,null,null,4106,3612,3233,2854]
[30,null,null,4180,3678,3292,2904]
[31,null,null,4258,3746,3352,2958]
[32,null,null,4331,3811,3409,3009]
[33,null,null,4454,3918,3505,3094]
[34,null,null,4576,4026,3601,3176]
[35,null,null,4698,4131,3696,3259]
[36,null,null,4817,4237,3792,3348]
[37,null,null,4940,4346,3891,3434]
[38,null,null,5065,4456,3988,3519]
[39,null,null,5193,4568,4088,3609]
[40,null,null,5316,4679,4185,3693]
[41,null,null,5444,4790,4285,3782]
[42,null,null,5569,4900,4386,3869]
[43,null,null,5795,5099,4563,4028]
[44,null,null,6021,5297,4742,4184]
[45,null,null,6248,5498,4920,4341]
[46,null,null,6478,5699,5101,4499]
[47,null,null,6702,5896,5275,4657]
[48,null,null,6942,6107,5463,4823]
[49,null,null,7184,6321,5655,4991]
[50,null,null,7423,6531,5842,5156]
[51,null,null,7662,6742,6032,5323]
[52,null,null,7903,6951,6221,5488]
[53,null,null,8190,7204,6446,5687]
[54,null,null,8471,7453,6667,5885]
[55,null,null,8754,7701,6890,6078]
[56,null,null,9037,7949,7114,6278]
[57,null,null,9324,8199,7340,6477]
[58,null,null,9671,8509,7614,6719]
[59,null,null,10018,8813,7884,6955]
[60,null,null,10367,9117,8159,7199]
[61,null,null,10748,9453,8460,7464]
[62,null,null,11228,9876,8837,7796]
[63,null,null,11794,10375,9282,8192]
[64,null,null,12460,10963,9810,8655]
[65,null,null,13320,11719,10483,9251]
[66,null,null,14314,12592,11265,9941]
[67,null,null,15454,13594,12162,10731]
[68,null,null,16754,14738,13187,11637]
[69,null,null,18290,16090,14397,12702]
[70,null,null,20157,17731,15866,14001]
[71,null,null,22187,19518,17462,15410]
[72,null,null,24541,21589,19317,17043]
[73,null,null,27233,23955,21435,18914]
[74,null,null,30362,26707,23897,21084]
[75,null,null,34012,29921,26770,23621]
[76,null,null,38143,33552,30022,26490]
[77,null,null,42837,37682,33715,29748]
[78,null,null,48130,42337,37880,33426]
[79,null,null,54077,47568,42561,37556]
[80,"o mas",null,61190,53828,48161,42496]
[1,"Hijo",null,1597,1407,1259,1109]
[2,"Hijos",null,2621,2306,2064,1821]
[3,"Hijos o más",null,3836,3374,3020,2663]
[1,"Rider Comp. Maternidad",null,225,225,225,225]
[1,"Transplante de organos",null,300,300,300,300]
[null,"Deductible Waiver",null,180,345,775,1330]
[]
["BUPA UNIQUE CARE"]
["TARIFAS ANUALES"]
[]
["EDAD",null,null,"ET2","ET3","ET4","ET5","ET6"]
[18,null,null,3135,2438,1899,1682,1365]
[19,null,null,3192,2478,1940,1718,1387]
[20,null,null,3246,2519,1975,1750,1410]
[21,null,null,3306,2561,2015,1779,1440]
[22,null,null,3365,2602,2057,1811,1467]
[23,null,null,3424,2643,2103,1843,1493]
[24,null,null,3484,2684,2138,1879,1517]
[25,null,null,3544,2729,2181,1910,1548]
[26,null,null,3602,2770,2222,1942,1572]
[27,null,null,3665,2814,2262,1974,1597]
[28,null,null,3732,2861,2317,2014,1634]
[29,null,null,3803,2908,2364,2056,1660]
[30,null,null,3871,2958,2418,2095,1694]
[31,null,null,3943,3006,2467,2135,1728]
[32,null,null,4009,3054,2520,2173,1757]
[33,null,null,4124,3138,2593,2236,1810]
[34,null,null,4236,3219,2674,2299,1858]
[35,null,null,4348,3302,2751,2361,1910]
[36,null,null,4462,3385,2828,2424,1962]
[37,null,null,4576,3466,2901,2485,2011]
[38,null,null,4690,3550,2985,2550,2063]
[39,null,null,4809,3634,3064,2615,2115]
[40,null,null,4923,3721,3147,2683,2166]
[41,null,null,5040,3803,3228,2749,2216]
[42,null,null,5156,3887,3311,2810,2273]
[43,null,null,5367,4036,3448,2925,2363]
[44,null,null,5576,4190,3592,3042,2457]
[45,null,null,5786,4341,3738,3163,2547]
[46,null,null,5998,4496,3881,3277,2643]
[47,null,null,6205,4647,4026,3396,2732]
[48,null,null,6429,4810,4173,3519,2834]
[49,null,null,6653,4973,4320,3642,2934]
[50,null,null,6874,5133,4474,3767,3035]
[51,null,null,7097,5294,4619,3887,3131]
[52,null,null,7319,5457,4770,4009,3232]
[53,null,null,7585,5645,4954,4154,3348]
[54,null,null,7844,5836,5140,4307,3466]
[55,null,null,8106,6029,5317,4454,3582]
[56,null,null,8367,6220,5502,4599,3703]
[57,null,null,8633,6407,5685,4748,3817]
[58,null,null,8956,6631,5907,4931,3965]
[59,null,null,9277,6850,6124,5113,4110]
[60,null,null,9598,7068,6347,5295,4258]
[61,null,null,9952,7328,6612,5494,4416]
[62,null,null,10395,7651,6927,5734,4609]
[63,null,null,10920,8037,7274,6026,4837]
[64,null,null,11539,8488,7689,6366,5115]
[65,null,null,12331,9050,8263,6820,5476]
[66,null,null,13254,9703,8926,7343,5889]
[67,null,null,14307,10472,9635,7930,6353]
[68,null,null,15515,11346,10442,8586,6892]
[69,null,null,16936,12387,11397,9383,7519]
[70,null,null,18664,13575,12576,10371,8311]
[71,null,null,20544,14948,13960,11418,9145]
[72,null,null,22724,16528,15442,12628,10121]
[73,null,null,25216,18345,17132,14011,11226]
[74,null,null,28112,20448,19092,15619,12510]
[75,null,null,31495,22854,21391,17517,14033]
[76,null,null,35316,25627,24070,19649,15731]
[77,null,null,39665,28782,27052,22062,17672]
[78,null,null,44566,32337,30395,24792,19856]
[79,null,null,50073,36333,34150,27854,22311]
[80,"o mas",null,56659,41112,38642,31516,25245]
[1,"Hijo",null,1481,1214,714,700,562]
[2,"Hijos",null,2427,2042,1102,1064,887]
[3,"Hijos o más",null,3550,2997,1598,1528,1285]
[1,"Rider Comp. Maternidad",null,225,225,225,225,225]
[1,"Transplante de organos",null,300,300,300,300,300]